- Раздел: Другое, разное
- Дата съёмки: 07.12.2008 02:35
- Дата загрузки фото: 08.12.2008 16:06
- Оригинальная фотография: 1760 x 2808 (792 Кб)
- Технические характеристики:
- Фотоаппарат: Nikon D40
- Выдержка: 1/8
- Гиперфокальное расстояние: 4,62 m
- Диафрагма: 3,5
- Светочувствительность: 400
- Фокусное расстояние: 18,0 mm (35 mm equivalent: 27,0 mm)
- Экспокоррекция: +3
- Полный EXIF
- Adobe
- ColorTransform: YCbCr
- Composite
- Aperture: 3,5
- CircleOfConfusion: 0,020 mm
- FOV: 67,0 deg
- FocalLength35efl: 18,0 mm (35 mm equivalent: 27,0 mm)
- HyperfocalDistance: 4,62 m
- ScaleFactor35efl: 1,5
- ShutterSpeed: 1/8
- ExifIFD
- ApertureValue: 3,5
- CFAPattern: [Blue,Green][Green,Red]
- Contrast: High
- CreateDate: 2008:12:07 02:35:34
- CustomRendered: Normal
- DateTimeOriginal: 2008:12:07 02:35:34
- DigitalZoomRatio: 1
- ExposureCompensation: +3
- ExposureMode: Manual
- ExposureProgram: Manual
- ExposureTime: 1/8
- FNumber: 3,5
- Flash: No Flash
- FocalLength: 18,0 mm
- FocalLengthIn35mmFormat: 27 mm
- GainControl: Low gain up
- ISO: 400
- LightSource: Unknown
- MaxApertureValue: 3,5
- MeteringMode: Multi-segment
- Saturation: High
- SceneCaptureType: Standard
- SceneType: Directly photographed
- SensingMethod: One-chip color area
- Sharpness: Hard
- ShutterSpeedValue: 1/8
- SubjectDistanceRange: Unknown
- WhiteBalance: Auto
- ICC-header
- IFD0
- Make: NIKON CORPORATION
- Model: NIKON D40
- ModifyDate: 2008:12:07 23:02:46
- Software: Ver.1.11
- XMP-aux
- ImageNumber: 726
- Lens: 18.0-55.0 mm f/3.5-5.6
- LensInfo: 180/10 550/10 35/10 56/10
- XMP-crs
- AlreadyApplied: True
- BlueHue: 0
- BlueSaturation: 0
- Brightness: +50
- CameraProfile: ACR 3.7
- ChromaticAberrationB: 0
- ChromaticAberrationR: 0
- Clarity: 0
- ColorNoiseReduction: 25
- Contrast: +60
- ConvertToGrayscale: False
- CropAngle: 0
- CropBottom: 0.936
- CropLeft: 0
- CropRight: 0.933511
- CropTop: 0.056
- Defringe: 0
- Exposure: +1.30
- FillLight: 0
- GreenHue: 0
- GreenSaturation: 0
- HasCrop: True
- HasSettings: True
- HighlightRecovery: 0
- HueAdjustmentAqua: 0
- HueAdjustmentBlue: 0
- HueAdjustmentGreen: 0
- HueAdjustmentMagenta: 0
- HueAdjustmentOrange: 0
- HueAdjustmentPurple: 0
- HueAdjustmentRed: 0
- HueAdjustmentYellow: 0
- LuminanceAdjustmentAqua: 0
- LuminanceAdjustmentBlue: 0
- LuminanceAdjustmentGreen: 0
- LuminanceAdjustmentMagenta: 0
- LuminanceAdjustmentOrange: 0
- LuminanceAdjustmentPurple: 0
- LuminanceAdjustmentRed: 0
- LuminanceAdjustmentYellow: 0
- LuminanceSmoothing: 0
- ParametricDarks: 0
- ParametricHighlightSplit: 75
- ParametricHighlights: 0
- ParametricLights: 0
- ParametricMidtoneSplit: 50
- ParametricShadowSplit: 25
- ParametricShadows: 0
- RawFileName: DSC_0003.NEF
- RedHue: 0
- RedSaturation: 0
- Saturation: -10
- SaturationAdjustmentAqua: 0
- SaturationAdjustmentBlue: 0
- SaturationAdjustmentGreen: 0
- SaturationAdjustmentMagenta: 0
- SaturationAdjustmentOrange: 0
- SaturationAdjustmentPurple: 0
- SaturationAdjustmentRed: 0
- SaturationAdjustmentYellow: 0
- ShadowTint: 0
- Shadows: 5
- SharpenDetail: 25
- SharpenEdgeMasking: 44
- SharpenRadius: +1.0
- Sharpness: 25
- SplitToningBalance: 0
- SplitToningHighlightHue: 0
- SplitToningHighlightSaturation: 0
- SplitToningShadowHue: 0
- SplitToningShadowSaturation: 0
- Temperature: 2950
- Tint: -1
- ToneCurve: 0, 0, 32, 22, 64, 56, 128, 128, 192, 196, 255, 255
- ToneCurveName: Medium Contrast
- Version: 5.0x27
- Vibrance: -35
- VignetteAmount: 0
- WhiteBalance: As Shot
- XMP-exif
- DateTimeDigitized: 2008:12:07 02:35:34.90+03:00
- DateTimeOriginal: 2008:12:07 02:35:34.90+03:00
- FlashFired: False
- FlashFunction: False
- FlashMode: Unknown
- FlashRedEyeMode: False
- FlashReturn: No return detection
- XMP-tiff
- ImageHeight: 2808
- ImageWidth: 1760
- XMP-xmp
- CreatorTool: Ver.1.11
- ModifyDate: 2008:12:07 23:02:46+03:00
- Просмотров: 215
- Рейтинг: голосов еще нет
- Отзывов: 0