- Раздел: Другое, разное
- Дата съёмки: 07.01.2009 21:29
- Дата загрузки фото: 07.01.2009 22:31
- Оригинальная фотография: 600 x 768 (363 Кб)
- Технические характеристики:
- Фотоаппарат: Canon EOS 450D
- Выдержка: 0,3
- Гиперфокальное расстояние: 119,95 m
- Диафрагма: 5,0
- Светочувствительность: 100
- Фокусное расстояние: 46,0 mm (35 mm equivalent: 391,7 mm)
- Полный EXIF
- Adobe
- ColorTransform: YCbCr
- Composite
- Aperture: 5,0
- CircleOfConfusion: 0,004 mm
- FOV: 5,0 deg
- FocalLength35efl: 46,0 mm (35 mm equivalent: 391,7 mm)
- HyperfocalDistance: 119,95 m
- ScaleFactor35efl: 8,5
- ShutterSpeed: 0,3
- ExifIFD
- ApertureValue: 5,0
- ColorSpace: sRGB
- CreateDate: 2009:01:06 22:32:18
- CustomRendered: Normal
- DateTimeOriginal: 2009:01:06 22:32:18
- ExifImageHeight: 768
- ExifImageWidth: 600
- ExposureCompensation: 0
- ExposureMode: Manual
- ExposureProgram: Manual
- ExposureTime: 0,3
- FNumber: 5,0
- Flash: On
- FocalLength: 46,0 mm
- ISO: 100
- MaxApertureValue: 5,2
- MeteringMode: Multi-segment
- SceneCaptureType: Standard
- ShutterSpeedValue: 0,3
- WhiteBalance: Auto
- ICC-header
- ICC-meas
- ICC-view
- IFD0
- Artist: Ivan (HiV) Tsyrkunovich
- Make: Canon
- Model: Canon EOS 450D
- ModifyDate: 2009:01:07 21:29:57
- Orientation: Horizontal (normal)
- IFD1
- IPTC
- By-line: Ivan (HiV) Tsyrkunovich
- XMP-aux
- Firmware: 1.0.9
- FlashCompensation: 0
- ImageNumber: 0
- Lens: EF-S18-55mm f/3.5-5.6 IS
- LensInfo: 18/1 55/1 0/0 0/0
- SerialNumber: 980397874
- XMP-crs
- AlreadyApplied: True
- BlueHue: 0
- BlueSaturation: 0
- Brightness: +70
- CameraProfile: ACR 4.4
- ChromaticAberrationB: 0
- ChromaticAberrationR: 0
- Clarity: +2
- ColorNoiseReduction: 100
- Contrast: +53
- ConvertToGrayscale: False
- Defringe: 0
- Exposure: +1.51
- FillLight: 18
- GreenHue: 0
- GreenSaturation: 0
- HasCrop: False
- HasSettings: True
- HighlightRecovery: 100
- HueAdjustmentAqua: 0
- HueAdjustmentBlue: 0
- HueAdjustmentGreen: 0
- HueAdjustmentMagenta: 0
- HueAdjustmentOrange: 0
- HueAdjustmentPurple: 0
- HueAdjustmentRed: 0
- HueAdjustmentYellow: 0
- LuminanceAdjustmentAqua: 0
- LuminanceAdjustmentBlue: 0
- LuminanceAdjustmentGreen: 0
- LuminanceAdjustmentMagenta: 0
- LuminanceAdjustmentOrange: 0
- LuminanceAdjustmentPurple: 0
- LuminanceAdjustmentRed: 0
- LuminanceAdjustmentYellow: 0
- LuminanceSmoothing: 80
- ParametricDarks: +42
- ParametricHighlightSplit: 75
- ParametricHighlights: -2
- ParametricLights: +16
- ParametricMidtoneSplit: 50
- ParametricShadowSplit: 25
- ParametricShadows: +20
- PostCropVignetteAmount: 0
- RedHue: 0
- RedSaturation: 0
- Saturation: 0
- SaturationAdjustmentAqua: 0
- SaturationAdjustmentBlue: 0
- SaturationAdjustmentGreen: 0
- SaturationAdjustmentMagenta: 0
- SaturationAdjustmentOrange: 0
- SaturationAdjustmentPurple: 0
- SaturationAdjustmentRed: 0
- SaturationAdjustmentYellow: 0
- ShadowTint: 0
- Shadows: 4
- SharpenDetail: 91
- SharpenEdgeMasking: 100
- SharpenRadius: +1.0
- Sharpness: 67
- SplitToningBalance: 0
- SplitToningHighlightHue: 0
- SplitToningHighlightSaturation: 0
- SplitToningShadowHue: 0
- SplitToningShadowSaturation: 0
- Temperature: 4667
- Tint: 0
- ToneCurve: 0, 0, 32, 22, 64, 56, 128, 128, 192, 196, 255, 255
- ToneCurveName: Medium Contrast
- Version: 4.6
- Vibrance: 0
- VignetteAmount: 0
- WhiteBalance: Custom
- XMP-dc
- Creator: Ivan (HiV) Tsyrkunovich
- Format: image/jpeg
- XMP-exif
- DateTimeDigitized: 2009:01:06 22:32:18.60+02:00
- DateTimeOriginal: 2009:01:06 22:32:18.60+02:00
- FlashFired: True
- FlashFunction: False
- FlashMode: On
- FlashRedEyeMode: False
- FlashReturn: No return detection
- XMP-tiff
- ImageHeight: 2848
- ImageWidth: 4272
- XMP-xmp
- CreateDate: 2009:01:07 21:29:57+02:00
- ModifyDate: 2009:01:07 21:29:57+02:00
- XMP-xmpMM
- DerivedFrom:
- Просмотров: 354
- Рейтинг: голосов еще нет
- Отзывов: отключены