- Раздел: Автомобили
- Дата съёмки: 12.08.2007 10:48
- Дата загрузки фото: 11.01.2009 00:53
- Оригинальная фотография: 1000 x 604 (403 Кб)
- Технические характеристики:
- Фотоаппарат: Canon EOS 5D
- Выдержка: 1/200
- Гиперфокальное расстояние: 3,75 m
- Диафрагма: 9,0
- Светочувствительность: 100
- Фокусное расстояние: 15,0 mm (35 mm equivalent: 67,5 mm)
- Экспокоррекция: +1/3
- Полный EXIF
- Adobe
- ColorTransform: YCbCr
- Composite
- Aperture: 9,0
- CircleOfConfusion: 0,007 mm
- FOV: 29,0 deg
- FocalLength35efl: 15,0 mm (35 mm equivalent: 67,5 mm)
- HyperfocalDistance: 3,75 m
- ScaleFactor35efl: 4,5
- ShutterSpeed: 1/200
- ExifIFD
- ApertureValue: 9,0
- ColorSpace: Uncalibrated
- CreateDate: 2007:08:08 08:00:21
- CustomRendered: Normal
- DateTimeOriginal: 2007:08:08 08:00:21
- ExifImageHeight: 604
- ExifImageWidth: 1000
- ExposureCompensation: +1/3
- ExposureMode: Auto
- ExposureProgram: Shutter speed priority AE
- ExposureTime: 1/200
- FNumber: 9,0
- Flash: Off
- FocalLength: 15,0 mm
- ISO: 100
- MaxApertureValue: 2,8
- MeteringMode: Multi-segment
- SceneCaptureType: Standard
- ShutterSpeedValue: 1/200
- WhiteBalance: Auto
- ICC-header
- IFD0
- Artist: AlexNozdrin-camera-5d-2
- Make: Canon
- Model: Canon EOS 5D
- ModifyDate: 2008:11:16 14:33:51
- Orientation: Horizontal (normal)
- TimeZoneOffset: 4 4
- IFD1
- IPTC
- By-line: AlexNozdrin-camera-5d-2
- XMP-aux
- Firmware: 1.1.0
- FlashCompensation: 0
- ImageNumber: 27
- Lens: EF15mm f/2.8 Fisheye
- LensInfo: 15/1 15/1 0/0 0/0
- OwnerName: AlexNozdrin-camera-5d-2
- SerialNumber: 930710611
- XMP-crs
- AlreadyApplied: True
- BlueHue: 0
- BlueSaturation: 0
- Brightness: +43
- CameraProfile: ACR 3.3
- ChromaticAberrationB: 0
- ChromaticAberrationR: 0
- ColorNoiseReduction: 25
- Contrast: +25
- ConvertToGrayscale: False
- Exposure: -0.35
- FillLight: 8
- GreenHue: 0
- GreenSaturation: 0
- HasCrop: False
- HasSettings: True
- HighlightRecovery: 0
- HueAdjustmentAqua: 0
- HueAdjustmentBlue: 0
- HueAdjustmentGreen: 0
- HueAdjustmentMagenta: 0
- HueAdjustmentOrange: 0
- HueAdjustmentPurple: 0
- HueAdjustmentRed: 0
- HueAdjustmentYellow: 0
- LuminanceAdjustmentAqua: 0
- LuminanceAdjustmentBlue: 0
- LuminanceAdjustmentGreen: 0
- LuminanceAdjustmentMagenta: 0
- LuminanceAdjustmentOrange: 0
- LuminanceAdjustmentPurple: 0
- LuminanceAdjustmentRed: 0
- LuminanceAdjustmentYellow: 0
- LuminanceSmoothing: 0
- ParametricDarks: 0
- ParametricHighlightSplit: 75
- ParametricHighlights: 0
- ParametricLights: 0
- ParametricMidtoneSplit: 50
- ParametricShadowSplit: 25
- ParametricShadows: 0
- RawFileName: IMG_5889.CR2
- RedHue: 0
- RedSaturation: 0
- Saturation: +34
- SaturationAdjustmentAqua: 0
- SaturationAdjustmentBlue: 0
- SaturationAdjustmentGreen: 0
- SaturationAdjustmentMagenta: 0
- SaturationAdjustmentOrange: 0
- SaturationAdjustmentPurple: 0
- SaturationAdjustmentRed: 0
- SaturationAdjustmentYellow: 0
- ShadowTint: 0
- Shadows: 10
- Sharpness: 25
- SplitToningBalance: 0
- SplitToningHighlightHue: 0
- SplitToningHighlightSaturation: 0
- SplitToningShadowHue: 0
- SplitToningShadowSaturation: 0
- Temperature: 4800
- Tint: +9
- ToneCurve: 0, 0, 32, 22, 64, 56, 128, 128, 192, 196, 255, 255
- ToneCurveName: Medium Contrast
- Version: 4.0
- Vibrance: 0
- VignetteAmount: 0
- WhiteBalance: Custom
- XMP-dc
- Creator: AlexNozdrin-camera-5d-2
- Format: image/jpeg
- XMP-exif
- ColorSpace: Unknown (-1)
- DateTimeDigitized: 2007:08:08 08:00:21+04:00
- DateTimeOriginal: 2007:08:08 08:00:21+04:00
- FlashFired: False
- FlashFunction: False
- FlashMode: Off
- FlashRedEyeMode: False
- FlashReturn: No return detection
- XMP-tiff
- XMP-xmp
- CreateDate: 2007:08:12 10:48:00+04:00
- ModifyDate: 2008:11:16 14:33:51+03:00
- Rating: 0
- XMP-xmpMM
- Просмотров: 376
- Рейтинг: голосов еще нет
- Отзывов: 0