- Раздел: Портрет
- Дата съёмки: 21.09.2008 19:45
- Дата загрузки фото: 11.01.2009 08:11
- Оригинальная фотография: 547 x 820 (127 Кб)
- Технические характеристики:
- Фотоаппарат: Canon EOS 400D DIGITAL
- Выдержка: 1/60
- Гиперфокальное расстояние: 430,24 m
- Диафрагма: 2,0
- Светочувствительность: 100
- Фокусное расстояние: 58,0 mm (35 mm equivalent: 445,8 mm)
- Полный EXIF
- Adobe
- ColorTransform: YCbCr
- Composite
- Aperture: 2,0
- CircleOfConfusion: 0,004 mm
- FOV: 4,0 deg
- FocalLength35efl: 58,0 mm (35 mm equivalent: 445,8 mm)
- HyperfocalDistance: 430,24 m
- ScaleFactor35efl: 7,7
- ShutterSpeed: 1/60
- ExifIFD
- ApertureValue: 2,0
- ColorSpace: sRGB
- CreateDate: 2008:09:20 16:11:09
- CustomRendered: Normal
- DateTimeOriginal: 2008:09:20 16:11:09
- ExifImageHeight: 820
- ExifImageWidth: 547
- ExposureCompensation: 0
- ExposureMode: Manual
- ExposureProgram: Manual
- ExposureTime: 1/60
- FNumber: 2,0
- Flash: Off
- FocalLength: 58,0 mm
- ISO: 100
- MaxApertureValue: 2,0
- MeteringMode: Average
- SceneCaptureType: Standard
- ShutterSpeedValue: 1/60
- WhiteBalance: Auto
- ICC-header
- ICC-meas
- ICC-view
- IFD0
- Artist: Chulkov Maxim
- Make: Canon
- Model: Canon EOS 400D DIGITAL
- ModifyDate: 2008:09:21 19:45:51
- Orientation: Horizontal (normal)
- IFD1
- IPTC
- By-line: Chulkov Maxim
- XMP-aux
- Firmware: 1.1.0
- FlashCompensation: 0
- ImageNumber: 240
- Lens: 58.0 mm
- LensInfo: 58/1 58/1 0/0 0/0
- OwnerName: Chulkov Maxim
- SerialNumber: 1480866546
- XMP-crs
- AlreadyApplied: True
- BlueHue: 0
- BlueSaturation: 0
- Brightness: +43
- CameraProfile: ACR 4.4
- ChromaticAberrationB: 0
- ChromaticAberrationR: 0
- Clarity: 0
- ColorNoiseReduction: 25
- Contrast: +47
- ConvertToGrayscale: False
- Defringe: 0
- Exposure: +0.25
- FillLight: 0
- GreenHue: 0
- GreenSaturation: 0
- HasCrop: False
- HasSettings: True
- HighlightRecovery: 40
- HueAdjustmentAqua: 0
- HueAdjustmentBlue: 0
- HueAdjustmentGreen: 0
- HueAdjustmentMagenta: 0
- HueAdjustmentOrange: 0
- HueAdjustmentPurple: 0
- HueAdjustmentRed: 0
- HueAdjustmentYellow: 0
- LuminanceAdjustmentAqua: 0
- LuminanceAdjustmentBlue: 0
- LuminanceAdjustmentGreen: 0
- LuminanceAdjustmentMagenta: 0
- LuminanceAdjustmentOrange: 0
- LuminanceAdjustmentPurple: 0
- LuminanceAdjustmentRed: 0
- LuminanceAdjustmentYellow: 0
- LuminanceSmoothing: 0
- ParametricDarks: 0
- ParametricHighlightSplit: 75
- ParametricHighlights: 0
- ParametricLights: 0
- ParametricMidtoneSplit: 50
- ParametricShadowSplit: 25
- ParametricShadows: 0
- PostCropVignetteAmount: 0
- RawFileName: IMG_4127.CR2
- RedHue: 0
- RedSaturation: 0
- Saturation: 0
- SaturationAdjustmentAqua: 0
- SaturationAdjustmentBlue: 0
- SaturationAdjustmentGreen: 0
- SaturationAdjustmentMagenta: 0
- SaturationAdjustmentOrange: 0
- SaturationAdjustmentPurple: 0
- SaturationAdjustmentRed: 0
- SaturationAdjustmentYellow: 0
- ShadowTint: 0
- Shadows: 13
- SharpenDetail: 25
- SharpenEdgeMasking: 0
- SharpenRadius: +1.0
- Sharpness: 25
- SplitToningBalance: 0
- SplitToningHighlightHue: 0
- SplitToningHighlightSaturation: 0
- SplitToningShadowHue: 0
- SplitToningShadowSaturation: 0
- Temperature: 4850
- Tint: +25
- ToneCurve: 0, 0, 32, 22, 64, 56, 128, 128, 192, 196, 255, 255
- ToneCurveName: Medium Contrast
- Version: 4.5
- Vibrance: 0
- VignetteAmount: 0
- WhiteBalance: Custom
- XMP-dc
- Creator: Chulkov Maxim
- Format: image/jpeg
- XMP-exif
- DateTimeDigitized: 2008:09:20 16:11:09+10:00
- DateTimeOriginal: 2008:09:20 16:11:09+10:00
- FlashFired: False
- FlashFunction: False
- FlashMode: Off
- FlashRedEyeMode: False
- FlashReturn: No return detection
- XMP-tiff
- XMP-xmp
- CreateDate: 2008:09:21 19:45:51+10:00
- ModifyDate: 2008:09:21 19:45:51+10:00
- Rating: 0
- XMP-xmpMM