- Раздел: Путешествия
- Дата съёмки: 18.10.2008 17:14
- Дата загрузки фото: 18.01.2009 16:14
- Оригинальная фотография: 1600 x 1067 (933 Кб)
- Технические характеристики:
- Фотоаппарат: Canon EOS 40D
- Выдержка: 1/80
- Гиперфокальное расстояние: 10,81 m
- Диафрагма: 3,5
- Светочувствительность: 320
- Фокусное расстояние: 17,0 mm (35 mm equivalent: 66,9 mm)
- Полный EXIF
- Adobe
- ColorTransform: YCbCr
- Composite
- Aperture: 3,5
- CircleOfConfusion: 0,008 mm
- FOV: 30,0 deg
- FocalLength35efl: 17,0 mm (35 mm equivalent: 66,9 mm)
- HyperfocalDistance: 10,81 m
- ScaleFactor35efl: 3,9
- ShutterSpeed: 1/80
- ExifIFD
- ApertureValue: 3,5
- CreateDate: 2008:10:18 17:14:03
- CustomRendered: Normal
- DateTimeOriginal: 2008:10:18 17:14:03
- ExposureCompensation: 0
- ExposureMode: Manual
- ExposureProgram: Manual
- ExposureTime: 1/80
- FNumber: 3,5
- Flash: On
- FocalLength: 17,0 mm
- ISO: 320
- MaxApertureValue: 2,8
- MeteringMode: Multi-segment
- SceneCaptureType: Standard
- ShutterSpeedValue: 1/80
- WhiteBalance: Auto
- ICC-header
- ICC-meas
- ICC-view
- IFD0
- Artist: VT
- ImageDescription: ??????
- Make: Canon
- Model: Canon EOS 40D
- ModifyDate: 2008:12:29 04:23:04
- IPTC
- By-line: VT
- Caption-Abstract: Âà ëà à ì
- ObjectName: Âà ëà à ì
- Sub-location: Âà ëà à ì
- XMP-aux
- Firmware: 1.0.8
- FlashCompensation: -2
- ImageNumber: 0
- Lens: 17-50mm
- LensInfo: 17/1 50/1 0/0 0/0
- OwnerName: VT
- SerialNumber: 910505676
- XMP-crs
- AlreadyApplied: True
- BlueHue: 0
- BlueSaturation: 0
- Brightness: +50
- CameraProfile: Camera Standard beta 1
- ChromaticAberrationB: 0
- ChromaticAberrationR: 0
- Clarity: 0
- ColorNoiseReduction: 25
- Contrast: +25
- ConvertToGrayscale: False
- Defringe: 0
- Exposure: 0.00
- FillLight: 0
- GreenHue: 0
- GreenSaturation: 0
- HasCrop: False
- HasSettings: True
- HighlightRecovery: 9
- HueAdjustmentAqua: 0
- HueAdjustmentBlue: 0
- HueAdjustmentGreen: 0
- HueAdjustmentMagenta: 0
- HueAdjustmentOrange: 0
- HueAdjustmentPurple: 0
- HueAdjustmentRed: 0
- HueAdjustmentYellow: 0
- LuminanceAdjustmentAqua: 0
- LuminanceAdjustmentBlue: 0
- LuminanceAdjustmentGreen: 0
- LuminanceAdjustmentMagenta: 0
- LuminanceAdjustmentOrange: 0
- LuminanceAdjustmentPurple: 0
- LuminanceAdjustmentRed: 0
- LuminanceAdjustmentYellow: 0
- LuminanceSmoothing: 0
- ParametricDarks: 0
- ParametricHighlightSplit: 75
- ParametricHighlights: 0
- ParametricLights: 0
- ParametricMidtoneSplit: 50
- ParametricShadowSplit: 25
- ParametricShadows: 0
- PostCropVignetteAmount: 0
- RedHue: 0
- RedSaturation: 0
- Saturation: 0
- SaturationAdjustmentAqua: 0
- SaturationAdjustmentBlue: 0
- SaturationAdjustmentGreen: 0
- SaturationAdjustmentMagenta: 0
- SaturationAdjustmentOrange: 0
- SaturationAdjustmentPurple: 0
- SaturationAdjustmentRed: 0
- SaturationAdjustmentYellow: 0
- ShadowTint: 0
- Shadows: 5
- SharpenDetail: 48
- SharpenEdgeMasking: 0
- SharpenRadius: +1.0
- Sharpness: 69
- SplitToningBalance: 0
- SplitToningHighlightHue: 0
- SplitToningHighlightSaturation: 0
- SplitToningShadowHue: 0
- SplitToningShadowSaturation: 0
- Temperature: 5050
- Tint: -4
- ToneCurve: 0, 0, 32, 22, 64, 56, 128, 128, 192, 196, 255, 255
- ToneCurveName: Medium Contrast
- Version: 5.2
- Vibrance: 0
- VignetteAmount: 0
- WhiteBalance: As Shot
- XMP-dc
- Creator: VT
- Description: Валаам
- Title: Валаам
- XMP-exif
- DateTimeDigitized: 2008:10:18 17:14:03.00+04:00
- DateTimeOriginal: 2008:10:18 17:14:03.00+04:00
- ExifImageHeight: 1067
- ExifImageWidth: 1600
- FlashFired: True
- FlashFunction: False
- FlashMode: On
- FlashRedEyeMode: False
- FlashReturn: No return detection
- XMP-iptcCore
- XMP-tiff
- ImageHeight: 1067
- ImageWidth: 1600
- XMP-xmp
- CreateDate: 2008:10:18 17:14:03.00+04:00
- Label: Валаам
- ModifyDate: 2008:12:29 04:23:04+03:00
- Rating: 2
- XMP-xmpMM
- PreservedFileName: IMG_8794.CR2
- Просмотров: 248
- Рейтинг: голосов еще нет
- Отзывов: 0