- Раздел: Пейзаж
- Дата съёмки: 02.09.2008 00:24
- Дата загрузки фото: 09.02.2009 15:58
- Оригинальная фотография: 700 x 467 (146 Кб)
- Технические характеристики:
- Фотоаппарат: Canon EOS 400D DIGITAL
- Выдержка: 1/250
- Гиперфокальное расстояние: 17,31 m
- Диафрагма: 5,6
- Светочувствительность: 100
- Фокусное расстояние: 18,0 mm (35 mm equivalent: 161,8 mm)
- Экспокоррекция: -2/3
- Полный EXIF
- Adobe
- ColorTransform: YCbCr
- Composite
- Aperture: 5,6
- CircleOfConfusion: 0,003 mm
- FOV: 12,0 deg
- FocalLength35efl: 18,0 mm (35 mm equivalent: 161,8 mm)
- HyperfocalDistance: 17,31 m
- ScaleFactor35efl: 9,0
- ShutterSpeed: 1/250
- ExifIFD
- ApertureValue: 5,6
- ColorSpace: sRGB
- CreateDate: 2007:09:17 10:25:31
- CustomRendered: Normal
- DateTimeOriginal: 2007:09:17 10:25:31
- ExifImageHeight: 467
- ExifImageWidth: 700
- ExposureCompensation: -2/3
- ExposureMode: Auto
- ExposureProgram: Aperture-priority AE
- ExposureTime: 1/250
- FNumber: 5,6
- Flash: Off
- FocalLength: 18,0 mm
- ISO: 100
- MaxApertureValue: 3,5
- MeteringMode: Multi-segment
- SceneCaptureType: Standard
- ShutterSpeedValue: 1/250
- WhiteBalance: Auto
- ICC-header
- ICC-meas
- ICC-view
- IFD0
- Artist: unknown
- Make: Canon
- Model: Canon EOS 400D DIGITAL
- ModifyDate: 2008:09:02 00:24:31
- Orientation: Horizontal (normal)
- IFD1
- IPTC
- By-line: unknown
- XMP-aux
- Firmware: 1.1.0
- FlashCompensation: 2
- ImageNumber: 176
- Lens: EF-S18-55mm f/3.5-5.6
- LensInfo: 18/1 55/1 0/0 0/0
- OwnerName: unknown
- SerialNumber: 1030571902
- XMP-crs
- AlreadyApplied: True
- BlueHue: 0
- BlueSaturation: 0
- Brightness: +50
- CameraProfile: ACR 3.6
- ChromaticAberrationB: 0
- ChromaticAberrationR: 0
- Clarity: 100
- ColorNoiseReduction: 25
- Contrast: +64
- ConvertToGrayscale: False
- Defringe: 0
- Exposure: +0.10
- FillLight: 70
- GreenHue: 0
- GreenSaturation: 0
- HasCrop: False
- HasSettings: True
- HighlightRecovery: 100
- HueAdjustmentAqua: 0
- HueAdjustmentBlue: 0
- HueAdjustmentGreen: +1
- HueAdjustmentMagenta: 0
- HueAdjustmentOrange: 0
- HueAdjustmentPurple: 0
- HueAdjustmentRed: -4
- HueAdjustmentYellow: 0
- LuminanceAdjustmentAqua: 0
- LuminanceAdjustmentBlue: -100
- LuminanceAdjustmentGreen: 0
- LuminanceAdjustmentMagenta: 0
- LuminanceAdjustmentOrange: -7
- LuminanceAdjustmentPurple: 0
- LuminanceAdjustmentRed: 0
- LuminanceAdjustmentYellow: +5
- LuminanceSmoothing: 9
- ParametricDarks: 0
- ParametricHighlightSplit: 75
- ParametricHighlights: 0
- ParametricLights: 0
- ParametricMidtoneSplit: 50
- ParametricShadowSplit: 25
- ParametricShadows: 0
- RawFileName: IMG_1995.CR2
- RedHue: 0
- RedSaturation: 0
- Saturation: +9
- SaturationAdjustmentAqua: 0
- SaturationAdjustmentBlue: -16
- SaturationAdjustmentGreen: +100
- SaturationAdjustmentMagenta: 0
- SaturationAdjustmentOrange: +56
- SaturationAdjustmentPurple: 0
- SaturationAdjustmentRed: 0
- SaturationAdjustmentYellow: -3
- ShadowTint: 0
- Shadows: 20
- SharpenDetail: 3
- SharpenEdgeMasking: 0
- SharpenRadius: +0.7
- Sharpness: 150
- SplitToningBalance: 0
- SplitToningHighlightHue: 0
- SplitToningHighlightSaturation: 0
- SplitToningShadowHue: 0
- SplitToningShadowSaturation: 0
- Temperature: 5750
- Tint: +12
- ToneCurve: 0, 0, 32, 22, 64, 56, 128, 128, 192, 196, 255, 255
- ToneCurveName: Medium Contrast
- Version: 4.4.1
- Vibrance: +82
- VignetteAmount: 0
- WhiteBalance: As Shot
- XMP-dc
- Creator: unknown
- Format: image/jpeg
- XMP-exif
- DateTimeDigitized: 2007:09:17 10:25:31+05:00
- DateTimeOriginal: 2007:09:17 10:25:31+05:00
- FlashFired: False
- FlashFunction: False
- FlashMode: Off
- FlashRedEyeMode: False
- FlashReturn: No return detection
- XMP-tiff
- XMP-xmp
- CreateDate: 2008:09:02 00:24:31+05:00
- ModifyDate: 2008:09:02 00:24:31+05:00
- Rating: 0
- XMP-xmpMM
- DerivedFrom: