****** |
******
- Раздел: Портрет
- Дата съёмки: 03.03.2009 09:35
- Дата загрузки фото: 07.03.2009 17:38
- Оригинальная фотография: 2048 x 3072 (3,1 Мб)
- Технические характеристики:
- Фотоаппарат: Canon EOS 10D
- Выдержка: 1/125
- Диафрагма: 2,8
- Светочувствительность: 400
- Фокусное расстояние: 35,0 mm
- Полный EXIF
- Adobe
- ColorTransform: YCbCr
- Composite
- Aperture: 2,8
- FocalLength35efl: 35,0 mm
- ShutterSpeed: 1/125
- ExifIFD
- ApertureValue: 2,8
- CreateDate: 2009:03:03 09:35:28
- DateTimeOriginal: 2009:03:03 09:35:28
- ExposureCompensation: 0
- ExposureProgram: Program AE
- ExposureTime: 1/125
- FNumber: 2,8
- Flash: No Flash
- FocalLength: 35,0 mm
- ISO: 400
- MaxApertureValue: 1,4
- MeteringMode: Multi-segment
- ShutterSpeedValue: 1/125
- ICC-header
- ICC-meas
- ICC-view
- IFD0
- Make: Canon
- Model: Canon EOS 10D
- ModifyDate: 2009:03:07 17:22:28
- XMP-aux
- Firmware: 2.0.1
- Lens: 35.0 mm
- LensInfo: 35/1 35/1 0/0 0/0
- SerialNumber: 1720511286
- XMP-crs
- AlreadyApplied: True
- BlueHue: +11
- BlueSaturation: -70
- Brightness: +57
- CameraProfile: ACR 4.4
- ChromaticAberrationB: 0
- ChromaticAberrationR: 0
- Clarity: 0
- ColorNoiseReduction: 25
- Contrast: +25
- ConvertToGrayscale: False
- Defringe: 0
- Exposure: +0.75
- FillLight: 0
- GreenHue: +11
- GreenSaturation: +25
- HasCrop: False
- HasSettings: True
- HighlightRecovery: 0
- HueAdjustmentAqua: 0
- HueAdjustmentBlue: 0
- HueAdjustmentGreen: 0
- HueAdjustmentMagenta: 0
- HueAdjustmentOrange: 0
- HueAdjustmentPurple: 0
- HueAdjustmentRed: 0
- HueAdjustmentYellow: 0
- LuminanceAdjustmentAqua: 0
- LuminanceAdjustmentBlue: 0
- LuminanceAdjustmentGreen: 0
- LuminanceAdjustmentMagenta: 0
- LuminanceAdjustmentOrange: 0
- LuminanceAdjustmentPurple: 0
- LuminanceAdjustmentRed: 0
- LuminanceAdjustmentYellow: 0
- LuminanceSmoothing: 0
- ParametricDarks: -3
- ParametricHighlightSplit: 75
- ParametricHighlights: 0
- ParametricLights: 0
- ParametricMidtoneSplit: 50
- ParametricShadowSplit: 25
- ParametricShadows: -14
- PostCropVignetteAmount: 0
- RedHue: +96
- RedSaturation: +3
- Saturation: -71
- SaturationAdjustmentAqua: 0
- SaturationAdjustmentBlue: 0
- SaturationAdjustmentGreen: 0
- SaturationAdjustmentMagenta: 0
- SaturationAdjustmentOrange: 0
- SaturationAdjustmentPurple: 0
- SaturationAdjustmentRed: 0
- SaturationAdjustmentYellow: 0
- ShadowTint: +8
- Shadows: 11
- SharpenDetail: 25
- SharpenEdgeMasking: 0
- SharpenRadius: +1.0
- Sharpness: 25
- SplitToningBalance: 0
- SplitToningHighlightHue: 0
- SplitToningHighlightSaturation: 0
- SplitToningShadowHue: 0
- SplitToningShadowSaturation: 0
- Temperature: 12500
- Tint: +35
- ToneCurve: 0, 0, 255, 255
- ToneCurveName: Linear
- Version: 4.6
- Vibrance: 0
- VignetteAmount: -100
- VignetteMidpoint: 10
- WhiteBalance: Custom
- XMP-exif
- DateTimeDigitized: 2009:03:03 09:35:28+03:00
- DateTimeOriginal: 2009:03:03 09:35:28+03:00
- ExifImageHeight: 3072
- ExifImageWidth: 2048
- FlashFired: False
- XMP-tiff
- ImageHeight: 3072
- ImageWidth: 2048
- XMP-xmp
- CreateDate: 2009:03:03 09:35:28+03:00
- ModifyDate: 2009:03:07 17:22:28+03:00
- Просмотров: 817
- Рейтинг: голосов еще нет
- Отзывов: 0
Получить код для блога
Вставка фотографии в текущем разрешении |
Вставка миниатюры |
HTML (для вставки в блог):
BBCode (для вставки в форум):
Ссылка на фото:
Ссылка на миниатюру:
- Послать ссылку другу
Комментарии к фотографии |