- Раздел: Другое, разное
- Дата съёмки: 14.03.2009 17:45
- Дата загрузки фото: 16.03.2009 10:05
- Оригинальная фотография: 642 x 650 (153 Кб)
- Технические характеристики:
- Фотоаппарат: Canon EOS 5D
- Выдержка: 1/40
- Гиперфокальное расстояние: 342,31 m
- Диафрагма: 1,4
- Светочувствительность: 800
- Фокусное расстояние: 50,0 mm (35 mm equivalent: 288,0 mm)
- Экспокоррекция: -1
- Полный EXIF
- Adobe
- ColorTransform: YCbCr
- Composite
- Aperture: 1,4
- CircleOfConfusion: 0,005 mm
- FOV: 7,0 deg
- FocalLength35efl: 50,0 mm (35 mm equivalent: 288,0 mm)
- HyperfocalDistance: 342,31 m
- ScaleFactor35efl: 5,8
- ShutterSpeed: 1/40
- ExifIFD
- ApertureValue: 1,4
- CreateDate: 2009:03:14 17:45:59
- CustomRendered: Normal
- DateTimeOriginal: 2009:03:14 17:45:59
- ExposureCompensation: -1
- ExposureMode: Auto
- ExposureProgram: Aperture-priority AE
- ExposureTime: 1/40
- FNumber: 1,4
- Flash: Off
- FocalLength: 50,0 mm
- ISO: 800
- MaxApertureValue: 1,4
- MeteringMode: Spot
- SceneCaptureType: Standard
- ShutterSpeedValue: 1/40
- WhiteBalance: Auto
- ICC-header
- ICC-meas
- ICC-view
- IFD0
- Make: Canon
- Model: Canon EOS 5D
- ModifyDate: 2009:03:16 09:58:46
- XMP-aux
- Firmware: 1.1.0
- FlashCompensation: 0
- ImageNumber: 136
- Lens: EF50mm f/1.4 USM
- LensInfo: 50/1 50/1 0/0 0/0
- SerialNumber: 2921204720
- XMP-crs
- AlreadyApplied: True
- BlueHue: 0
- BlueSaturation: 0
- Brightness: +82
- CameraProfile: ACR 2.4
- ChromaticAberrationB: 0
- ChromaticAberrationR: 0
- Clarity: +50
- ColorNoiseReduction: 25
- Contrast: +10
- ConvertToGrayscale: True
- CropAngle: -14.4034
- CropBottom: 0.819693
- CropHeight: 650
- CropLeft: 0.211561
- CropRight: 0.80128
- CropTop: 0.289369
- CropUnit: 0
- CropWidth: 642
- Defringe: 0
- Exposure: +0.76
- FillLight: 0
- GrayMixerAqua: -2
- GrayMixerBlue: +28
- GrayMixerGreen: -20
- GrayMixerMagenta: +9
- GrayMixerOrange: -17
- GrayMixerPurple: +27
- GrayMixerRed: -9
- GrayMixerYellow: -21
- GreenHue: 0
- GreenSaturation: 0
- HasCrop: True
- HasSettings: True
- HighlightRecovery: 0
- LuminanceSmoothing: 0
- PaintBasedCorrectionsCorrectionActive: true
- PaintBasedCorrectionsCorrectionAmount: 1.000000
- PaintBasedCorrectionsCorrectionMasksCenterWeight: 0.276958
- PaintBasedCorrectionsCorrectionMasksFlow: 0.691000
- PaintBasedCorrectionsCorrectionMasksMaskValue: 0.550000
- PaintBasedCorrectionsCorrectionMasksRadius: 0.014458
- PaintBasedCorrectionsCorrectionMasksWhat: Mask/Paint
- PaintBasedCorrectionsLocalBrightness: 0.000000
- PaintBasedCorrectionsLocalClarity: 0.000000
- PaintBasedCorrectionsLocalContrast: 0.000000
- PaintBasedCorrectionsLocalExposure: -1.000000
- PaintBasedCorrectionsLocalSaturation: 0.000000
- PaintBasedCorrectionsLocalSharpness: 0.000000
- PaintBasedCorrectionsLocalToningHue: 240.000000
- PaintBasedCorrectionsLocalToningSaturation: 0.000000
- PaintBasedCorrectionsWhat: Correction
- ParametricDarks: -15
- ParametricHighlightSplit: 75
- ParametricHighlights: +17
- ParametricLights: 0
- ParametricMidtoneSplit: 50
- ParametricShadowSplit: 25
- ParametricShadows: +45
- PostCropVignetteAmount: -48
- PostCropVignetteFeather: 50
- PostCropVignetteMidpoint: 26
- PostCropVignetteRoundness: 0
- RedHue: 0
- RedSaturation: 0
- ShadowTint: 0
- Shadows: 16
- SharpenDetail: 50
- SharpenEdgeMasking: 0
- SharpenRadius: +1.0
- Sharpness: 25
- SplitToningBalance: 0
- SplitToningHighlightHue: 0
- SplitToningHighlightSaturation: 0
- SplitToningShadowHue: 0
- SplitToningShadowSaturation: 0
- Temperature: 5150
- Tint: 0
- ToneCurve: 0, 0, 32, 22, 64, 56, 128, 128, 192, 196, 255, 255
- ToneCurveName: Medium Contrast
- Version: 4.6
- VignetteAmount: 0
- WhiteBalance: Custom
- XMP-exif
- DateTimeDigitized: 2009:03:14 17:45:59+03:00
- DateTimeOriginal: 2009:03:14 17:45:59+03:00
- ExifImageHeight: 650
- ExifImageWidth: 642
- FlashFired: False
- FlashFunction: False
- FlashMode: Off
- FlashRedEyeMode: False
- FlashReturn: No return detection
- XMP-tiff
- ImageHeight: 650
- ImageWidth: 642
- XMP-xmp
- CreateDate: 2009:03:14 17:45:59+03:00
- ModifyDate: 2009:03:16 09:58:46+03:00