- Раздел: Животные
- Дата съёмки: 20.03.2009 12:32
- Дата загрузки фото: 21.03.2009 19:28
- Оригинальная фотография: 2037 x 1748 (940 Кб)
- Технические характеристики:
- Фотоаппарат: Nikon D90
- Выдержка: 1/400
- Гиперфокальное расстояние: 3,59 m
- Диафрагма: 4,5
- Светочувствительность: 400
- Фокусное расстояние: 18,0 mm (35 mm equivalent: 27,0 mm)
- Полный EXIF
- Adobe
- ColorTransform: YCbCr
- Composite
- Aperture: 4,5
- CircleOfConfusion: 0,020 mm
- FOV: 67,0 deg
- FocalLength35efl: 18,0 mm (35 mm equivalent: 27,0 mm)
- HyperfocalDistance: 3,59 m
- ScaleFactor35efl: 1,5
- ShutterSpeed: 1/400
- ExifIFD
- ApertureValue: 4,5
- CFAPattern: [Green,Blue][Red,Green]
- Contrast: Normal
- CreateDate: 2009:03:20 12:32:37
- CustomRendered: Normal
- DateTimeOriginal: 2009:03:20 12:32:37
- DigitalZoomRatio: 1
- ExposureCompensation: 0
- ExposureMode: Auto
- ExposureProgram: Aperture-priority AE
- ExposureTime: 1/400
- FNumber: 4,5
- Flash: No Flash
- FocalLength: 18,0 mm
- FocalLengthIn35mmFormat: 27 mm
- GainControl: Low gain up
- ISO: 400
- LightSource: Unknown
- MaxApertureValue: 3,5
- MeteringMode: Center-weighted average
- Saturation: Normal
- SceneCaptureType: Standard
- SceneType: Directly photographed
- SensingMethod: One-chip color area
- Sharpness: Normal
- ShutterSpeedValue: 1/400
- SubjectDistanceRange: Unknown
- WhiteBalance: Auto
- ICC-header
- IFD0
- Make: NIKON CORPORATION
- Model: NIKON D90
- ModifyDate: 2009:03:21 18:02:13
- Software: Ver.1.00
- IFD1
- XMP-aux
- ImageNumber: 5372
- Lens: 18.0-200.0 mm f/3.5-5.6
- LensInfo: 180/10 2000/10 35/10 56/10
- SerialNumber: 2015777
- XMP-crs
- AlreadyApplied: True
- BlueHue: 0
- BlueSaturation: 0
- Brightness: +50
- ChromaticAberrationB: 0
- ChromaticAberrationR: 0
- Clarity: 0
- ColorNoiseReduction: 25
- Contrast: +31
- ConvertToGrayscale: False
- CropAngle: 0
- CropBottom: 0.67382
- CropLeft: 0.310984
- CropRight: 0.78602
- CropTop: 0.060086
- Defringe: 0
- Exposure: 0.00
- FillLight: 13
- GreenHue: 0
- GreenSaturation: 0
- HasCrop: True
- HasSettings: True
- HighlightRecovery: 0
- HueAdjustmentAqua: 0
- HueAdjustmentBlue: 0
- HueAdjustmentGreen: 0
- HueAdjustmentMagenta: 0
- HueAdjustmentOrange: 0
- HueAdjustmentPurple: 0
- HueAdjustmentRed: 0
- HueAdjustmentYellow: 0
- LuminanceAdjustmentAqua: 0
- LuminanceAdjustmentBlue: 0
- LuminanceAdjustmentGreen: 0
- LuminanceAdjustmentMagenta: 0
- LuminanceAdjustmentOrange: 0
- LuminanceAdjustmentPurple: 0
- LuminanceAdjustmentRed: 0
- LuminanceAdjustmentYellow: 0
- LuminanceSmoothing: 0
- ParametricDarks: 0
- ParametricHighlightSplit: 75
- ParametricHighlights: 0
- ParametricLights: 0
- ParametricMidtoneSplit: 50
- ParametricShadowSplit: 25
- ParametricShadows: 0
- PostCropVignetteAmount: 0
- RawFileName: DSC_5533.NEF
- RedHue: 0
- RedSaturation: 0
- Saturation: +9
- SaturationAdjustmentAqua: 0
- SaturationAdjustmentBlue: 0
- SaturationAdjustmentGreen: 0
- SaturationAdjustmentMagenta: 0
- SaturationAdjustmentOrange: 0
- SaturationAdjustmentPurple: 0
- SaturationAdjustmentRed: 0
- SaturationAdjustmentYellow: 0
- ShadowTint: 0
- Shadows: 5
- SharpenDetail: 25
- SharpenEdgeMasking: 0
- SharpenRadius: +1.0
- Sharpness: 41
- SplitToningBalance: 0
- SplitToningHighlightHue: 0
- SplitToningHighlightSaturation: 0
- SplitToningShadowHue: 0
- SplitToningShadowSaturation: 0
- Temperature: 4850
- Tint: -7
- ToneCurve: 0, 0, 32, 22, 64, 56, 128, 128, 192, 196, 255, 255
- ToneCurveName: Medium Contrast
- Version: 5.3
- Vibrance: 0
- VignetteAmount: 0
- WhiteBalance: As Shot
- XMP-exif
- DateTimeDigitized: 2009:03:20 12:32:37.00+03:00
- DateTimeOriginal: 2009:03:20 12:32:37.00+03:00
- ExifImageHeight: 1748
- ExifImageWidth: 2037
- FlashFired: False
- FlashFunction: False
- FlashMode: Unknown
- FlashRedEyeMode: False
- FlashReturn: No return detection
- XMP-tiff
- ImageHeight: 1748
- ImageWidth: 2037
- XMP-xmp
- CreateDate: 2009:03:20 12:32:37.00+03:00
- CreatorTool: Ver.1.00
- ModifyDate: 2009:03:21 18:02:13+03:00