- Раздел: Заставки, обои
- Дата съёмки: неизвестно
- Дата загрузки фото: 22.04.2009 09:58
- Оригинальная фотография: 1920 x 1200 (518 Кб)
- Технические характеристики:
- Фотоаппарат: неизвестно
- Выдержка: 1/400
- Диафрагма: 5,0
- Фокусное расстояние: 7,6 mm
- Полный EXIF
- Adobe
- ColorTransform: YCbCr
- Composite
- Aperture: 5,0
- FocalLength35efl: 7,6 mm
- ShutterSpeed: 1/400
- ExifIFD
- ApertureValue: 5,0
- ColorSpace: sRGB
- CustomRendered: Normal
- DigitalZoomRatio: 0
- ExifImageHeight: 1200
- ExifImageWidth: 1920
- ExposureCompensation: 0
- ExposureMode: Auto
- ExposureTime: 1/400
- FNumber: 5,0
- FocalLength: 7,6 mm
- GainControl: None
- MaxApertureValue: 2,5
- SceneCaptureType: Landscape
- ShutterSpeedValue: 1/400
- ICC-header
- ICC-meas
- ICC-view
- IFD0
- Artist: Marco Carrubba
- Copyright: Marco Carrubba
- ModifyDate: 2009:02:06 10:47:38
- XPAuthor: Marco Carrubba
- XPTitle: Colosseo, Roma (Coliseum, Rome)
- IFD1
- IPTC
- By-line: Marco Carrubba
- CopyrightNotice: Marco Carrubba
- Keywords: IT
- ObjectName: Colosseo, Roma (Coliseum, Rome)
- XMP-crs
- AlreadyApplied: True
- BlueHue: 0
- BlueSaturation: 0
- Brightness: +68
- CameraProfile: ACR 3.6
- ChromaticAberrationB: 0
- ChromaticAberrationR: 0
- Clarity: 48
- ColorNoiseReduction: 25
- Contrast: +68
- ConvertToGrayscale: False
- Defringe: 0
- Exposure: -1.33
- FillLight: 0
- GreenHue: +7
- GreenSaturation: -100
- HasCrop: False
- HasSettings: True
- HighlightRecovery: 0
- HueAdjustmentAqua: 0
- HueAdjustmentBlue: 0
- HueAdjustmentGreen: 0
- HueAdjustmentMagenta: 0
- HueAdjustmentOrange: 0
- HueAdjustmentPurple: 0
- HueAdjustmentRed: 0
- HueAdjustmentYellow: 0
- IncrementalTemperature: +97
- IncrementalTint: +8
- LuminanceAdjustmentAqua: 0
- LuminanceAdjustmentBlue: 0
- LuminanceAdjustmentGreen: 0
- LuminanceAdjustmentMagenta: 0
- LuminanceAdjustmentOrange: 0
- LuminanceAdjustmentPurple: 0
- LuminanceAdjustmentRed: 0
- LuminanceAdjustmentYellow: 0
- LuminanceSmoothing: 0
- ParametricDarks: 0
- ParametricHighlightSplit: 75
- ParametricHighlights: 0
- ParametricLights: 0
- ParametricMidtoneSplit: 50
- ParametricShadowSplit: 25
- ParametricShadows: 0
- RedHue: +51
- RedSaturation: +65
- Saturation: -80
- SaturationAdjustmentAqua: 0
- SaturationAdjustmentBlue: 0
- SaturationAdjustmentGreen: 0
- SaturationAdjustmentMagenta: 0
- SaturationAdjustmentOrange: 0
- SaturationAdjustmentPurple: 0
- SaturationAdjustmentRed: 0
- SaturationAdjustmentYellow: 0
- ShadowTint: +71
- Shadows: 6
- SharpenDetail: 25
- SharpenEdgeMasking: 0
- SharpenRadius: +1.0
- Sharpness: 25
- SplitToningBalance: 0
- SplitToningHighlightHue: 0
- SplitToningHighlightSaturation: 0
- SplitToningShadowHue: 0
- SplitToningShadowSaturation: 0
- ToneCurve: 0, 0, 32, 22, 64, 56, 128, 128, 192, 196, 255, 255
- ToneCurveName: Medium Contrast
- Version: 1.0
- Vibrance: +9
- VignetteAmount: 0
- WhiteBalance: Custom
- XMP-dc
- Creator: Marco Carrubba
- Format: image/jpeg
- Rights: Marco Carrubba
- Title: Colosseo, Roma (Coliseum, Rome)
- XMP-exif
- DateTimeDigitized: 2005:11:20 15:15:11-08:00
- XMP-tiff
- XMP-xmp
- Label: Editate
- ModifyDate: 2009:02:06 10:47:38-08:00
- XMP-xmpMM
- Просмотров: 258
- Рейтинг: голосов еще нет
- Отзывов: 0