- Раздел: Заставки, обои
- Дата съёмки: неизвестно
- Дата загрузки фото: 22.04.2009 20:26
- Оригинальная фотография: 1900 x 1200 (471 Кб)
- Технические характеристики:
- Фотоаппарат: неизвестно
- Выдержка: 1/800
- Диафрагма: 8,0
- Фокусное расстояние: 18,0 mm
- Полный EXIF
- Adobe
- ColorTransform: YCbCr
- Composite
- Aperture: 8,0
- FocalLength35efl: 18,0 mm
- ShutterSpeed: 1/800
- ExifIFD
- ApertureValue: 8,0
- ColorSpace: sRGB
- ExifImageHeight: 1200
- ExifImageWidth: 1900
- ExposureCompensation: 0
- ExposureTime: 1/800
- FNumber: 8,0
- FocalLength: 18,0 mm
- MaxApertureValue: 3,5
- ShutterSpeedValue: 1/800
- ICC-header
- ICC-meas
- ICC-view
- IFD0
- Artist: Keith D. Smith
- Copyright: В© Keith D. Smith
- ModifyDate: 2008:08:15 16:21:31
- XPKeywords: ZA
- XPTitle: Penguins on Boulder Beach, South Africa
- IFD1
- IPTC
- By-line: Keith D. Smith
- City: Boulders Beach
- CopyrightNotice: В© Keith D. Smith
- Country-PrimaryLocationName: South Africa
- Headline: The Penguins of South Africa
- ObjectName: Penguins on Boulder Beach, South Africa
- XMP-aux
- Lens: 18.0-70.0 mm f/3.5-4.5
- XMP-crs
- AlreadyApplied: True
- BlueHue: 0
- BlueSaturation: 0
- Brightness: 0
- CameraProfile: Embedded
- ChromaticAberrationB: 0
- ChromaticAberrationR: 0
- Clarity: 0
- ColorNoiseReduction: 0
- Contrast: 0
- ConvertToGrayscale: False
- Defringe: 0
- Exposure: +0.57
- FillLight: 14
- GreenHue: 0
- GreenSaturation: 0
- HasCrop: False
- HasSettings: True
- HighlightRecovery: 4
- HueAdjustmentAqua: 0
- HueAdjustmentBlue: 0
- HueAdjustmentGreen: 0
- HueAdjustmentMagenta: 0
- HueAdjustmentOrange: 0
- HueAdjustmentPurple: 0
- HueAdjustmentRed: 0
- HueAdjustmentYellow: 0
- IncrementalTemperature: 0
- IncrementalTint: 0
- LuminanceAdjustmentAqua: 0
- LuminanceAdjustmentBlue: 0
- LuminanceAdjustmentGreen: 0
- LuminanceAdjustmentMagenta: 0
- LuminanceAdjustmentOrange: 0
- LuminanceAdjustmentPurple: 0
- LuminanceAdjustmentRed: 0
- LuminanceAdjustmentYellow: 0
- LuminanceSmoothing: 0
- ParametricDarks: 0
- ParametricHighlightSplit: 75
- ParametricHighlights: 0
- ParametricLights: 0
- ParametricMidtoneSplit: 50
- ParametricShadowSplit: 25
- ParametricShadows: 0
- RedHue: 0
- RedSaturation: 0
- Saturation: 0
- SaturationAdjustmentAqua: 0
- SaturationAdjustmentBlue: 0
- SaturationAdjustmentGreen: 0
- SaturationAdjustmentMagenta: 0
- SaturationAdjustmentOrange: 0
- SaturationAdjustmentPurple: 0
- SaturationAdjustmentRed: 0
- SaturationAdjustmentYellow: 0
- ShadowTint: 0
- Shadows: 5
- SharpenDetail: 25
- SharpenEdgeMasking: 0
- SharpenRadius: +1.0
- Sharpness: 0
- SplitToningBalance: 0
- SplitToningHighlightHue: 0
- SplitToningHighlightSaturation: 0
- SplitToningShadowHue: 0
- SplitToningShadowSaturation: 0
- ToneCurve: 0, 0, 255, 255
- ToneCurveName: Linear
- Version: 4.4.1
- Vibrance: 0
- VignetteAmount: 0
- WhiteBalance: As Shot
- XMP-dc
- Creator: Keith D. Smith
- Format: image/jpeg
- Rights: В© Keith D. Smith
- Subject: ZA
- Title: Penguins on Boulder Beach, South Africa
- XMP-exif
- XMP-microsoft
- XMP-tiff
- XMP-xmp
- ModifyDate: 2008:08:15 16:21:31-07:00
- XMP-xmpMM
- XMP-xmpRights
- Marked: True
- WebStatement: http://lesia.com
- Просмотров: 1066
- Рейтинг: голосов еще нет
- Отзывов: 0