» Участники » Ostwind » Pentax M35 2.8 » M35 f2.8 - f4 - 4.jpg |
M35 f2.8 - f4 - 4.jpg |
M35 f2.8 - f4 - 4.jpg
- Раздел: Тесты фототехники
- Дата съёмки: 26.03.2009 13:46
- Дата загрузки фото: 26.04.2009 15:15
- Оригинальная фотография: 2000 x 1339 (2,0 Мб)
- Технические характеристики:
- Фотоаппарат: Pentax K200D
- Выдержка: 1/250
- Светочувствительность: 100
- Полный EXIF
- Adobe
- ColorTransform: YCbCr
- Composite
- ExifIFD
- Contrast: Normal
- CreateDate: 2009:03:26 13:46:54
- CustomRendered: Normal
- DateTimeOriginal: 2009:03:26 13:46:54
- ExposureCompensation: 0
- ExposureMode: Manual
- ExposureProgram: Manual
- ExposureTime: 1/250
- Flash: Off
- ISO: 100
- MeteringMode: Spot
- Saturation: Normal
- SceneCaptureType: Standard
- SensingMethod: One-chip color area
- Sharpness: Soft
- ShutterSpeedValue: 1/250
- SubjectDistanceRange: Distant
- WhiteBalance: Auto
- ICC-header
- ICC-meas
- ICC-view
- IFD0
- Make: PENTAX Corporation
- Model: PENTAX K200D
- ModifyDate: 2009:01:22 14:02:19
- Software: K200D Ver 1.00
- IFD1
- XMP-aux
- Lens: K or M Lens
- LensID: 1 0
- XMP-crs
- AlreadyApplied: True
- BlueHue: 0
- BlueSaturation: 0
- Brightness: +50
- CameraProfile: Camera Standard
- ChromaticAberrationB: 0
- ChromaticAberrationR: 0
- Clarity: +10
- ColorNoiseReduction: 7
- Contrast: +15
- ConvertToGrayscale: False
- CropAngle: -0.414802
- CropBottom: 0.989301
- CropHeight: 1339
- CropLeft: 0.002952
- CropRight: 0.997048
- CropTop: 0.010699
- CropUnit: 0
- CropWidth: 2000
- Defringe: 0
- Exposure: 0.00
- FillLight: 5
- GreenHue: 0
- GreenSaturation: 0
- HasCrop: True
- HasSettings: True
- HighlightRecovery: 0
- HueAdjustmentAqua: 0
- HueAdjustmentBlue: 0
- HueAdjustmentGreen: 0
- HueAdjustmentMagenta: 0
- HueAdjustmentOrange: 0
- HueAdjustmentPurple: 0
- HueAdjustmentRed: 0
- HueAdjustmentYellow: 0
- LuminanceAdjustmentAqua: -50
- LuminanceAdjustmentBlue: -33
- LuminanceAdjustmentGreen: +22
- LuminanceAdjustmentMagenta: 0
- LuminanceAdjustmentOrange: +22
- LuminanceAdjustmentPurple: 0
- LuminanceAdjustmentRed: +22
- LuminanceAdjustmentYellow: +22
- LuminanceSmoothing: 0
- ParametricDarks: -35
- ParametricHighlightSplit: 90
- ParametricHighlights: -19
- ParametricLights: -55
- ParametricMidtoneSplit: 44
- ParametricShadowSplit: 10
- ParametricShadows: 0
- PostCropVignetteAmount: 0
- RedHue: 0
- RedSaturation: 0
- Saturation: +7
- SaturationAdjustmentAqua: 0
- SaturationAdjustmentBlue: 0
- SaturationAdjustmentGreen: 0
- SaturationAdjustmentMagenta: 0
- SaturationAdjustmentOrange: 0
- SaturationAdjustmentPurple: 0
- SaturationAdjustmentRed: 0
- SaturationAdjustmentYellow: 0
- ShadowTint: 0
- Shadows: 0
- SharpenDetail: 25
- SharpenEdgeMasking: 0
- SharpenRadius: +0.6
- Sharpness: 39
- SplitToningBalance: 0
- SplitToningHighlightHue: 0
- SplitToningHighlightSaturation: 0
- SplitToningShadowHue: 0
- SplitToningShadowSaturation: 0
- Temperature: 5150
- Tint: 0
- ToneCurve: 0, 0, 32, 22, 64, 56, 128, 128, 192, 196, 255, 255
- ToneCurveName: Medium Contrast
- Version: 5.3
- Vibrance: +7
- VignetteAmount: 0
- WhiteBalance: As Shot
- XMP-exif
- DateTimeDigitized: 2009:03:26 13:46:54+02:00
- DateTimeOriginal: 2009:03:26 13:46:54+02:00
- ExifImageHeight: 1339
- ExifImageWidth: 2000
- FlashFired: False
- FlashFunction: False
- FlashMode: Off
- FlashRedEyeMode: False
- FlashReturn: No return detection
- XMP-tiff
- ImageHeight: 1339
- ImageWidth: 2000
- XMP-xmp
- CreateDate: 2009:03:26 13:46:54+02:00
- ModifyDate: 2009:01:22 14:02:19+02:00
- Просмотров: 479
- Рейтинг: голосов еще нет
- Отзывов: 0
Получить код для блога
Вставка фотографии в текущем разрешении |
Вставка миниатюры |
HTML (для вставки в блог):
BBCode (для вставки в форум):
Ссылка на фото:
Ссылка на миниатюру:
- Послать ссылку другу
Комментарии к фотографии |