» Участники » Ostwind » Pentax M35 2.8 » Miensk - viasna 2009.jpg |
Miensk - viasna 2009.jpg |
Miensk - viasna 2009.jpg
ф8-ИСО 250- шарп 33-0.5-33
- Раздел: Тесты фототехники
- Дата съёмки: 22.04.2009 12:02
- Дата загрузки фото: 26.04.2009 16:27
- Оригинальная фотография: 3816 x 2555 (8,1 Мб)
- Технические характеристики:
- Фотоаппарат: Pentax K200D
- Выдержка: 1/1250
- Светочувствительность: 250
- Полный EXIF
- Adobe
- ColorTransform: YCbCr
- Composite
- ExifIFD
- Contrast: Normal
- CreateDate: 2009:04:22 12:02:52
- CustomRendered: Normal
- DateTimeOriginal: 2009:04:22 12:02:52
- ExposureCompensation: 0
- ExposureMode: Manual
- ExposureProgram: Manual
- ExposureTime: 1/1250
- Flash: Off
- ISO: 250
- MeteringMode: Spot
- Saturation: Normal
- SceneCaptureType: Standard
- SensingMethod: One-chip color area
- Sharpness: Soft
- ShutterSpeedValue: 1/1250
- SubjectDistanceRange: Distant
- WhiteBalance: Auto
- ICC-header
- ICC-meas
- ICC-view
- IFD0
- Copyright: Balashevich
- Make: PENTAX Corporation
- Model: PENTAX K200D
- ModifyDate: 2009:01:22 15:23:54
- Software: K200D Ver 1.00
- IFD1
- IPTC
- CopyrightNotice: Balashevich
- XMP-aux
- Lens: K or M Lens
- LensID: 1 0
- XMP-crs
- AlreadyApplied: True
- BlueHue: 0
- BlueSaturation: 0
- Brightness: +50
- ChromaticAberrationB: 0
- ChromaticAberrationR: 0
- Clarity: +14
- ColorNoiseReduction: 11
- Contrast: +25
- ConvertToGrayscale: False
- CropAngle: 0.558981
- CropBottom: 1
- CropHeight: 2555
- CropLeft: 0.010401
- CropRight: 0.989599
- CropTop: 0
- CropUnit: 0
- CropWidth: 3816
- Defringe: 0
- Exposure: 0.00
- FillLight: 0
- GreenHue: 0
- GreenSaturation: 0
- HasCrop: True
- HasSettings: True
- HighlightRecovery: 0
- HueAdjustmentAqua: 0
- HueAdjustmentBlue: 0
- HueAdjustmentGreen: 0
- HueAdjustmentMagenta: 0
- HueAdjustmentOrange: 0
- HueAdjustmentPurple: 0
- HueAdjustmentRed: 0
- HueAdjustmentYellow: 0
- LuminanceAdjustmentAqua: -40
- LuminanceAdjustmentBlue: -12
- LuminanceAdjustmentGreen: 0
- LuminanceAdjustmentMagenta: 0
- LuminanceAdjustmentOrange: 0
- LuminanceAdjustmentPurple: 0
- LuminanceAdjustmentRed: 0
- LuminanceAdjustmentYellow: 0
- LuminanceSmoothing: 0
- ParametricDarks: 0
- ParametricHighlightSplit: 90
- ParametricHighlights: +33
- ParametricLights: +31
- ParametricMidtoneSplit: 61
- ParametricShadowSplit: 30
- ParametricShadows: 0
- PostCropVignetteAmount: 0
- RedHue: 0
- RedSaturation: 0
- Saturation: +5
- SaturationAdjustmentAqua: 0
- SaturationAdjustmentBlue: 0
- SaturationAdjustmentGreen: 0
- SaturationAdjustmentMagenta: 0
- SaturationAdjustmentOrange: 0
- SaturationAdjustmentPurple: 0
- SaturationAdjustmentRed: 0
- SaturationAdjustmentYellow: 0
- ShadowTint: 0
- Shadows: 5
- SharpenDetail: 33
- SharpenEdgeMasking: 0
- SharpenRadius: +0.5
- Sharpness: 33
- SplitToningBalance: 0
- SplitToningHighlightHue: 0
- SplitToningHighlightSaturation: 0
- SplitToningShadowHue: 0
- SplitToningShadowSaturation: 0
- Temperature: 4600
- Tint: -7
- ToneCurve: 0, 0, 32, 22, 64, 56, 128, 128, 192, 196, 255, 255
- ToneCurveName: Medium Contrast
- Version: 5.3
- Vibrance: +7
- VignetteAmount: 0
- WhiteBalance: As Shot
- XMP-dc
- XMP-exif
- DateTimeDigitized: 2009:04:22 12:02:52+03:00
- DateTimeOriginal: 2009:04:22 12:02:52+03:00
- ExifImageHeight: 2555
- ExifImageWidth: 3816
- FlashFired: False
- FlashFunction: False
- FlashMode: Off
- FlashRedEyeMode: False
- FlashReturn: No return detection
- XMP-tiff
- ImageHeight: 2555
- ImageWidth: 3816
- XMP-xmp
- CreateDate: 2009:04:22 12:02:52+03:00
- ModifyDate: 2009:01:22 15:23:54+02:00
- XMP-xmpRights
- Просмотров: 759
- Рейтинг: голосов еще нет
- Отзывов: 0
Получить код для блога
Вставка фотографии в текущем разрешении |
Вставка миниатюры |
HTML (для вставки в блог):
BBCode (для вставки в форум):
Ссылка на фото:
Ссылка на миниатюру:
- Послать ссылку другу
Комментарии к фотографии |