- Раздел: Другое, разное
- Дата съёмки: 24.04.2009 19:56
- Дата загрузки фото: 26.04.2009 21:03
- Оригинальная фотография: 1900 x 1523 (456 Кб)
- Технические характеристики:
- Фотоаппарат: Nikon D40
- Выдержка: 1/250
- Гиперфокальное расстояние: 15,01 m
- Диафрагма: 10,0
- Светочувствительность: 200
- Фокусное расстояние: 55,0 mm (35 mm equivalent: 82,0 mm)
- Экспокоррекция: +5
- Полный EXIF
- Adobe
- ColorTransform: YCbCr
- Composite
- Aperture: 10,0
- CircleOfConfusion: 0,020 mm
- FOV: 24,0 deg
- FocalLength35efl: 55,0 mm (35 mm equivalent: 82,0 mm)
- HyperfocalDistance: 15,01 m
- ScaleFactor35efl: 1,5
- ShutterSpeed: 1/250
- ExifIFD
- ApertureValue: 10,0
- CFAPattern: [Blue,Green][Green,Red]
- ColorSpace: Uncalibrated
- Contrast: Normal
- CreateDate: 2009:04:22 15:46:03
- CustomRendered: Normal
- DateTimeOriginal: 2009:04:22 15:46:03
- DigitalZoomRatio: 1
- ExifImageHeight: 1523
- ExifImageWidth: 1900
- ExposureCompensation: +5
- ExposureMode: Manual
- ExposureProgram: Manual
- ExposureTime: 1/250
- FNumber: 10,0
- Flash: No Flash
- FocalLength: 55,0 mm
- FocalLengthIn35mmFormat: 82 mm
- GainControl: None
- ISO: 200
- LightSource: Unknown
- MaxApertureValue: 5,7
- MeteringMode: Spot
- Saturation: Normal
- SceneCaptureType: Standard
- SceneType: Directly photographed
- SensingMethod: One-chip color area
- Sharpness: Normal
- ShutterSpeedValue: 1/250
- SubjectDistanceRange: Unknown
- WhiteBalance: Auto
- ICC-header
- IFD0
- Make: NIKON CORPORATION
- Model: NIKON D40
- ModifyDate: 2009:04:24 20:21:19
- Orientation: Horizontal (normal)
- IFD1
- IPTC
- XMP-aux
- ImageNumber: 4370
- Lens: 18.0-55.0 mm f/3.5-5.6
- LensInfo: 180/10 550/10 35/10 56/10
- XMP-crs
- AlreadyApplied: True
- BlueHue: 0
- BlueSaturation: 0
- Brightness: +43
- CameraProfile: ACR 3.7
- ChromaticAberrationB: 0
- ChromaticAberrationR: 0
- Clarity: 76
- ColorNoiseReduction: 84
- Contrast: +42
- ConvertToGrayscale: False
- CropAngle: 0
- CropBottom: 0.979381
- CropLeft: 0.244863
- CropRight: 0.744863
- CropTop: 0.03866
- Defringe: 0
- Exposure: +1.70
- FillLight: 58
- GreenHue: 0
- GreenSaturation: 0
- HasCrop: True
- HasSettings: True
- HighlightRecovery: 0
- HueAdjustmentAqua: 0
- HueAdjustmentBlue: +2
- HueAdjustmentGreen: 0
- HueAdjustmentMagenta: 0
- HueAdjustmentOrange: -46
- HueAdjustmentPurple: -1
- HueAdjustmentRed: -21
- HueAdjustmentYellow: +11
- LuminanceAdjustmentAqua: 0
- LuminanceAdjustmentBlue: -1
- LuminanceAdjustmentGreen: 0
- LuminanceAdjustmentMagenta: 0
- LuminanceAdjustmentOrange: +49
- LuminanceAdjustmentPurple: 0
- LuminanceAdjustmentRed: +24
- LuminanceAdjustmentYellow: +33
- LuminanceSmoothing: 88
- ParametricDarks: -5
- ParametricHighlightSplit: 75
- ParametricHighlights: +1
- ParametricLights: -57
- ParametricMidtoneSplit: 50
- ParametricShadowSplit: 25
- ParametricShadows: -18
- RawFileName: DSC_0238.NEF
- RedHue: 0
- RedSaturation: 0
- Saturation: +13
- SaturationAdjustmentAqua: 0
- SaturationAdjustmentBlue: +41
- SaturationAdjustmentGreen: 0
- SaturationAdjustmentMagenta: -53
- SaturationAdjustmentOrange: +42
- SaturationAdjustmentPurple: 0
- SaturationAdjustmentRed: 0
- SaturationAdjustmentYellow: +48
- ShadowTint: 0
- Shadows: 1
- SharpenDetail: 25
- SharpenEdgeMasking: 0
- SharpenRadius: +1.0
- Sharpness: 25
- SplitToningBalance: +30
- SplitToningHighlightHue: 236
- SplitToningHighlightSaturation: 36
- SplitToningShadowHue: 93
- SplitToningShadowSaturation: 7
- Temperature: 7400
- Tint: -18
- ToneCurve: 0, 0, 143, 109, 255, 255
- ToneCurveName: Custom
- Version: 5.0x27
- Vibrance: -2
- VignetteAmount: 0
- WhiteBalance: Custom
- XMP-dc
- XMP-exif
- DateTimeDigitized: 2009:04:22 15:46:03.30+04:00
- DateTimeOriginal: 2009:04:22 15:46:03.30+04:00
- FlashFired: False
- FlashFunction: False
- FlashMode: Unknown
- FlashRedEyeMode: False
- FlashReturn: No return detection
- XMP-tiff
- XMP-xmp
- CreateDate: 2009:04:24 19:56:11+04:00
- ModifyDate: 2009:04:24 20:21:19+04:00
- Rating: 0
- XMP-xmpMM
- DerivedFrom:
- Просмотров: 160
- Рейтинг: голосов еще нет
- Отзывов: отключены