- Раздел: Другое, разное
- Дата съёмки: 24.04.2009 20:11
- Дата загрузки фото: 26.04.2009 21:06
- Оригинальная фотография: 2013 x 1457 (683 Кб)
- Технические характеристики:
- Фотоаппарат: Nikon D40
- Выдержка: 1/160
- Гиперфокальное расстояние: 11,01 m
- Диафрагма: 8,0
- Светочувствительность: 200
- Фокусное расстояние: 42,0 mm (35 mm equivalent: 63,0 mm)
- Экспокоррекция: +5
- Полный EXIF
- Adobe
- ColorTransform: YCbCr
- Composite
- Aperture: 8,0
- CircleOfConfusion: 0,020 mm
- FOV: 31,0 deg
- FocalLength35efl: 42,0 mm (35 mm equivalent: 63,0 mm)
- HyperfocalDistance: 11,01 m
- ScaleFactor35efl: 1,5
- ShutterSpeed: 1/160
- ExifIFD
- ApertureValue: 8,0
- CFAPattern: [Blue,Green][Green,Red]
- ColorSpace: Uncalibrated
- Contrast: Low
- CreateDate: 2009:04:22 15:52:29
- CustomRendered: Normal
- DateTimeOriginal: 2009:04:22 15:52:29
- DigitalZoomRatio: 1
- ExifImageHeight: 1457
- ExifImageWidth: 2013
- ExposureCompensation: +5
- ExposureMode: Manual
- ExposureProgram: Manual
- ExposureTime: 1/160
- FNumber: 8,0
- Flash: No Flash
- FocalLength: 42,0 mm
- FocalLengthIn35mmFormat: 63 mm
- GainControl: None
- ISO: 200
- LightSource: Unknown
- MaxApertureValue: 5,1
- MeteringMode: Spot
- Saturation: Normal
- SceneCaptureType: Standard
- SceneType: Directly photographed
- SensingMethod: One-chip color area
- Sharpness: Normal
- ShutterSpeedValue: 1/160
- SubjectDistanceRange: Unknown
- WhiteBalance: Auto
- ICC-header
- IFD0
- Make: NIKON CORPORATION
- Model: NIKON D40
- ModifyDate: 2009:04:24 20:22:34
- Orientation: Horizontal (normal)
- IFD1
- IPTC
- XMP-aux
- ImageNumber: 4376
- Lens: 18.0-55.0 mm f/3.5-5.6
- LensInfo: 180/10 550/10 35/10 56/10
- XMP-crs
- AlreadyApplied: True
- BlueHue: 0
- BlueSaturation: 0
- Brightness: +34
- CameraProfile: ACR 3.7
- ChromaticAberrationB: 0
- ChromaticAberrationR: 0
- Clarity: 58
- ColorNoiseReduction: 25
- Contrast: +43
- ConvertToGrayscale: False
- CropAngle: 1.215711
- CropBottom: 0.887313
- CropLeft: 0.258347
- CropRight: 0.91446
- CropTop: 0.142007
- Defringe: 0
- Exposure: -0.15
- FillLight: 40
- GreenHue: 0
- GreenSaturation: 0
- HasCrop: True
- HasSettings: True
- HighlightRecovery: 0
- HueAdjustmentAqua: 0
- HueAdjustmentBlue: +38
- HueAdjustmentGreen: 0
- HueAdjustmentMagenta: 0
- HueAdjustmentOrange: 0
- HueAdjustmentPurple: +3
- HueAdjustmentRed: 0
- HueAdjustmentYellow: +31
- LuminanceAdjustmentAqua: 0
- LuminanceAdjustmentBlue: 0
- LuminanceAdjustmentGreen: 0
- LuminanceAdjustmentMagenta: 0
- LuminanceAdjustmentOrange: 0
- LuminanceAdjustmentPurple: 0
- LuminanceAdjustmentRed: 0
- LuminanceAdjustmentYellow: 0
- LuminanceSmoothing: 0
- ParametricDarks: +48
- ParametricHighlightSplit: 75
- ParametricHighlights: +44
- ParametricLights: -8
- ParametricMidtoneSplit: 50
- ParametricShadowSplit: 25
- ParametricShadows: -2
- RawFileName: DSC_0244.NEF
- RedHue: 0
- RedSaturation: 0
- Saturation: -9
- SaturationAdjustmentAqua: 0
- SaturationAdjustmentBlue: 0
- SaturationAdjustmentGreen: 0
- SaturationAdjustmentMagenta: 0
- SaturationAdjustmentOrange: 0
- SaturationAdjustmentPurple: 0
- SaturationAdjustmentRed: 0
- SaturationAdjustmentYellow: 0
- ShadowTint: 0
- Shadows: 0
- SharpenDetail: 100
- SharpenEdgeMasking: 0
- SharpenRadius: +1.0
- Sharpness: 25
- SplitToningBalance: -23
- SplitToningHighlightHue: 224
- SplitToningHighlightSaturation: 36
- SplitToningShadowHue: 62
- SplitToningShadowSaturation: 11
- Temperature: 6100
- Tint: -11
- ToneCurve: 0, 0, 137, 109, 255, 255
- ToneCurveName: Custom
- Version: 5.0x27
- Vibrance: +64
- VignetteAmount: 0
- WhiteBalance: As Shot
- XMP-dc
- XMP-exif
- DateTimeDigitized: 2009:04:22 15:52:29.30+04:00
- DateTimeOriginal: 2009:04:22 15:52:29.30+04:00
- FlashFired: False
- FlashFunction: False
- FlashMode: Unknown
- FlashRedEyeMode: False
- FlashReturn: No return detection
- XMP-tiff
- XMP-xmp
- CreateDate: 2009:04:24 20:11:58+04:00
- ModifyDate: 2009:04:24 20:22:34+04:00
- Rating: 0
- XMP-xmpMM
- DerivedFrom:
- Просмотров: 163
- Рейтинг: голосов еще нет
- Отзывов: отключены