- Раздел: Портрет
- Дата съёмки: 28.04.2009 18:14
- Дата загрузки фото: 01.05.2009 15:37
- Оригинальная фотография: 2336 x 3504 (2,8 Мб)
- Технические характеристики:
- Фотоаппарат: Canon EOS 30D
- Выдержка: 1/50
- Гиперфокальное расстояние: 42,64 m
- Диафрагма: 4,5
- Светочувствительность: 100
- Фокусное расстояние: 60,0 mm (35 mm equivalent: 96,1 mm)
- Полный EXIF
- Adobe
- ColorTransform: Unknown (RGB or CMYK)
- Composite
- Aperture: 4,5
- CircleOfConfusion: 0,019 mm
- FOV: 21,0 deg
- FocalLength35efl: 60,0 mm (35 mm equivalent: 96,1 mm)
- HyperfocalDistance: 42,64 m
- ScaleFactor35efl: 1,6
- ShutterSpeed: 1/50
- ExifIFD
- ApertureValue: 4,5
- ColorSpace: Uncalibrated
- CreateDate: 2009:04:28 11:10:21
- CustomRendered: Normal
- DateTimeOriginal: 2009:04:28 11:10:21
- ExifImageHeight: 3504
- ExifImageWidth: 2336
- ExposureCompensation: 0
- ExposureMode: Auto
- ExposureProgram: Shutter speed priority AE
- ExposureTime: 1/50
- FNumber: 4,5
- Flash: Off
- FocalLength: 60,0 mm
- ISO: 100
- MaxApertureValue: 4,0
- MeteringMode: Partial
- SceneCaptureType: Standard
- ShutterSpeedValue: 1/50
- WhiteBalance: Auto
- ICC-header
- IFD0
- Artist: unknown
- Make: Canon
- Model: Canon EOS 30D
- ModifyDate: 2009:04:28 18:14:14
- Orientation: Horizontal (normal)
- IFD1
- IPTC
- By-line: unknown
- XMP-aux
- Firmware: 1.0.5
- FlashCompensation: 0
- ImageNumber: 80
- Lens: EF28-135mm f/3.5-5.6 IS USM
- LensInfo: 28/1 135/1 0/0 0/0
- OwnerName: unknown
- SerialNumber: 1820902381
- XMP-crs
- AlreadyApplied: True
- BlueHue: 0
- BlueSaturation: 0
- Brightness: +4
- CameraProfile: ACR 4.4
- ChromaticAberrationB: 0
- ChromaticAberrationR: 0
- Clarity: 0
- ColorNoiseReduction: 25
- Contrast: +100
- ConvertToGrayscale: True
- Defringe: 0
- Exposure: -0.05
- FillLight: 5
- GrayMixerAqua: -18
- GrayMixerBlue: +9
- GrayMixerGreen: -26
- GrayMixerMagenta: +4
- GrayMixerOrange: -19
- GrayMixerPurple: +15
- GrayMixerRed: -10
- GrayMixerYellow: -22
- GreenHue: 0
- GreenSaturation: 0
- HasCrop: False
- HasSettings: True
- HighlightRecovery: 42
- LuminanceSmoothing: 0
- ParametricDarks: 0
- ParametricHighlightSplit: 75
- ParametricHighlights: 0
- ParametricLights: 0
- ParametricMidtoneSplit: 50
- ParametricShadowSplit: 25
- ParametricShadows: 0
- PostCropVignetteAmount: 0
- RawFileName: IMG_0165.CR2
- RedHue: 0
- RedSaturation: 0
- ShadowTint: 0
- Shadows: 43
- SharpenDetail: 25
- SharpenEdgeMasking: 0
- SharpenRadius: +1.0
- Sharpness: 56
- SplitToningBalance: 0
- SplitToningHighlightHue: 0
- SplitToningHighlightSaturation: 0
- SplitToningShadowHue: 0
- SplitToningShadowSaturation: 0
- Temperature: 7500
- Tint: +10
- ToneCurve: 0, 0, 32, 22, 64, 56, 128, 128, 192, 196, 255, 255
- ToneCurveName: Medium Contrast
- Version: 4.6
- VignetteAmount: -100
- VignetteMidpoint: 50
- WhiteBalance: Shade
- XMP-dc
- Creator: unknown
- Format: image/jpeg
- XMP-exif
- ColorSpace: Unknown (-1)
- DateTimeDigitized: 2009:04:28 11:10:21+04:00
- DateTimeOriginal: 2009:04:28 11:10:21+04:00
- FlashFired: False
- FlashFunction: False
- FlashMode: Off
- FlashRedEyeMode: False
- FlashReturn: No return detection
- XMP-tiff
- XMP-xmp
- CreateDate: 2009:04:28 18:14:14+04:00
- ModifyDate: 2009:04:28 18:14:14+04:00
- Rating: 0
- XMP-xmpMM
- DerivedFrom: