- Раздел: Пейзаж
- Дата съёмки: 04.04.2009 19:14
- Дата загрузки фото: 01.05.2009 22:16
- Оригинальная фотография: 3504 x 1917 (3,0 Мб)
- Технические характеристики:
- Фотоаппарат: Canon EOS 30D
- Выдержка: 1/1250
- Гиперфокальное расстояние: 12,59 m
- Диафрагма: 3,5
- Светочувствительность: 100
- Фокусное расстояние: 28,0 mm (35 mm equivalent: 47,3 mm)
- Полный EXIF
- Adobe
- ColorTransform: YCbCr
- Composite
- Aperture: 3,5
- CircleOfConfusion: 0,018 mm
- FOV: 41,0 deg
- FocalLength35efl: 28,0 mm (35 mm equivalent: 47,3 mm)
- HyperfocalDistance: 12,59 m
- ScaleFactor35efl: 1,7
- ShutterSpeed: 1/1250
- ExifIFD
- ApertureValue: 3,5
- ColorSpace: sRGB
- CreateDate: 2009:04:04 17:44:22
- CustomRendered: Normal
- DateTimeOriginal: 2009:04:04 17:44:22
- ExifImageHeight: 1917
- ExifImageWidth: 3504
- ExposureCompensation: 0
- ExposureMode: Manual
- ExposureProgram: Manual
- ExposureTime: 1/1250
- FNumber: 3,5
- Flash: Off
- FocalLength: 28,0 mm
- ISO: 100
- MaxApertureValue: 3,5
- MeteringMode: Partial
- SceneCaptureType: Standard
- ShutterSpeedValue: 1/1250
- WhiteBalance: Auto
- ICC-header
- ICC-meas
- ICC-view
- IFD0
- Artist: unknown
- Make: Canon
- Model: Canon EOS 30D
- ModifyDate: 2009:04:04 19:14:11
- Orientation: Horizontal (normal)
- TimeZoneOffset: 3 3
- IFD1
- IPTC
- By-line: unknown
- XMP-aux
- Firmware: 1.0.5
- FlashCompensation: 0
- ImageNumber: 112
- Lens: EF28-135mm f/3.5-5.6 IS USM
- LensInfo: 28/1 135/1 0/0 0/0
- OwnerName: unknown
- SerialNumber: 1820902381
- XMP-crs
- AlreadyApplied: True
- BlueHue: 0
- BlueSaturation: 0
- Brightness: +31
- CameraProfile: ACR 3.4
- ChromaticAberrationB: 0
- ChromaticAberrationR: 0
- ColorNoiseReduction: 25
- Contrast: +39
- ConvertToGrayscale: False
- Exposure: -0.75
- FillLight: 0
- GreenHue: 0
- GreenSaturation: 0
- HasCrop: False
- HasSettings: True
- HighlightRecovery: 23
- HueAdjustmentAqua: 0
- HueAdjustmentBlue: 0
- HueAdjustmentGreen: 0
- HueAdjustmentMagenta: 0
- HueAdjustmentOrange: 0
- HueAdjustmentPurple: 0
- HueAdjustmentRed: 0
- HueAdjustmentYellow: 0
- LuminanceAdjustmentAqua: 0
- LuminanceAdjustmentBlue: 0
- LuminanceAdjustmentGreen: 0
- LuminanceAdjustmentMagenta: 0
- LuminanceAdjustmentOrange: 0
- LuminanceAdjustmentPurple: 0
- LuminanceAdjustmentRed: 0
- LuminanceAdjustmentYellow: 0
- LuminanceSmoothing: 0
- ParametricDarks: 0
- ParametricHighlightSplit: 75
- ParametricHighlights: 0
- ParametricLights: 0
- ParametricMidtoneSplit: 50
- ParametricShadowSplit: 25
- ParametricShadows: 0
- RawFileName: IMG_9351.CR2
- RedHue: 0
- RedSaturation: 0
- Saturation: 0
- SaturationAdjustmentAqua: 0
- SaturationAdjustmentBlue: 0
- SaturationAdjustmentGreen: 0
- SaturationAdjustmentMagenta: 0
- SaturationAdjustmentOrange: 0
- SaturationAdjustmentPurple: 0
- SaturationAdjustmentRed: 0
- SaturationAdjustmentYellow: 0
- ShadowTint: 0
- Shadows: 4
- Sharpness: 25
- SplitToningBalance: 0
- SplitToningHighlightHue: 0
- SplitToningHighlightSaturation: 0
- SplitToningShadowHue: 0
- SplitToningShadowSaturation: 0
- Temperature: 3650
- Tint: -3
- ToneCurve: 0, 0, 32, 22, 64, 56, 128, 128, 192, 196, 255, 255
- ToneCurveName: Medium Contrast
- Version: 4.0
- Vibrance: 0
- VignetteAmount: 0
- WhiteBalance: Custom
- XMP-dc
- Creator: unknown
- Format: image/jpeg
- XMP-exif
- DateTimeDigitized: 2009:04:04 17:44:22+03:00
- DateTimeOriginal: 2009:04:04 17:44:22+03:00
- FlashFired: False
- FlashFunction: False
- FlashMode: Off
- FlashRedEyeMode: False
- FlashReturn: No return detection
- XMP-tiff
- XMP-xmp
- CreateDate: 2009:04:04 19:14:11+03:00
- ModifyDate: 2009:04:04 19:14:11+03:00
- Rating: 0
- XMP-xmpMM
- DerivedFrom:
- Просмотров: 433
- Рейтинг: голосов еще нет
- Отзывов: 0