- Раздел: Портрет
- Дата съёмки: 30.04.2009 20:06
- Дата загрузки фото: 03.05.2009 16:46
- Оригинальная фотография: 3072 x 2048 (2,6 Мб)
- Технические характеристики:
- Фотоаппарат: Canon EOS 10D
- Выдержка: 1/100
- Диафрагма: 2,5
- Светочувствительность: 100
- Фокусное расстояние: 35,0 mm
- Экспокоррекция: +2/3
- Полный EXIF
- Adobe
- ColorTransform: YCbCr
- Composite
- Aperture: 2,5
- FocalLength35efl: 35,0 mm
- ShutterSpeed: 1/100
- ExifIFD
- ApertureValue: 2,5
- CreateDate: 2009:04:30 20:06:36
- DateTimeOriginal: 2009:04:30 20:06:36
- ExposureCompensation: +2/3
- ExposureProgram: Program AE
- ExposureTime: 1/100
- FNumber: 2,5
- Flash: No Flash
- FocalLength: 35,0 mm
- ISO: 100
- MaxApertureValue: 1,4
- MeteringMode: Multi-segment
- ShutterSpeedValue: 1/100
- ICC-header
- ICC-meas
- ICC-view
- IFD0
- Make: Canon
- Model: Canon EOS 10D
- ModifyDate: 2009:05:03 16:45:10
- IFD1
- XMP-aux
- Firmware: 2.0.1
- Lens: 35.0 mm
- LensInfo: 35/1 35/1 0/0 0/0
- SerialNumber: 1720511286
- XMP-crs
- AlreadyApplied: True
- BlueHue: 0
- BlueSaturation: 0
- Brightness: +50
- ChromaticAberrationB: 0
- ChromaticAberrationR: 0
- Clarity: +60
- ColorNoiseReduction: 25
- Contrast: +60
- ConvertToGrayscale: False
- Defringe: 0
- Exposure: +0.66
- FillLight: 0
- GreenHue: 0
- GreenSaturation: 0
- HasCrop: False
- HasSettings: True
- HighlightRecovery: 0
- HueAdjustmentAqua: 0
- HueAdjustmentBlue: 0
- HueAdjustmentGreen: 0
- HueAdjustmentMagenta: 0
- HueAdjustmentOrange: 0
- HueAdjustmentPurple: 0
- HueAdjustmentRed: 0
- HueAdjustmentYellow: 0
- LuminanceAdjustmentAqua: 0
- LuminanceAdjustmentBlue: 0
- LuminanceAdjustmentGreen: 0
- LuminanceAdjustmentMagenta: 0
- LuminanceAdjustmentOrange: 0
- LuminanceAdjustmentPurple: 0
- LuminanceAdjustmentRed: 0
- LuminanceAdjustmentYellow: 0
- LuminanceSmoothing: 0
- ParametricDarks: 0
- ParametricHighlightSplit: 75
- ParametricHighlights: 0
- ParametricLights: 0
- ParametricMidtoneSplit: 50
- ParametricShadowSplit: 25
- ParametricShadows: 0
- PostCropVignetteAmount: 0
- RedHue: 0
- RedSaturation: 0
- Saturation: 0
- SaturationAdjustmentAqua: 0
- SaturationAdjustmentBlue: 0
- SaturationAdjustmentGreen: 0
- SaturationAdjustmentMagenta: 0
- SaturationAdjustmentOrange: 0
- SaturationAdjustmentPurple: 0
- SaturationAdjustmentRed: 0
- SaturationAdjustmentYellow: 0
- ShadowTint: 0
- Shadows: 25
- SharpenDetail: 25
- SharpenEdgeMasking: 0
- SharpenRadius: +1.0
- Sharpness: 25
- SplitToningBalance: 0
- SplitToningHighlightHue: 0
- SplitToningHighlightSaturation: 0
- SplitToningShadowHue: 0
- SplitToningShadowSaturation: 0
- Temperature: 5850
- Tint: +6
- ToneCurve: 0, 0, 32, 22, 64, 56, 128, 128, 192, 196, 255, 255
- ToneCurveName: Medium Contrast
- Version: 5.3
- Vibrance: +40
- VignetteAmount: 0
- WhiteBalance: As Shot
- XMP-exif
- DateTimeDigitized: 2009:04:30 20:06:36+04:00
- DateTimeOriginal: 2009:04:30 20:06:36+04:00
- ExifImageHeight: 2048
- ExifImageWidth: 3072
- FlashFired: False
- XMP-tiff
- ImageHeight: 2048
- ImageWidth: 3072
- XMP-xmp
- CreateDate: 2009:04:30 20:06:36+04:00
- ModifyDate: 2009:05:03 16:45:10+04:00