- Раздел: Другое, разное
- Дата съёмки: 27.04.2009 15:31
- Дата загрузки фото: 03.05.2009 17:54
- Оригинальная фотография: 643 x 958 (187 Кб)
- Технические характеристики:
- Фотоаппарат: Canon EOS 400D DIGITAL
- Выдержка: 1/500
- Гиперфокальное расстояние: 447,77 m
- Диафрагма: 8,0
- Светочувствительность: 400
- Фокусное расстояние: 214,0 mm (35 mm equivalent: 502,9 mm)
- Экспокоррекция: -1/3
- Полный EXIF
- Composite
- Aperture: 8,0
- CircleOfConfusion: 0,013 mm
- FOV: 4,0 deg
- FocalLength35efl: 214,0 mm (35 mm equivalent: 502,9 mm)
- HyperfocalDistance: 447,77 m
- ScaleFactor35efl: 2,4
- ShutterSpeed: 1/500
- ExifIFD
- ApertureValue: 8,0
- ColorSpace: Unknown ()
- CreateDate: 2009:04:26 11:43:52
- CustomRendered: Normal
- DateTimeOriginal: 2009:04:26 11:43:52
- ExifImageHeight: 958
- ExifImageWidth: 643
- ExposureCompensation: -1/3
- ExposureMode: Auto
- ExposureProgram: Aperture-priority AE
- ExposureTime: 1/500
- FNumber: 8,0
- Flash: Off
- FocalLength: 214,0 mm
- ISO: 400
- MaxApertureValue: 5,6
- MeteringMode: Multi-segment
- SceneCaptureType: Standard
- ShutterSpeedValue: 1/500
- WhiteBalance: Auto
- ICC-header
- IFD0
- Artist: unknown
- Make: Canon
- Model: Canon EOS 400D DIGITAL
- ModifyDate: 2009:05:01 23:26:59
- Orientation: Horizontal (normal)
- Software: ACD Systems Digital Imaging
- IFD1
- IPTC
- By-line: unknown
- Caption-Abstract: Squirrel
- Keywords: squirrel, rodent, request, fur, attention, animal, nut, nature, supervision, park, wood, tail, fluffy, alarm
- XMP-aux
- Firmware: 1.0.4
- FlashCompensation: 0
- ImageNumber: 96
- Lens: 55.0-250.0 mm
- LensInfo: 55/1 250/1 0/0 0/0
- OwnerName: unknown
- SerialNumber: 430124338
- XMP-crs
- AlreadyApplied: True
- BlueHue: 0
- BlueSaturation: 0
- Brightness: +50
- CameraProfile: ACR 4.4
- ChromaticAberrationB: 0
- ChromaticAberrationR: 0
- Clarity: 0
- ColorNoiseReduction: 0
- Contrast: +28
- ConvertToGrayscale: False
- CropAngle: 0
- CropBottom: 0.993914
- CropHeight: 5
- CropLeft: 0.201422
- CropRight: 0.719194
- CropTop: 0.023091
- CropUnit: 3
- CropWidth: 4
- Defringe: 0
- Exposure: 0.00
- FillLight: 44
- GreenHue: 0
- GreenSaturation: 0
- HasCrop: True
- HasSettings: True
- HighlightRecovery: 0
- HueAdjustmentAqua: 0
- HueAdjustmentBlue: 0
- HueAdjustmentGreen: 0
- HueAdjustmentMagenta: 0
- HueAdjustmentOrange: 0
- HueAdjustmentPurple: 0
- HueAdjustmentRed: 0
- HueAdjustmentYellow: 0
- LuminanceAdjustmentAqua: 0
- LuminanceAdjustmentBlue: 0
- LuminanceAdjustmentGreen: 0
- LuminanceAdjustmentMagenta: 0
- LuminanceAdjustmentOrange: 0
- LuminanceAdjustmentPurple: 0
- LuminanceAdjustmentRed: 0
- LuminanceAdjustmentYellow: 0
- LuminanceSmoothing: 0
- ParametricDarks: 0
- ParametricHighlightSplit: 75
- ParametricHighlights: 0
- ParametricLights: 0
- ParametricMidtoneSplit: 50
- ParametricShadowSplit: 25
- ParametricShadows: 0
- PostCropVignetteAmount: 0
- RawFileName: IMG_9398.CR2
- RedHue: 0
- RedSaturation: 0
- Saturation: +14
- SaturationAdjustmentAqua: 0
- SaturationAdjustmentBlue: 0
- SaturationAdjustmentGreen: 0
- SaturationAdjustmentMagenta: 0
- SaturationAdjustmentOrange: 0
- SaturationAdjustmentPurple: 0
- SaturationAdjustmentRed: 0
- SaturationAdjustmentYellow: 0
- ShadowTint: 0
- Shadows: 8
- SharpenDetail: 0
- SharpenEdgeMasking: 0
- SharpenRadius: +0.5
- Sharpness: 0
- SplitToningBalance: 0
- SplitToningHighlightHue: 0
- SplitToningHighlightSaturation: 0
- SplitToningShadowHue: 0
- SplitToningShadowSaturation: 0
- Temperature: 4800
- Tint: +4
- ToneCurve: 0, 0, 32, 22, 64, 56, 128, 128, 192, 196, 255, 255
- ToneCurveName: Medium Contrast
- Version: 4.6
- Vibrance: +39
- VignetteAmount: 0
- WhiteBalance: As Shot
- XMP-dc
- Creator: unknown
- Description: Squirrel
- Format: image/jpeg
- Subject: squirrel, rodent, request, fur, attention, animal, nut, nature, supervision, park, wood, tail, fluffy, alarm
- XMP-exif
- ColorSpace: Unknown (0)
- DateTimeDigitized: 2009:04:26 11:43:52.0+3:00
- DateTimeOriginal: 2009:04:26 11:43:52.0+3:00
- ExifImageHeight: 2516
- ExifImageWidth: 2013
- FlashFired: False
- FlashFunction: False
- FlashMode: Off
- FlashRedEyeMode: False
- FlashReturn: No return detection
- XMP-tiff
- XMP-xmp
- CreateDate: 2009:04:27 15:31:32+04:00
- ModifyDate: 2009:04:27 14:31:32.0+3:00
- Rating: 0
- XMP-xmpMM
- DerivedFrom: