- Раздел: Спорт
- Дата съёмки: 03.05.2009 13:59
- Дата загрузки фото: 09.05.2009 12:49
- Оригинальная фотография: 1066 x 1600 (889 Кб)
- Технические характеристики:
- Фотоаппарат: Canon EOS 40D
- Выдержка: 1/1000
- Гиперфокальное расстояние: 934,30 m
- Диафрагма: 7,1
- Светочувствительность: 250
- Фокусное расстояние: 225,0 mm (35 mm equivalent: 885,8 mm)
- Полный EXIF
- Adobe
- ColorTransform: YCbCr
- Composite
- Aperture: 7,1
- CircleOfConfusion: 0,008 mm
- FOV: 2,0 deg
- FocalLength35efl: 225,0 mm (35 mm equivalent: 885,8 mm)
- HyperfocalDistance: 934,30 m
- ScaleFactor35efl: 3,9
- ShutterSpeed: 1/1000
- ExifIFD
- ApertureValue: 7,1
- CreateDate: 2009:05:03 13:59:34
- CustomRendered: Normal
- DateTimeOriginal: 2009:05:03 13:59:34
- ExposureCompensation: 0
- ExposureMode: Manual
- ExposureProgram: Manual
- ExposureTime: 1/1000
- FNumber: 7,1
- Flash: Off
- FocalLength: 225,0 mm
- ISO: 250
- MaxApertureValue: 5,2
- MeteringMode: Multi-segment
- SceneCaptureType: Standard
- ShutterSpeedValue: 1/1000
- WhiteBalance: Auto
- ICC-header
- ICC-meas
- ICC-view
- IFD0
- Artist: Vasiliy A. Timofeyev
- Copyright: (C) 2009 Vasiliy A. Timofeyev
- ImageDescription: ??????? ????? - ???????????
- Make: Canon
- Model: Canon EOS 40D
- ModifyDate: 2009:05:09 01:19:07
- IFD1
- IPTC
- By-line: Vasiliy A. Timofeyev
- Caption-Abstract: ГЌГҐГўГ±ГЄГЁГ© ÔðîГГІ - Îðà ГГЁГҐГГЎГ ГіГ¬
- CopyrightNotice: (C) 2009 Vasiliy A. Timofeyev
- ObjectName: ГЌГҐГўГ±ГЄГЁГ© ÔðîГГІ - Îðà ГГЁГҐГГЎГ ГіГ¬
- Sub-location: vasiliy@timofeyev.ru
- XMP-aux
- Firmware: 1.0.8
- FlashCompensation: 0
- ImageNumber: 0
- Lens: EF70-300mm f/4-5.6 IS USM
- LensInfo: 70/1 300/1 0/0 0/0
- OwnerName: VT
- SerialNumber: 910505676
- XMP-crs
- AlreadyApplied: True
- BlueHue: 0
- BlueSaturation: 0
- Brightness: +50
- ChromaticAberrationB: 0
- ChromaticAberrationR: 0
- Clarity: 0
- ColorNoiseReduction: 25
- Contrast: +25
- ConvertToGrayscale: False
- CropAngle: 0
- CropBottom: 0.864712
- CropHeight: 1600
- CropLeft: 0.205106
- CropRight: 0.58931
- CropTop: 0
- CropUnit: 0
- CropWidth: 1066
- Defringe: 0
- Exposure: +0.38
- FillLight: 0
- GreenHue: 0
- GreenSaturation: 0
- HasCrop: True
- HasSettings: True
- HighlightRecovery: 0
- HueAdjustmentAqua: 0
- HueAdjustmentBlue: 0
- HueAdjustmentGreen: 0
- HueAdjustmentMagenta: 0
- HueAdjustmentOrange: 0
- HueAdjustmentPurple: 0
- HueAdjustmentRed: 0
- HueAdjustmentYellow: 0
- LuminanceAdjustmentAqua: 0
- LuminanceAdjustmentBlue: 0
- LuminanceAdjustmentGreen: 0
- LuminanceAdjustmentMagenta: 0
- LuminanceAdjustmentOrange: 0
- LuminanceAdjustmentPurple: 0
- LuminanceAdjustmentRed: 0
- LuminanceAdjustmentYellow: 0
- LuminanceSmoothing: 0
- ParametricDarks: 0
- ParametricHighlightSplit: 75
- ParametricHighlights: 0
- ParametricLights: 0
- ParametricMidtoneSplit: 50
- ParametricShadowSplit: 25
- ParametricShadows: 0
- PostCropVignetteAmount: 0
- RedHue: 0
- RedSaturation: 0
- Saturation: 0
- SaturationAdjustmentAqua: 0
- SaturationAdjustmentBlue: 0
- SaturationAdjustmentGreen: 0
- SaturationAdjustmentMagenta: 0
- SaturationAdjustmentOrange: 0
- SaturationAdjustmentPurple: 0
- SaturationAdjustmentRed: 0
- SaturationAdjustmentYellow: 0
- ShadowTint: 0
- Shadows: 5
- SharpenDetail: 25
- SharpenEdgeMasking: 0
- SharpenRadius: +0.9
- Sharpness: 64
- SplitToningBalance: 0
- SplitToningHighlightHue: 0
- SplitToningHighlightSaturation: 0
- SplitToningShadowHue: 0
- SplitToningShadowSaturation: 0
- Temperature: 4800
- Tint: +7
- ToneCurve: 0, 0, 32, 22, 64, 56, 128, 128, 192, 196, 255, 255
- ToneCurveName: Medium Contrast
- Version: 5.3
- Vibrance: +64
- VignetteAmount: 0
- WhiteBalance: As Shot
- XMP-dc
- Creator: Vasiliy A. Timofeyev
- Description: Невский Фронт - Ораниенбаум
- Rights: (C) 2009 Vasiliy A. Timofeyev
- Title: Невский Фронт - Ораниенбаум
- XMP-exif
- DateTimeDigitized: 2009:05:03 13:59:34.89+04:00
- DateTimeOriginal: 2009:05:03 13:59:34.89+04:00
- ExifImageHeight: 1600
- ExifImageWidth: 1066
- FlashFired: False
- FlashFunction: False
- FlashMode: Off
- FlashRedEyeMode: False
- FlashReturn: No return detection
- XMP-iptcCore
- Location: vasiliy@timofeyev.ru
- XMP-tiff
- ImageHeight: 1600
- ImageWidth: 1066
- XMP-xmp
- CreateDate: 2009:05:03 13:59:34.89+04:00
- ModifyDate: 2009:05:09 01:19:07+04:00
- Rating: 3
- XMP-xmpRights
- Marked: True
- WebStatement: vasiliy@timofeyev.ru
- Просмотров: 167
- Рейтинг: голосов еще нет
- Отзывов: 0