- Раздел: Репортаж
- Дата съёмки: 10.05.2009 12:54
- Дата загрузки фото: 12.05.2009 22:36
- Оригинальная фотография: 1200 x 1042 (288 Кб)
- Технические характеристики:
- Фотоаппарат: Nikon D90
- Выдержка: 1/1500
- Гиперфокальное расстояние: 97,97 m
- Диафрагма: 5,6
- Светочувствительность: 400
- Фокусное расстояние: 105,0 mm (35 mm equivalent: 157,0 mm)
- Полный EXIF
- Adobe
- ColorTransform: YCbCr
- Composite
- Aperture: 5,6
- CircleOfConfusion: 0,020 mm
- FOV: 13,0 deg
- FocalLength35efl: 105,0 mm (35 mm equivalent: 157,0 mm)
- HyperfocalDistance: 97,97 m
- ScaleFactor35efl: 1,5
- ShutterSpeed: 1/1500
- ExifIFD
- ApertureValue: 5,6
- CFAPattern: [Green,Blue][Red,Green]
- Contrast: Normal
- CreateDate: 2009:05:10 12:54:48
- CustomRendered: Normal
- DateTimeOriginal: 2009:05:10 12:54:48
- DigitalZoomRatio: 1
- ExposureCompensation: 0
- ExposureMode: Auto
- ExposureProgram: Not Defined
- ExposureTime: 1/1500
- FNumber: 5,6
- Flash: Auto, Did not fire
- FocalLength: 105,0 mm
- FocalLengthIn35mmFormat: 157 mm
- GainControl: Low gain up
- ISO: 400
- LightSource: Unknown
- MaxApertureValue: 5,7
- MeteringMode: Multi-segment
- Saturation: Normal
- SceneCaptureType: Portrait
- SceneType: Directly photographed
- SensingMethod: One-chip color area
- Sharpness: Normal
- ShutterSpeedValue: 1/1500
- SubjectDistanceRange: Unknown
- WhiteBalance: Auto
- ICC-header
- ICC-meas
- ICC-view
- IFD0
- Copyright: Bjatta
- Make: NIKON CORPORATION
- Model: NIKON D90
- ModifyDate: 2009:05:12 21:30:08
- Software: Ver.1.00
- IFD1
- IPTC
- By-line: Bjatta
- CopyrightNotice: Bjatta
- Keywords: 10 ìà ÿ, 2009, Ìîçûðü, ëþäè, ïà ïà ðà ööè, ïà ðê
- Source: http://bjatta.livejournal.com/
- Sub-location: http://bjatta.livejournal.com/
- XMP-aux
- ImageNumber: 7923
- Lens: 18.0-105.0 mm f/3.5-5.6
- LensInfo: 180/10 1050/10 35/10 56/10
- SerialNumber: 6106359
- XMP-crs
- AlreadyApplied: True
- BlueHue: 0
- BlueSaturation: 0
- Brightness: +44
- ChromaticAberrationB: 0
- ChromaticAberrationR: 0
- Clarity: 0
- ColorNoiseReduction: 25
- Contrast: +20
- ConvertToGrayscale: False
- CropAngle: 0
- CropBottom: 1
- CropHeight: 1200
- CropLeft: 0.272953
- CropRight: 0.759305
- CropTop: 0.157009
- CropUnit: 0
- CropWidth: 1042
- Defringe: 0
- Exposure: 0.00
- FillLight: 0
- GreenHue: 0
- GreenSaturation: 0
- HasCrop: True
- HasSettings: True
- HighlightRecovery: 21
- HueAdjustmentAqua: 0
- HueAdjustmentBlue: 0
- HueAdjustmentGreen: 0
- HueAdjustmentMagenta: 0
- HueAdjustmentOrange: 0
- HueAdjustmentPurple: 0
- HueAdjustmentRed: 0
- HueAdjustmentYellow: 0
- LuminanceAdjustmentAqua: 0
- LuminanceAdjustmentBlue: 0
- LuminanceAdjustmentGreen: 0
- LuminanceAdjustmentMagenta: 0
- LuminanceAdjustmentOrange: 0
- LuminanceAdjustmentPurple: 0
- LuminanceAdjustmentRed: 0
- LuminanceAdjustmentYellow: 0
- LuminanceSmoothing: 0
- ParametricDarks: 0
- ParametricHighlightSplit: 75
- ParametricHighlights: 0
- ParametricLights: 0
- ParametricMidtoneSplit: 50
- ParametricShadowSplit: 25
- ParametricShadows: 0
- PostCropVignetteAmount: 0
- RedHue: 0
- RedSaturation: 0
- Saturation: 0
- SaturationAdjustmentAqua: 0
- SaturationAdjustmentBlue: 0
- SaturationAdjustmentGreen: 0
- SaturationAdjustmentMagenta: 0
- SaturationAdjustmentOrange: 0
- SaturationAdjustmentPurple: 0
- SaturationAdjustmentRed: 0
- SaturationAdjustmentYellow: 0
- ShadowTint: 0
- Shadows: 2
- SharpenDetail: 25
- SharpenEdgeMasking: 0
- SharpenRadius: +1.0
- Sharpness: 25
- SplitToningBalance: 0
- SplitToningHighlightHue: 0
- SplitToningHighlightSaturation: 0
- SplitToningShadowHue: 0
- SplitToningShadowSaturation: 0
- Temperature: 4850
- Tint: -14
- ToneCurve: 0, 0, 32, 22, 64, 56, 128, 128, 192, 196, 255, 255
- ToneCurveName: Medium Contrast
- Version: 5.3
- Vibrance: 0
- VignetteAmount: 0
- WhiteBalance: As Shot
- XMP-dc
- Creator: Bjatta
- Rights: Bjatta
- Subject: 10 мая, 2009, Мозырь, люди, папарацци, парк
- XMP-exif
- DateTimeDigitized: 2009:05:10 12:54:48.00+03:00
- DateTimeOriginal: 2009:05:10 12:54:48.00+03:00
- ExifImageHeight: 1042
- ExifImageWidth: 1200
- ExposureProgram: Unknown (0)
- FlashFired: False
- FlashFunction: False
- FlashMode: Auto
- FlashRedEyeMode: False
- FlashReturn: No return detection
- XMP-iptcCore
- CreatorContactInfoCiEmailWork: wesh@ya.ru
- CreatorContactInfoCiUrlWork: http://bjatta.livejournal.com/
- Location: http://bjatta.livejournal.com/
- XMP-lr
- HierarchicalSubject: 10 мая, 2009, Мозырь, люди, папарацци, парк
- XMP-tiff
- ImageHeight: 1042
- ImageWidth: 1200
- XMP-xmp
- CreateDate: 2009:05:10 12:54:48.00+03:00
- ModifyDate: 2009:05:12 21:30:08+03:00
- XMP-xmpRights
- Marked: True
- UsageTerms: free
- Просмотров: 198
- Рейтинг: голосов еще нет
- Отзывов: 0