- Раздел: Тесты фототехники
- Дата съёмки: 19.05.2009 20:59
- Дата загрузки фото: 19.05.2009 22:32
- Оригинальная фотография: 680 x 1024 (131 Кб)
- Технические характеристики:
- Фотоаппарат: Nikon D90
- Выдержка: 1/30
- Гиперфокальное расстояние: 33,59 m
- Диафрагма: 5,0
- Светочувствительность: 640
- Фокусное расстояние: 58,0 mm (35 mm equivalent: 87,0 mm)
- Полный EXIF
- Adobe
- ColorTransform: YCbCr
- Composite
- Aperture: 5,0
- CircleOfConfusion: 0,020 mm
- FOV: 23,0 deg
- FocalLength35efl: 58,0 mm (35 mm equivalent: 87,0 mm)
- HyperfocalDistance: 33,59 m
- ScaleFactor35efl: 1,5
- ShutterSpeed: 1/30
- ExifIFD
- ApertureValue: 5,0
- CFAPattern: [Green,Blue][Red,Green]
- Contrast: Normal
- CreateDate: 2009:05:19 20:59:09
- CustomRendered: Normal
- DateTimeOriginal: 2009:05:19 20:59:09
- DigitalZoomRatio: 1
- ExposureCompensation: 0
- ExposureMode: Auto
- ExposureProgram: Not Defined
- ExposureTime: 1/30
- FNumber: 5,0
- Flash: Auto, Fired, Return detected
- FocalLength: 58,0 mm
- FocalLengthIn35mmFormat: 87 mm
- GainControl: Low gain up
- ISO: 640
- LightSource: Unknown
- MaxApertureValue: 5,1
- MeteringMode: Multi-segment
- Saturation: Normal
- SceneCaptureType: Portrait
- SceneType: Directly photographed
- SensingMethod: One-chip color area
- Sharpness: Normal
- ShutterSpeedValue: 1/30
- SubjectDistanceRange: Unknown
- WhiteBalance: Auto
- ICC-header
- ICC-meas
- ICC-view
- IFD0
- Copyright: Bjatta
- Make: NIKON CORPORATION
- Model: NIKON D90
- ModifyDate: 2009:05:19 21:19:29
- Software: Ver.1.00
- IFD1
- IPTC
- By-line: Bjatta
- CopyrightNotice: Bjatta
- Keywords: 2009, Ìîçûðü, äîìà , òåñò
- Source: http://bjatta.livejournal.com/
- Sub-location: http://bjatta.livejournal.com/
- XMP-aux
- ImageNumber: 8135
- Lens: 18.0-105.0 mm f/3.5-5.6
- LensInfo: 180/10 1050/10 35/10 56/10
- SerialNumber: 6106359
- XMP-crs
- AlreadyApplied: True
- BlueHue: 0
- BlueSaturation: 0
- Brightness: +61
- ChromaticAberrationB: 0
- ChromaticAberrationR: 0
- Clarity: 0
- ColorNoiseReduction: 25
- Contrast: +36
- ConvertToGrayscale: False
- Defringe: 0
- Exposure: -0.48
- FillLight: 38
- GreenHue: 0
- GreenSaturation: 0
- HasCrop: False
- HasSettings: True
- HighlightRecovery: 55
- HueAdjustmentAqua: 0
- HueAdjustmentBlue: 0
- HueAdjustmentGreen: 0
- HueAdjustmentMagenta: 0
- HueAdjustmentOrange: 0
- HueAdjustmentPurple: 0
- HueAdjustmentRed: 0
- HueAdjustmentYellow: 0
- LuminanceAdjustmentAqua: 0
- LuminanceAdjustmentBlue: 0
- LuminanceAdjustmentGreen: 0
- LuminanceAdjustmentMagenta: 0
- LuminanceAdjustmentOrange: 0
- LuminanceAdjustmentPurple: 0
- LuminanceAdjustmentRed: 0
- LuminanceAdjustmentYellow: 0
- LuminanceSmoothing: 0
- ParametricDarks: 0
- ParametricHighlightSplit: 75
- ParametricHighlights: 0
- ParametricLights: 0
- ParametricMidtoneSplit: 50
- ParametricShadowSplit: 25
- ParametricShadows: 0
- PostCropVignetteAmount: 0
- RedHue: 0
- RedSaturation: 0
- Saturation: 0
- SaturationAdjustmentAqua: 0
- SaturationAdjustmentBlue: 0
- SaturationAdjustmentGreen: 0
- SaturationAdjustmentMagenta: 0
- SaturationAdjustmentOrange: 0
- SaturationAdjustmentPurple: 0
- SaturationAdjustmentRed: 0
- SaturationAdjustmentYellow: 0
- ShadowTint: 0
- Shadows: 3
- SharpenDetail: 25
- SharpenEdgeMasking: 0
- SharpenRadius: +1.0
- Sharpness: 25
- SplitToningBalance: 0
- SplitToningHighlightHue: 0
- SplitToningHighlightSaturation: 0
- SplitToningShadowHue: 0
- SplitToningShadowSaturation: 0
- Temperature: 5400
- Tint: -9
- ToneCurve: 0, 0, 32, 22, 64, 56, 128, 128, 192, 196, 255, 255
- ToneCurveName: Medium Contrast
- Version: 5.3
- Vibrance: 0
- VignetteAmount: 0
- WhiteBalance: As Shot
- XMP-dc
- Creator: Bjatta
- Rights: Bjatta
- Subject: 2009, Мозырь, дома, тест
- XMP-exif
- DateTimeDigitized: 2009:05:19 20:59:09.00+03:00
- DateTimeOriginal: 2009:05:19 20:59:09.00+03:00
- ExifImageHeight: 1024
- ExifImageWidth: 680
- ExposureProgram: Unknown (0)
- FlashFired: True
- FlashFunction: False
- FlashMode: Auto
- FlashRedEyeMode: False
- FlashReturn: Return detected
- XMP-iptcCore
- CreatorContactInfoCiEmailWork: wesh@ya.ru
- CreatorContactInfoCiUrlWork: http://bjatta.livejournal.com/
- Location: http://bjatta.livejournal.com/
- XMP-lr
- HierarchicalSubject: 2009, Мозырь, дома, тест
- XMP-tiff
- ImageHeight: 1024
- ImageWidth: 680
- XMP-xmp
- CreateDate: 2009:05:19 20:59:09.00+03:00
- ModifyDate: 2009:05:19 21:19:29+03:00
- XMP-xmpRights
- Marked: True
- UsageTerms: free
- Просмотров: 134
- Рейтинг: голосов еще нет
- Отзывов: 0