- Раздел: Я, любимый(ая)
- Дата съёмки: 28.05.2009 19:01
- Дата загрузки фото: 29.05.2009 22:18
- Оригинальная фотография: 1657 x 2485 (1,6 Мб)
- Технические характеристики:
- Фотоаппарат: Canon EOS 350D DIGITAL
- Выдержка: 1/200
- Гиперфокальное расстояние: 46,95 m
- Диафрагма: 4,0
- Светочувствительность: 100
- Фокусное расстояние: 50,0 mm (35 mm equivalent: 112,8 mm)
- Полный EXIF
- Adobe
- ColorTransform: YCbCr
- Composite
- Aperture: 4,0
- CircleOfConfusion: 0,013 mm
- FOV: 18,0 deg
- FocalLength35efl: 50,0 mm (35 mm equivalent: 112,8 mm)
- HyperfocalDistance: 46,95 m
- ScaleFactor35efl: 2,3
- ShutterSpeed: 1/200
- ExifIFD
- ApertureValue: 4,0
- CreateDate: 2009:05:28 19:01:39
- CustomRendered: Normal
- DateTimeOriginal: 2009:05:28 19:01:39
- ExposureCompensation: 0
- ExposureMode: Auto
- ExposureProgram: Aperture-priority AE
- ExposureTime: 1/200
- FNumber: 4,0
- Flash: On
- FocalLength: 50,0 mm
- ISO: 100
- MaxApertureValue: 1,8
- MeteringMode: Average
- SceneCaptureType: Standard
- ShutterSpeedValue: 1/200
- WhiteBalance: Auto
- ICC-header
- ICC-meas
- ICC-view
- IFD0
- Artist: Sergey A Borminsky
- Make: Canon
- Model: Canon EOS 350D DIGITAL
- ModifyDate: 2009:05:29 23:16:39
- IFD1
- IPTC
- By-line: Sergey A Borminsky
- XMP-aux
- Firmware: 1.0.3
- FlashCompensation: 1
- ImageNumber: 133
- Lens: 50.0 mm
- LensInfo: 50/1 50/1 0/0 0/0
- OwnerName: Sergey A Borminsky
- SerialNumber: 1430720749
- XMP-crs
- AlreadyApplied: True
- BlueHue: 0
- BlueSaturation: 0
- Brightness: +50
- ChromaticAberrationB: 0
- ChromaticAberrationR: 0
- Clarity: +21
- ColorNoiseReduction: 25
- Contrast: +25
- ConvertToGrayscale: True
- CropAngle: 0
- CropBottom: 0.890825
- CropHeight: 1657
- CropLeft: 0.060142
- CropRight: 0.779285
- CropTop: 0.171682
- CropUnit: 0
- CropWidth: 2485
- Defringe: 0
- Exposure: 0.00
- FillLight: 26
- GrayMixerAqua: -10
- GrayMixerBlue: +20
- GrayMixerGreen: -17
- GrayMixerMagenta: +32
- GrayMixerOrange: +12
- GrayMixerPurple: +25
- GrayMixerRed: +39
- GrayMixerYellow: -9
- GreenHue: 0
- GreenSaturation: 0
- HasCrop: True
- HasSettings: True
- HighlightRecovery: 0
- LuminanceSmoothing: 0
- ParametricDarks: -17
- ParametricHighlightSplit: 75
- ParametricHighlights: 0
- ParametricLights: +28
- ParametricMidtoneSplit: 50
- ParametricShadowSplit: 25
- ParametricShadows: 0
- PostCropVignetteAmount: -14
- PostCropVignetteFeather: 50
- PostCropVignetteMidpoint: 7
- PostCropVignetteRoundness: 0
- RedHue: 0
- RedSaturation: 0
- ShadowTint: 0
- Shadows: 2
- SharpenDetail: 25
- SharpenEdgeMasking: 0
- SharpenRadius: +1.0
- Sharpness: 37
- SplitToningBalance: 0
- SplitToningHighlightHue: 51
- SplitToningHighlightSaturation: 22
- SplitToningShadowHue: 37
- SplitToningShadowSaturation: 32
- Temperature: 5550
- Tint: -4
- ToneCurve: 0, 0, 32, 22, 64, 56, 128, 128, 192, 196, 255, 255
- ToneCurveName: Medium Contrast
- Version: 5.3
- VignetteAmount: 0
- WhiteBalance: Custom
- XMP-dc
- Creator: Sergey A Borminsky
- XMP-exif
- DateTimeDigitized: 2009:05:28 19:01:39+05:00
- DateTimeOriginal: 2009:05:28 19:01:39+05:00
- ExifImageHeight: 2485
- ExifImageWidth: 1657
- FlashFired: True
- FlashFunction: False
- FlashMode: On
- FlashRedEyeMode: False
- FlashReturn: No return detection
- XMP-tiff
- ImageHeight: 2485
- ImageWidth: 1657
- XMP-xmp
- CreateDate: 2009:05:28 19:01:39+05:00
- ModifyDate: 2009:05:29 23:16:39+05:00