- Раздел: Портрет
- Дата съёмки: 31.05.2009 10:44
- Дата загрузки фото: 03.06.2009 09:14
- Оригинальная фотография: 667 x 1000 (402 Кб)
- Технические характеристики:
- Фотоаппарат: Canon EOS 40D
- Выдержка: 1/250
- Гиперфокальное расстояние: 1403,72 m
- Диафрагма: 5,0
- Светочувствительность: 100
- Фокусное расстояние: 183,0 mm (35 mm equivalent: 1152,4 mm)
- Полный EXIF
- Adobe
- ColorTransform: YCbCr
- Composite
- Aperture: 5,0
- CircleOfConfusion: 0,005 mm
- FOV: 1,0 deg
- FocalLength35efl: 183,0 mm (35 mm equivalent: 1152,4 mm)
- HyperfocalDistance: 1403,72 m
- ScaleFactor35efl: 6,3
- ShutterSpeed: 1/250
- ExifIFD
- ApertureValue: 5,0
- CreateDate: 2009:05:31 10:44:24
- CustomRendered: Normal
- DateTimeOriginal: 2009:05:31 10:44:24
- ExposureCompensation: 0
- ExposureMode: Auto
- ExposureProgram: Aperture-priority AE
- ExposureTime: 1/250
- FNumber: 5,0
- Flash: Off
- FocalLength: 183,0 mm
- ISO: 100
- MaxApertureValue: 4,0
- MeteringMode: Multi-segment
- SceneCaptureType: Standard
- ShutterSpeedValue: 1/250
- WhiteBalance: Auto
- ICC-header
- ICC-meas
- ICC-view
- IFD0
- Make: Canon
- Model: Canon EOS 40D
- ModifyDate: 2009:06:03 08:13:31
- IFD1
- XMP-aux
- Firmware: 1.1.1
- FlashCompensation: 0
- ImageNumber: 0
- Lens: EF70-200mm f/4L IS USM
- LensInfo: 70/1 200/1 0/0 0/0
- SerialNumber: 1030526517
- XMP-crs
- AlreadyApplied: True
- BlueHue: 0
- BlueSaturation: 0
- Brightness: +45
- ChromaticAberrationB: 0
- ChromaticAberrationR: 0
- Clarity: 0
- ColorNoiseReduction: 25
- Contrast: +45
- ConvertToGrayscale: True
- CropAngle: -2.45285
- CropBottom: 0.840169
- CropHeight: 667
- CropLeft: 0.158354
- CropRight: 0.859503
- CropTop: 0.202285
- CropUnit: 0
- CropWidth: 1000
- Defringe: 0
- Exposure: 0.00
- FillLight: 4
- GrayMixerAqua: -18
- GrayMixerBlue: +9
- GrayMixerGreen: -27
- GrayMixerMagenta: +3
- GrayMixerOrange: -19
- GrayMixerPurple: +15
- GrayMixerRed: -10
- GrayMixerYellow: -23
- GreenHue: 0
- GreenSaturation: 0
- HasCrop: True
- HasSettings: True
- HighlightRecovery: 4
- LuminanceSmoothing: 0
- ParametricDarks: 0
- ParametricHighlightSplit: 75
- ParametricHighlights: +74
- ParametricLights: 0
- ParametricMidtoneSplit: 50
- ParametricShadowSplit: 25
- ParametricShadows: 0
- PostCropVignetteAmount: 0
- RedHue: 0
- RedSaturation: 0
- ShadowTint: 0
- Shadows: 6
- SharpenDetail: 25
- SharpenEdgeMasking: 0
- SharpenRadius: +1.0
- Sharpness: 25
- SplitToningBalance: 0
- SplitToningHighlightHue: 0
- SplitToningHighlightSaturation: 0
- SplitToningShadowHue: 0
- SplitToningShadowSaturation: 0
- Temperature: 4850
- Tint: -2
- ToneCurve: 0, 0, 32, 22, 64, 56, 128, 128, 192, 196, 255, 255
- ToneCurveName: Medium Contrast
- Version: 5.3
- VignetteAmount: 0
- WhiteBalance: As Shot
- XMP-exif
- DateTimeDigitized: 2009:05:31 10:44:24.00+03:00
- DateTimeOriginal: 2009:05:31 10:44:24.00+03:00
- ExifImageHeight: 1000
- ExifImageWidth: 667
- FlashFired: False
- FlashFunction: False
- FlashMode: Off
- FlashRedEyeMode: False
- FlashReturn: No return detection
- XMP-tiff
- ImageHeight: 1000
- ImageWidth: 667
- XMP-xmp
- CreateDate: 2009:05:31 10:44:24.00+03:00
- ModifyDate: 2009:06:03 08:13:31+03:00