- Раздел: Отдых, развлечения
- Дата съёмки: 31.05.2009 11:49
- Дата загрузки фото: 04.06.2009 23:37
- Оригинальная фотография: 1280 x 857 (250 Кб)
- Технические характеристики:
- Фотоаппарат: Samsung GX10
- Выдержка: 1/1250
- Гиперфокальное расстояние: 163,73 m
- Диафрагма: 1,8
- Светочувствительность: 100
- Фокусное расстояние: 77,0 mm (35 mm equivalent: 115,0 mm)
- Экспокоррекция: -0,7
- Полный EXIF
- Composite
- Aperture: 1,8
- CircleOfConfusion: 0,020 mm
- FOV: 17,0 deg
- FocalLength35efl: 77,0 mm (35 mm equivalent: 115,0 mm)
- HyperfocalDistance: 163,73 m
- ScaleFactor35efl: 1,5
- ShutterSpeed: 1/1250
- ExifIFD
- ApertureValue: 1,8
- ColorSpace: sRGB
- Contrast: Low
- CreateDate: 2009:05:31 11:49:49
- CustomRendered: Normal
- DateTimeOriginal: 2009:05:31 11:49:49
- ExifImageHeight: 857
- ExifImageWidth: 1280
- ExposureCompensation: -0,7
- ExposureMode: Manual
- ExposureProgram: Aperture-priority AE
- ExposureTime: 1/1250
- FNumber: 1,8
- Flash: Off
- FocalLength: 77,0 mm
- FocalLengthIn35mmFormat: 115 mm
- ISO: 100
- MeteringMode: Center-weighted average
- Saturation: Low
- SceneCaptureType: Standard
- SensingMethod: One-chip color area
- Sharpness: Hard
- ShutterSpeedValue: 1/1250
- SubjectDistanceRange: Close
- WhiteBalance: Auto
- ICC-header
- ICC-meas
- ICC-view
- IFD0
- Make: SAMSUNG TECHWIN Co.
- Model: SAMSUNG GX10
- ModifyDate: 2009:06:01 23:03:14
- Orientation: Horizontal (normal)
- IFD1
- IPTC
- XMP-aux
- Lens: smc PENTAX-FA 77mm F1.8 Limited
- LensID: 4 24
- LensInfo: 770/10 770/10 18/10 18/10
- XMP-crs
- AlreadyApplied: True
- BlueHue: 0
- BlueSaturation: 0
- Brightness: +77
- ChromaticAberrationB: 0
- ChromaticAberrationR: 0
- Clarity: 0
- ColorNoiseReduction: 25
- Contrast: +36
- ConvertToGrayscale: False
- Defringe: 0
- Exposure: 0.00
- FillLight: 11
- GreenHue: 0
- GreenSaturation: 0
- HasCrop: False
- HasSettings: True
- HighlightRecovery: 100
- HueAdjustmentAqua: 0
- HueAdjustmentBlue: 0
- HueAdjustmentGreen: 0
- HueAdjustmentMagenta: 0
- HueAdjustmentOrange: 0
- HueAdjustmentPurple: 0
- HueAdjustmentRed: 0
- HueAdjustmentYellow: 0
- LuminanceAdjustmentAqua: 0
- LuminanceAdjustmentBlue: 0
- LuminanceAdjustmentGreen: 0
- LuminanceAdjustmentMagenta: 0
- LuminanceAdjustmentOrange: 0
- LuminanceAdjustmentPurple: 0
- LuminanceAdjustmentRed: 0
- LuminanceAdjustmentYellow: 0
- LuminanceSmoothing: 0
- ParametricDarks: 0
- ParametricHighlightSplit: 75
- ParametricHighlights: 0
- ParametricLights: 0
- ParametricMidtoneSplit: 50
- ParametricShadowSplit: 25
- ParametricShadows: 0
- PostCropVignetteAmount: 0
- RawFileName: SG100845.DNG
- RedHue: 0
- RedSaturation: 0
- Saturation: 0
- SaturationAdjustmentAqua: 0
- SaturationAdjustmentBlue: 0
- SaturationAdjustmentGreen: 0
- SaturationAdjustmentMagenta: 0
- SaturationAdjustmentOrange: 0
- SaturationAdjustmentPurple: 0
- SaturationAdjustmentRed: 0
- SaturationAdjustmentYellow: 0
- ShadowTint: 0
- Shadows: 5
- SharpenDetail: 25
- SharpenEdgeMasking: 0
- SharpenRadius: +1.0
- Sharpness: 25
- SplitToningBalance: 0
- SplitToningHighlightHue: 0
- SplitToningHighlightSaturation: 0
- SplitToningShadowHue: 0
- SplitToningShadowSaturation: 0
- Temperature: 5050
- Tint: -6
- ToneCurve: 0, 0, 32, 22, 64, 56, 128, 128, 192, 196, 255, 255
- ToneCurveName: Medium Contrast
- Version: 5.3
- Vibrance: 0
- VignetteAmount: 0
- WhiteBalance: As Shot
- XMP-dc
- XMP-exif
- DateTimeDigitized: 2009:05:31 11:49:49+04:00
- DateTimeOriginal: 2009:05:31 11:49:49+04:00
- ExifImageHeight: 2592
- ExifImageWidth: 3872
- FlashFired: False
- FlashFunction: False
- FlashMode: Off
- FlashRedEyeMode: False
- FlashReturn: No return detection
- XMP-tiff
- XMP-xmp
- CreateDate: 2009:05:31 11:49:49+04:00
- CreatorTool: GX10 Ver 1.30
- ModifyDate: 2009:06:01 23:03:14+04:00
- Rating: 5
- XMP-xmpMM
- Просмотров: 231
- Рейтинг: голосов еще нет
- Отзывов: 0