- Раздел: Отдых, развлечения
- Дата съёмки: 31.05.2009 10:06
- Дата загрузки фото: 04.06.2009 23:39
- Оригинальная фотография: 857 x 1280 (363 Кб)
- Технические характеристики:
- Фотоаппарат: Samsung GX10
- Выдержка: 1/500
- Гиперфокальное расстояние: 30,97 m
- Диафрагма: 4,5
- Светочувствительность: 160
- Фокусное расстояние: 53,0 mm (35 mm equivalent: 79,0 mm)
- Экспокоррекция: -0,3
- Полный EXIF
- Composite
- Aperture: 4,5
- CircleOfConfusion: 0,020 mm
- FOV: 25,0 deg
- FocalLength35efl: 53,0 mm (35 mm equivalent: 79,0 mm)
- HyperfocalDistance: 30,97 m
- ScaleFactor35efl: 1,5
- ShutterSpeed: 1/500
- ExifIFD
- ApertureValue: 4,5
- ColorSpace: sRGB
- Contrast: Low
- CreateDate: 2009:05:31 10:06:30
- CustomRendered: Normal
- DateTimeOriginal: 2009:05:31 10:06:30
- ExifImageHeight: 1280
- ExifImageWidth: 857
- ExposureCompensation: -0,3
- ExposureMode: Manual
- ExposureProgram: Aperture-priority AE
- ExposureTime: 1/500
- FNumber: 4,5
- Flash: Off
- FocalLength: 53,0 mm
- FocalLengthIn35mmFormat: 79 mm
- ISO: 160
- MeteringMode: Center-weighted average
- Saturation: Low
- SceneCaptureType: Standard
- SensingMethod: One-chip color area
- Sharpness: Hard
- ShutterSpeedValue: 1/500
- SubjectDistanceRange: Distant
- WhiteBalance: Auto
- ICC-header
- ICC-meas
- ICC-view
- IFD0
- Make: SAMSUNG TECHWIN Co.
- Model: SAMSUNG GX10
- ModifyDate: 2009:06:01 08:54:26
- Orientation: Horizontal (normal)
- IFD1
- IPTC
- XMP-aux
- Lens: Sigma or Tamron Lens
- LensID: 3 44
- XMP-crs
- AlreadyApplied: True
- BlueHue: 0
- BlueSaturation: 0
- Brightness: +71
- ChromaticAberrationB: 0
- ChromaticAberrationR: 0
- Clarity: 0
- ColorNoiseReduction: 25
- Contrast: +29
- ConvertToGrayscale: False
- Defringe: 0
- Exposure: +1.20
- FillLight: 23
- GreenHue: 0
- GreenSaturation: 0
- HasCrop: False
- HasSettings: True
- HighlightRecovery: 100
- HueAdjustmentAqua: 0
- HueAdjustmentBlue: 0
- HueAdjustmentGreen: 0
- HueAdjustmentMagenta: 0
- HueAdjustmentOrange: 0
- HueAdjustmentPurple: 0
- HueAdjustmentRed: 0
- HueAdjustmentYellow: 0
- LuminanceAdjustmentAqua: 0
- LuminanceAdjustmentBlue: 0
- LuminanceAdjustmentGreen: 0
- LuminanceAdjustmentMagenta: 0
- LuminanceAdjustmentOrange: 0
- LuminanceAdjustmentPurple: 0
- LuminanceAdjustmentRed: 0
- LuminanceAdjustmentYellow: 0
- LuminanceSmoothing: 0
- ParametricDarks: 0
- ParametricHighlightSplit: 75
- ParametricHighlights: 0
- ParametricLights: 0
- ParametricMidtoneSplit: 50
- ParametricShadowSplit: 25
- ParametricShadows: 0
- PostCropVignetteAmount: 0
- RawFileName: SG100773.DNG
- RedHue: 0
- RedSaturation: 0
- Saturation: 0
- SaturationAdjustmentAqua: 0
- SaturationAdjustmentBlue: 0
- SaturationAdjustmentGreen: 0
- SaturationAdjustmentMagenta: 0
- SaturationAdjustmentOrange: 0
- SaturationAdjustmentPurple: 0
- SaturationAdjustmentRed: 0
- SaturationAdjustmentYellow: 0
- ShadowTint: 0
- Shadows: 0
- SharpenDetail: 25
- SharpenEdgeMasking: 0
- SharpenRadius: +1.0
- Sharpness: 25
- SplitToningBalance: 0
- SplitToningHighlightHue: 0
- SplitToningHighlightSaturation: 0
- SplitToningShadowHue: 0
- SplitToningShadowSaturation: 0
- Temperature: 5100
- Tint: -5
- ToneCurve: 0, 0, 32, 22, 64, 56, 128, 128, 192, 196, 255, 255
- ToneCurveName: Medium Contrast
- Version: 5.3
- Vibrance: 0
- VignetteAmount: 0
- WhiteBalance: As Shot
- XMP-dc
- XMP-exif
- DateTimeDigitized: 2009:05:31 10:06:30+04:00
- DateTimeOriginal: 2009:05:31 10:06:30+04:00
- ExifImageHeight: 3872
- ExifImageWidth: 2592
- FlashFired: False
- FlashFunction: False
- FlashMode: Off
- FlashRedEyeMode: False
- FlashReturn: No return detection
- XMP-tiff
- XMP-xmp
- CreateDate: 2009:05:31 10:06:30+04:00
- CreatorTool: GX10 Ver 1.30
- ModifyDate: 2009:06:01 08:54:26+04:00
- Rating: 5
- XMP-xmpMM
- Просмотров: 259
- Рейтинг: голосов еще нет
- Отзывов: 0