- Раздел: Природа
- Дата съёмки: 24.06.2009 20:24
- Дата загрузки фото: 06.07.2009 15:54
- Оригинальная фотография: 896 x 559 (353 Кб)
- Технические характеристики:
- Фотоаппарат: Nikon D60
- Выдержка: 1/80
- Диафрагма: 9,0
- Светочувствительность: 200
- Фокусное расстояние: 18,0 mm
- Полный EXIF
- Adobe
- ColorTransform: YCbCr
- Composite
- Aperture: 9,0
- FocalLength35efl: 18,0 mm
- ShutterSpeed: 1/80
- ExifIFD
- ApertureValue: 9,0
- ColorSpace: Uncalibrated
- DateTimeOriginal: 2009:06:24 19:24:29
- ExifImageHeight: 559
- ExifImageWidth: 896
- ExposureTime: 1/80
- FNumber: 9,0
- FocalLength: 18,0 mm
- ISO: 200
- ShutterSpeedValue: 1/80
- IFD0
- Model: NIKON D60
- ModifyDate: 2009:07:06 15:52:38
- Orientation: Horizontal (normal)
- IFD1
- IPTC
- Keywords: Ìà êðî, ÏðèðîäГ
- XMP-crs
- AlreadyApplied: True
- BlueHue: 0
- BlueSaturation: 0
- Brightness: 0
- CameraProfile: Embedded
- ChromaticAberrationB: 0
- ChromaticAberrationR: 0
- Clarity: +20
- ColorNoiseReduction: 29
- Contrast: +7
- ConvertToGrayscale: False
- CropAngle: -2.29903
- CropBottom: 0.939546
- CropHeight: 2234
- CropLeft: 0.018516
- CropRight: 0.981598
- CropTop: 0.060454
- CropUnit: 0
- CropWidth: 3581
- Defringe: 0
- Exposure: -0.30
- FillLight: 0
- GreenHue: 0
- GreenSaturation: 0
- HasCrop: True
- HasSettings: True
- HighlightRecovery: 0
- HueAdjustmentAqua: 0
- HueAdjustmentBlue: 0
- HueAdjustmentGreen: +21
- HueAdjustmentMagenta: 0
- HueAdjustmentOrange: 0
- HueAdjustmentPurple: 0
- HueAdjustmentRed: 0
- HueAdjustmentYellow: 0
- IncrementalTemperature: 0
- IncrementalTint: 0
- LuminanceAdjustmentAqua: 0
- LuminanceAdjustmentBlue: 0
- LuminanceAdjustmentGreen: 0
- LuminanceAdjustmentMagenta: 0
- LuminanceAdjustmentOrange: 0
- LuminanceAdjustmentPurple: 0
- LuminanceAdjustmentRed: 0
- LuminanceAdjustmentYellow: +3
- LuminanceSmoothing: 53
- ParametricDarks: 0
- ParametricHighlightSplit: 75
- ParametricHighlights: 0
- ParametricLights: 0
- ParametricMidtoneSplit: 50
- ParametricShadowSplit: 25
- ParametricShadows: 0
- PostCropVignetteAmount: 0
- RedHue: 0
- RedSaturation: 0
- Saturation: 0
- SaturationAdjustmentAqua: 0
- SaturationAdjustmentBlue: +15
- SaturationAdjustmentGreen: 0
- SaturationAdjustmentMagenta: 0
- SaturationAdjustmentOrange: 0
- SaturationAdjustmentPurple: 0
- SaturationAdjustmentRed: 0
- SaturationAdjustmentYellow: +12
- ShadowTint: 0
- Shadows: 5
- SharpenDetail: 25
- SharpenEdgeMasking: 0
- SharpenRadius: +1.0
- Sharpness: 0
- SplitToningBalance: 0
- SplitToningHighlightHue: 0
- SplitToningHighlightSaturation: 0
- SplitToningShadowHue: 0
- SplitToningShadowSaturation: 0
- ToneCurve: 0, 0, 255, 255
- ToneCurveName: Linear
- Version: 5.3
- Vibrance: +11
- VignetteAmount: 0
- WhiteBalance: As Shot
- XMP-dc
- Format: image/jpeg
- Subject: Макро, Природа
- XMP-exif
- ColorSpace: Unknown (-1)
- DateTimeOriginal: 2009:06:24 19:24:29.0+3:00
- XMP-pmtm
- BlackClip: 0.000000
- ColorSaturation: 48
- ColorTemperature: 0
- Gamma: 1.000000
- HighlightsSmoothing: 0
- Luminosity: -4
- Method: Details Enhancer
- Microcontrast: 0
- Microsmoothing: 2
- SaturationHighlights: 2
- SaturationShadows: 0
- ShadowsClipping: 0
- ShadowsSmoothing: 0
- Smoothing: Medium
- Strength: 35
- Version: 3.1
- WhiteClip: 0.332800
- XMP-tiff
- ImageHeight: 2234
- ImageWidth: 3581
- XMP-xmp
- CreateDate: 2009:06:24 20:24:29+04:00
- ModifyDate: 2009:07:06 15:52:38+04:00
- XMP-xmpMM
- Просмотров: 1067
- Рейтинг: голосов еще нет
- Отзывов: 0