- Раздел: Другое, разное
- Дата съёмки: 21.06.2009 21:28
- Дата загрузки фото: 08.07.2009 23:24
- Оригинальная фотография: 1500 x 1374 (1,8 Мб)
- Технические характеристики:
- Фотоаппарат: FujiFilm FinePix S9600
- Выдержка: 1/250
- Гиперфокальное расстояние: 2,00 m
- Диафрагма: 2,8
- Светочувствительность: 80
- Фокусное расстояние: 6,2 mm (35 mm equivalent: 27,1 mm)
- Полный EXIF
- Adobe
- ColorTransform: YCbCr
- Composite
- Aperture: 2,8
- CircleOfConfusion: 0,007 mm
- FOV: 67,0 deg
- FocalLength35efl: 6,2 mm (35 mm equivalent: 27,1 mm)
- HyperfocalDistance: 2,00 m
- ScaleFactor35efl: 4,4
- ShutterSpeed: 1/250
- ExifIFD
- ApertureValue: 2,8
- BrightnessValue: 6,76
- ColorSpace: sRGB
- Contrast: Normal
- CreateDate: 2009:06:21 21:28:59
- CustomRendered: Normal
- DateTimeOriginal: 2009:06:21 21:28:59
- ExifImageHeight: 1374
- ExifImageWidth: 1500
- ExposureCompensation: 0
- ExposureMode: Manual
- ExposureProgram: Manual
- ExposureTime: 1/250
- FNumber: 2,8
- Flash: Off
- FocalLength: 6,2 mm
- ISO: 80
- LightSource: Unknown
- MaxApertureValue: 2,8
- MeteringMode: Multi-segment
- Saturation: Normal
- SceneCaptureType: Standard
- SceneType: Directly photographed
- SensingMethod: One-chip color area
- Sharpness: Normal
- ShutterSpeedValue: 1/250
- SubjectDistanceRange: Unknown
- WhiteBalance: Auto
- ICC-header
- ICC-meas
- ICC-view
- IFD0
- Make: FUJIFILM
- Model: FinePix S9600
- ModifyDate: 2009:07:06 20:44:38
- Orientation: Horizontal (normal)
- IFD1
- IPTC
- XMP-crs
- AlreadyApplied: True
- BlueHue: 0
- BlueSaturation: +63
- Brightness: +57
- CameraProfile: Embedded
- ChromaticAberrationB: 0
- ChromaticAberrationR: 0
- Clarity: +48
- ColorNoiseReduction: 25
- Contrast: +54
- ConvertToGrayscale: True
- Defringe: 0
- Exposure: +0.70
- FillLight: 0
- GrayMixerAqua: -13
- GrayMixerBlue: +16
- GrayMixerGreen: -19
- GrayMixerMagenta: +19
- GrayMixerOrange: -5
- GrayMixerPurple: +25
- GrayMixerRed: +10
- GrayMixerYellow: -12
- GreenHue: 0
- GreenSaturation: 0
- HasCrop: False
- HasSettings: True
- HighlightRecovery: 0
- IncrementalTemperature: 0
- IncrementalTint: 0
- LuminanceSmoothing: 0
- ParametricDarks: -2
- ParametricHighlightSplit: 75
- ParametricHighlights: 0
- ParametricLights: +2
- ParametricMidtoneSplit: 50
- ParametricShadowSplit: 25
- ParametricShadows: -20
- PostCropVignetteAmount: 0
- RedHue: 0
- RedSaturation: -34
- ShadowTint: 0
- Shadows: 0
- SharpenDetail: 25
- SharpenEdgeMasking: 0
- SharpenRadius: +1.0
- Sharpness: 0
- SplitToningBalance: 0
- SplitToningHighlightHue: 50
- SplitToningHighlightSaturation: 66
- SplitToningShadowHue: 30
- SplitToningShadowSaturation: 28
- ToneCurve: 0, 0, 255, 255
- ToneCurveName: Linear
- Version: 5.4
- VignetteAmount: -41
- VignetteMidpoint: 48
- WhiteBalance: As Shot
- XMP-dc
- XMP-exif
- DateTimeDigitized: 2009:06:21 21:28:59+04:00
- DateTimeOriginal: 2009:06:21 21:28:59+04:00
- FlashFired: False
- FlashFunction: False
- FlashMode: Off
- FlashRedEyeMode: False
- FlashReturn: No return detection
- XMP-tiff
- ImageHeight: 2616
- ImageWidth: 3488
- XMP-xmp
- CreateDate: 2009:06:21 21:28:59+04:00
- ModifyDate: 2009:07:06 20:44:38+04:00
- XMP-xmpMM
- Просмотров: 356
- Рейтинг: голосов еще нет
- Отзывов: 0