IMG_4630.JPG |
IMG_4630.JPG
- Раздел: Природа
- Дата съёмки: 27.06.2009 15:15
- Дата загрузки фото: 10.07.2009 20:24
- Оригинальная фотография: 800 x 533 (332 Кб)
- Технические характеристики:
- Фотоаппарат: Canon EOS 50D
- Выдержка: 1/400
- Гиперфокальное расстояние: 5526,95 m
- Диафрагма: 10,0
- Светочувствительность: 800
- Фокусное расстояние: 420,0 mm (35 mm equivalent: 3953,9 mm)
- Полный EXIF
- Canon
- AEBBracketValue: 0
- AutoExposureBracketing: Off
- AutoISO: 100
- AutoRotate: Rotated by Software
- BaseISO: 800
- BulbDuration: 0
- CameraType: Unknown (0)
- CanonExposureMode: Unknown (-1)
- CanonFirmwareVersion:
- CanonFlashMode: Unknown (-1)
- CanonImageType:
- ContinuousDrive: Unknown (-1)
- ControlMode: n/a
- DigitalZoom: None
- EasyMode: Unknown (-1)
- ExposureCompensation: 0
- FileNumber: 0
- FlashBits: (none)
- FlashExposureComp: 0
- FlashGuideNumber: 0
- FocalUnits: 32
- FocusDistanceLower: 0
- FocusDistanceUpper: 0
- FocusMode: Single
- FocusRange: Not Known
- LensType: Unknown (-1)
- LongFocal: 0 mm
- MacroMode: Unknown (0)
- ManualFlashOutput: n/a
- MeasuredEV: 0,00
- MeteringMode: Unknown (-1)
- NDFilter: Unknown (-1)
- OpticalZoomCode: n/a
- OwnerName:
- Quality: Fine
- SelfTimer: Off
- SequenceNumber: 0
- ShortFocal: 0 mm
- SlowShutter: None
- TargetAperture: 10
- TargetExposureTime: 1/403
- WhiteBalance: Unknown (-1)
- ZoomSourceWidth: 0
- ZoomTargetWidth: 0
- Composite
- Aperture: 10,0
- CircleOfConfusion: 0,003 mm
- DriveMode: Continuous shooting
- FOV: 0,0 deg
- FlashOn: Off
- FocalLength35efl: 420,0 mm (35 mm equivalent: 3953,9 mm)
- HyperfocalDistance: 5526,95 m
- ISO: 800
- Lens: 0,0 mm
- Lens35efl: 0,0 mm (35 mm equivalent: 0,0 mm)
- ScaleFactor35efl: 9,4
- ShootingMode: Unknown (-1)
- ShutterSpeed: 1/400
- ExifIFD
- ApertureValue: 10,0
- ColorSpace: sRGB
- CreateDate: 2009:06:27 14:15:41
- CustomRendered: Normal
- DateTimeOriginal: 2009:06:27 14:15:41
- ExifImageHeight: 533
- ExifImageWidth: 800
- ExposureMode: Auto
- ExposureTime: 1/400
- FNumber: 10,0
- Flash: Off
- FocalLength: 420,0 mm
- SceneCaptureType: Standard
- ShutterSpeedValue: 1/400
- UserComment:
- WhiteBalance: Auto
- ICC-header
- IFD0
- Make: Canon
- Model: Canon EOS 50D
- ModifyDate: 2009:06:27 14:15:41
- Orientation: Horizontal (normal)
- Software: Digital Photo Professional
- IFD1
- IPTC
- RelatedImageHeight: 533
- RelatedImageWidth: 800
- XMP-aux
- Firmware: 1.0.6
- FlashCompensation: 0
- ImageNumber: 0
- Lens: EF300mm f/4L IS USM +1.4x
- LensInfo: 420/1 420/1 0/0 0/0
- SerialNumber: 530303675
- XMP-crs
- AlreadyApplied: True
- BlueHue: 0
- BlueSaturation: 0
- Brightness: 0
- CameraProfile: Embedded
- ChromaticAberrationB: 0
- ChromaticAberrationR: 0
- Clarity: +50
- ColorNoiseReduction: 0
- Contrast: 0
- ConvertToGrayscale: False
- Defringe: 0
- Exposure: 0.00
- FillLight: 0
- GreenHue: 0
- GreenSaturation: 0
- HasCrop: False
- HasSettings: True
- HighlightRecovery: 0
- HueAdjustmentAqua: 0
- HueAdjustmentBlue: 0
- HueAdjustmentGreen: 0
- HueAdjustmentMagenta: 0
- HueAdjustmentOrange: 0
- HueAdjustmentPurple: 0
- HueAdjustmentRed: 0
- HueAdjustmentYellow: 0
- IncrementalTemperature: 0
- IncrementalTint: 0
- LuminanceAdjustmentAqua: 0
- LuminanceAdjustmentBlue: 0
- LuminanceAdjustmentGreen: 0
- LuminanceAdjustmentMagenta: 0
- LuminanceAdjustmentOrange: 0
- LuminanceAdjustmentPurple: 0
- LuminanceAdjustmentRed: 0
- LuminanceAdjustmentYellow: 0
- LuminanceSmoothing: 0
- ParametricDarks: 0
- ParametricHighlightSplit: 75
- ParametricHighlights: -1
- ParametricLights: -54
- ParametricMidtoneSplit: 50
- ParametricShadowSplit: 25
- ParametricShadows: 0
- PostCropVignetteAmount: 0
- RedHue: 0
- RedSaturation: 0
- Saturation: 0
- SaturationAdjustmentAqua: 0
- SaturationAdjustmentBlue: 0
- SaturationAdjustmentGreen: 0
- SaturationAdjustmentMagenta: 0
- SaturationAdjustmentOrange: 0
- SaturationAdjustmentPurple: 0
- SaturationAdjustmentRed: 0
- SaturationAdjustmentYellow: 0
- ShadowTint: 0
- Shadows: 0
- SharpenDetail: 20
- SharpenEdgeMasking: 70
- SharpenRadius: +1.2
- Sharpness: 35
- SplitToningBalance: 0
- SplitToningHighlightHue: 0
- SplitToningHighlightSaturation: 0
- SplitToningShadowHue: 0
- SplitToningShadowSaturation: 0
- ToneCurve: 0, 0, 255, 255
- ToneCurveName: Linear
- Version: 5.3
- Vibrance: +25
- VignetteAmount: 0
- WhiteBalance: As Shot
- XMP-dc
- XMP-exif
- DateTimeDigitized: 2009:06:27 14:15:41.0+2:00
- DateTimeOriginal: 2009:06:27 14:15:41.0+2:00
- FlashFired: False
- FlashFunction: False
- FlashMode: Off
- FlashRedEyeMode: False
- FlashReturn: No return detection
- MaxApertureValue: 5,7
- XMP-tiff
- BitsPerSample: 16, 16, 16
- ImageHeight: 533
- ImageWidth: 800
- PhotometricInterpretation: RGB
- SamplesPerPixel: 3
- XMP-xmp
- CreateDate: 2009:06:27 15:15:41+03:00
- ModifyDate: 2009:07:01 20:59:32.0+2:00
- Просмотров: 164
- Рейтинг: голосов еще нет
- Отзывов: 0
Получить код для блога
Вставка фотографии в текущем разрешении |
Вставка миниатюры |
HTML (для вставки в блог):
BBCode (для вставки в форум):
Ссылка на фото:
Ссылка на миниатюру:
- Послать ссылку другу
Комментарии к фотографии |