- Раздел: Я, любимый(ая)
- Дата съёмки: 18.07.2009 21:33
- Дата загрузки фото: 18.07.2009 20:49
- Оригинальная фотография: 1000 x 1500 (283 Кб)
- Технические характеристики:
- Фотоаппарат: Canon EOS 40D
- Выдержка: 1/60
- Гиперфокальное расстояние: 129,93 m
- Диафрагма: 4,0
- Светочувствительность: 160
- Фокусное расстояние: 75,0 mm (35 mm equivalent: 208,2 mm)
- Полный EXIF
- Composite
- Aperture: 4,0
- CircleOfConfusion: 0,011 mm
- FOV: 9,0 deg
- FocalLength35efl: 75,0 mm (35 mm equivalent: 208,2 mm)
- HyperfocalDistance: 129,93 m
- ScaleFactor35efl: 2,8
- ShutterSpeed: 1/60
- ExifIFD
- ApertureValue: 4,0
- CreateDate: 2009:07:18 20:33:48
- CustomRendered: Normal
- DateTimeOriginal: 2009:07:18 20:33:48
- ExifImageHeight: 1500
- ExifImageWidth: 1000
- ExposureCompensation: 0
- ExposureMode: Manual
- ExposureProgram: Manual
- ExposureTime: 1/60
- FNumber: 4,0
- Flash: Off
- FocalLength: 75,0 mm
- ISO: 160
- MaxApertureValue: 4,0
- MeteringMode: Multi-segment
- SceneCaptureType: Standard
- ShutterSpeedValue: 1/60
- WhiteBalance: Auto
- ICC-header
- ICC-meas
- ICC-view
- IFD0
- Artist: Roman E Demakov
- Make: Canon
- Model: Canon EOS 40D
- ModifyDate: 2009:07:18 21:48:25
- Orientation: Horizontal (normal)
- Software: Программа цифровой обработки изображений компании ACD Systems
- IFD1
- IPTC
- XMP-aux
- Firmware: 1.1.1
- FlashCompensation: 0
- ImageNumber: 0
- Lens: EF70-200mm f/4L IS USM
- LensInfo: 70/1 200/1 0/0 0/0
- OwnerName: Roman E Demakov
- SerialNumber: 830523091
- XMP-crs
- AlreadyApplied: True
- BlueHue: 0
- BlueSaturation: 0
- Brightness: +50
- ChromaticAberrationB: 0
- ChromaticAberrationR: 0
- Clarity: 0
- ColorNoiseReduction: 25
- Contrast: +25
- ConvertToGrayscale: True
- CropAngle: 0
- CropBottom: 0.743363
- CropHeight: 1512
- CropLeft: 0.333727
- CropRight: 0.917197
- CropTop: 0.159893
- CropUnit: 0
- CropWidth: 2269
- Defringe: 0
- Exposure: 0.00
- FillLight: 26
- GrayMixerAqua: -10
- GrayMixerBlue: +20
- GrayMixerGreen: -17
- GrayMixerMagenta: +32
- GrayMixerOrange: +12
- GrayMixerPurple: +25
- GrayMixerRed: +39
- GrayMixerYellow: -9
- GreenHue: 0
- GreenSaturation: 0
- HasCrop: True
- HasSettings: True
- HighlightRecovery: 0
- LuminanceSmoothing: 0
- ParametricDarks: -17
- ParametricHighlightSplit: 75
- ParametricHighlights: 0
- ParametricLights: +28
- ParametricMidtoneSplit: 50
- ParametricShadowSplit: 25
- ParametricShadows: 0
- PostCropVignetteAmount: -60
- PostCropVignetteFeather: 50
- PostCropVignetteMidpoint: 50
- PostCropVignetteRoundness: 0
- RedHue: 0
- RedSaturation: 0
- ShadowTint: 0
- Shadows: 2
- SharpenDetail: 25
- SharpenEdgeMasking: 0
- SharpenRadius: +1.0
- Sharpness: 25
- SplitToningBalance: 0
- SplitToningHighlightHue: 51
- SplitToningHighlightSaturation: 22
- SplitToningShadowHue: 37
- SplitToningShadowSaturation: 32
- Temperature: 5550
- Tint: -4
- ToneCurve: 0, 0, 32, 22, 64, 56, 128, 128, 192, 196, 255, 255
- ToneCurveName: Medium Contrast
- Version: 5.3
- VignetteAmount: 0
- WhiteBalance: Custom
- XMP-dc
- XMP-exif
- DateTimeDigitized: 2009:07:18 20:33:48.36+4:00
- DateTimeOriginal: 2009:07:18 20:33:48.36+4:00
- ExifImageHeight: 2269
- ExifImageWidth: 1512
- FlashFired: False
- FlashFunction: False
- FlashMode: Off
- FlashRedEyeMode: False
- FlashReturn: No return detection
- XMP-tiff
- ImageHeight: 2269
- ImageWidth: 1512
- XMP-xmp
- CreateDate: 2009:07:18 21:33:48.36+05:00
- ModifyDate: 2009:07:18 20:47:43.0+4:00
- Просмотров: 435
- Рейтинг: голосов еще нет
- Отзывов: отключены