- Раздел: Другое, разное
- Дата съёмки: 25.07.2009 21:22
- Дата загрузки фото: 26.07.2009 13:02
- Оригинальная фотография: 4587 x 2537 (1,7 Мб)
- Технические характеристики:
- Фотоаппарат: Samsung GX20
- Выдержка: 1/1500
- Гиперфокальное расстояние: 14,38 m
- Диафрагма: 8,0
- Светочувствительность: 280
- Фокусное расстояние: 48,0 mm (35 mm equivalent: 72,0 mm)
- Полный EXIF
- Adobe
- ColorTransform: YCbCr
- Composite
- Aperture: 8,0
- CircleOfConfusion: 0,020 mm
- FOV: 28,0 deg
- FocalLength35efl: 48,0 mm (35 mm equivalent: 72,0 mm)
- HyperfocalDistance: 14,38 m
- ScaleFactor35efl: 1,5
- ShutterSpeed: 1/1500
- ExifIFD
- ApertureValue: 8,0
- Contrast: Normal
- CreateDate: 2009:07:25 21:22:31
- CustomRendered: Normal
- DateTimeOriginal: 2009:07:25 21:22:31
- ExposureCompensation: 0
- ExposureMode: Auto
- ExposureProgram: Aperture-priority AE
- ExposureTime: 1/1500
- FNumber: 8,0
- Flash: Off
- FocalLength: 48,0 mm
- FocalLengthIn35mmFormat: 72 mm
- ISO: 280
- MeteringMode: Spot
- Saturation: Normal
- SceneCaptureType: Standard
- SensingMethod: One-chip color area
- Sharpness: Normal
- ShutterSpeedValue: 1/1500
- SubjectDistanceRange: Distant
- WhiteBalance: Manual
- ICC-header
- ICC-meas
- ICC-view
- IFD0
- Make: SAMSUNG TECHWIN Co.
- Model: SAMSUNG GX20
- ModifyDate: 2009:07:26 12:18:31
- Software: GX20 Ver 1.01
- IFD1
- XMP-aux
- Lens: Sigma or Tamron Lens
- LensID: 3 44
- XMP-crs
- AlreadyApplied: True
- BlueHue: 0
- BlueSaturation: 0
- Brightness: +62
- ChromaticAberrationB: 0
- ChromaticAberrationR: 0
- Clarity: 0
- ColorNoiseReduction: 25
- Contrast: +22
- ConvertToGrayscale: False
- CropAngle: -0.70298
- CropBottom: 0.84306
- CropHeight: 2537
- CropLeft: 0.005275
- CropRight: 0.993803
- CropTop: 0.043838
- CropUnit: 0
- CropWidth: 4587
- Defringe: 0
- Exposure: 0.00
- FillLight: 0
- GreenHue: 0
- GreenSaturation: 0
- HasCrop: True
- HasSettings: True
- HighlightRecovery: 0
- HueAdjustmentAqua: 0
- HueAdjustmentBlue: 0
- HueAdjustmentGreen: 0
- HueAdjustmentMagenta: 0
- HueAdjustmentOrange: 0
- HueAdjustmentPurple: 0
- HueAdjustmentRed: 0
- HueAdjustmentYellow: 0
- LuminanceAdjustmentAqua: +4
- LuminanceAdjustmentBlue: +8
- LuminanceAdjustmentGreen: +5
- LuminanceAdjustmentMagenta: -1
- LuminanceAdjustmentOrange: +15
- LuminanceAdjustmentPurple: 0
- LuminanceAdjustmentRed: -15
- LuminanceAdjustmentYellow: +16
- LuminanceSmoothing: 0
- ParametricDarks: 0
- ParametricHighlightSplit: 75
- ParametricHighlights: -20
- ParametricLights: +10
- ParametricMidtoneSplit: 50
- ParametricShadowSplit: 25
- ParametricShadows: 0
- PostCropVignetteAmount: 0
- RedHue: 0
- RedSaturation: 0
- Saturation: +20
- SaturationAdjustmentAqua: +10
- SaturationAdjustmentBlue: +5
- SaturationAdjustmentGreen: +22
- SaturationAdjustmentMagenta: +10
- SaturationAdjustmentOrange: +25
- SaturationAdjustmentPurple: +10
- SaturationAdjustmentRed: +30
- SaturationAdjustmentYellow: +38
- ShadowTint: 0
- Shadows: 5
- SharpenDetail: 25
- SharpenEdgeMasking: 0
- SharpenRadius: +1.0
- Sharpness: 57
- SplitToningBalance: 0
- SplitToningHighlightHue: 36
- SplitToningHighlightSaturation: 50
- SplitToningShadowHue: 0
- SplitToningShadowSaturation: 0
- Temperature: 5400
- Tint: -6
- ToneCurve: 0, 0, 32, 22, 64, 56, 128, 128, 192, 196, 255, 255
- ToneCurveName: Medium Contrast
- Version: 5.4
- Vibrance: +25
- VignetteAmount: 0
- WhiteBalance: As Shot
- XMP-exif
- DateTimeDigitized: 2009:07:25 21:22:31+04:00
- DateTimeOriginal: 2009:07:25 21:22:31+04:00
- ExifImageHeight: 2537
- ExifImageWidth: 4587
- FlashFired: False
- FlashFunction: False
- FlashMode: Off
- FlashRedEyeMode: False
- FlashReturn: No return detection
- XMP-tiff
- ImageHeight: 2537
- ImageWidth: 4587
- XMP-xmp
- CreateDate: 2009:07:25 21:22:31+04:00
- ModifyDate: 2009:07:26 12:18:31+04:00