- Раздел: Отдых, развлечения
- Дата съёмки: 02.08.2009 13:38
- Дата загрузки фото: 04.08.2009 00:28
- Оригинальная фотография: 3104 x 4672 (670 Кб)
- Технические характеристики:
- Фотоаппарат: Pentax K20D
- Выдержка: 1/2000
- Гиперфокальное расстояние: 62,40 m
- Диафрагма: 2,0
- Светочувствительность: 100
- Фокусное расстояние: 50,0 mm (35 mm equivalent: 75,0 mm)
- Экспокоррекция: +0,7
- Полный EXIF
- Adobe
- ColorTransform: YCbCr
- Composite
- Aperture: 2,0
- CircleOfConfusion: 0,020 mm
- FOV: 26,0 deg
- FocalLength35efl: 50,0 mm (35 mm equivalent: 75,0 mm)
- HyperfocalDistance: 62,40 m
- ScaleFactor35efl: 1,5
- ShutterSpeed: 1/2000
- ExifIFD
- ApertureValue: 2,0
- CFAPattern: [Blue,Green][Green,Red]
- Contrast: High
- CreateDate: 2009:08:02 13:38:17
- CustomRendered: Normal
- DateTimeOriginal: 2009:08:02 13:38:17
- ExposureCompensation: +0,7
- ExposureMode: Manual
- ExposureProgram: Aperture-priority AE
- ExposureTime: 1/2000
- FNumber: 2,0
- Flash: Off
- FocalLength: 50,0 mm
- FocalLengthIn35mmFormat: 75 mm
- ISO: 100
- MeteringMode: Multi-segment
- Saturation: Normal
- SceneCaptureType: Standard
- SensingMethod: One-chip color area
- Sharpness: Hard
- ShutterSpeedValue: 1/2000
- SubjectDistanceRange: Macro
- WhiteBalance: Auto
- ICC-header
- ICC-meas
- ICC-view
- IFD0
- Make: PENTAX
- Model: PENTAX K20D
- ModifyDate: 2009:08:03 18:17:25
- Software: K20D Ver 1.03
- IFD1
- XMP-aux
- Lens: smc PENTAX-FA 50mm F1.4
- LensID: 4 12
- LensInfo: 500/10 500/10 14/10 14/10
- XMP-crs
- AlreadyApplied: True
- BlueHue: 0
- BlueSaturation: 0
- Brightness: +50
- CameraProfile: ACR 3.3
- ChromaticAberrationB: 0
- ChromaticAberrationR: 0
- Clarity: +33
- ColorNoiseReduction: 25
- Contrast: +25
- ConvertToGrayscale: False
- Defringe: 0
- Exposure: 0.00
- FillLight: 0
- GreenHue: 0
- GreenSaturation: 0
- HasCrop: False
- HasSettings: True
- HighlightRecovery: 0
- HueAdjustmentAqua: 0
- HueAdjustmentBlue: 0
- HueAdjustmentGreen: +26
- HueAdjustmentMagenta: -45
- HueAdjustmentOrange: 0
- HueAdjustmentPurple: 0
- HueAdjustmentRed: 0
- HueAdjustmentYellow: -26
- LuminanceAdjustmentAqua: +38
- LuminanceAdjustmentBlue: +33
- LuminanceAdjustmentGreen: +5
- LuminanceAdjustmentMagenta: +29
- LuminanceAdjustmentOrange: +10
- LuminanceAdjustmentPurple: 0
- LuminanceAdjustmentRed: +43
- LuminanceAdjustmentYellow: +7
- LuminanceSmoothing: 0
- ParametricDarks: -21
- ParametricHighlightSplit: 75
- ParametricHighlights: 0
- ParametricLights: +6
- ParametricMidtoneSplit: 50
- ParametricShadowSplit: 25
- ParametricShadows: -6
- PostCropVignetteAmount: +100
- PostCropVignetteFeather: 0
- PostCropVignetteMidpoint: 37
- PostCropVignetteRoundness: -100
- RedHue: 0
- RedSaturation: 0
- Saturation: 0
- SaturationAdjustmentAqua: +45
- SaturationAdjustmentBlue: +33
- SaturationAdjustmentGreen: +36
- SaturationAdjustmentMagenta: +40
- SaturationAdjustmentOrange: +31
- SaturationAdjustmentPurple: +60
- SaturationAdjustmentRed: +57
- SaturationAdjustmentYellow: +24
- ShadowTint: 0
- Shadows: 5
- SharpenDetail: 25
- SharpenEdgeMasking: 0
- SharpenRadius: +1.0
- Sharpness: 25
- SplitToningBalance: 0
- SplitToningHighlightHue: 55
- SplitToningHighlightSaturation: 30
- SplitToningShadowHue: 203
- SplitToningShadowSaturation: 29
- Temperature: 4600
- Tint: -8
- ToneCurve: 0, 0, 32, 22, 64, 56, 128, 128, 192, 196, 255, 255
- ToneCurveName: Medium Contrast
- Version: 5.4
- Vibrance: 0
- VignetteAmount: 0
- WhiteBalance: As Shot
- XMP-exif
- DateTimeDigitized: 2009:08:02 13:38:17+04:00
- DateTimeOriginal: 2009:08:02 13:38:17+04:00
- ExifImageHeight: 4672
- ExifImageWidth: 3104
- FlashFired: False
- FlashFunction: False
- FlashMode: Off
- FlashRedEyeMode: False
- FlashReturn: No return detection
- XMP-tiff
- ImageHeight: 4672
- ImageWidth: 3104
- XMP-xmp
- CreateDate: 2009:08:02 13:38:17+04:00
- ModifyDate: 2009:08:03 18:17:25+04:00
- Просмотров: 386
- Рейтинг: голосов еще нет
- Отзывов: 0