- Раздел: Активный отдых, туризм
- Дата съёмки: 10.08.2009 16:52
- Дата загрузки фото: 10.08.2009 17:19
- Оригинальная фотография: 3872 x 2592 (4,6 Мб)
- Технические характеристики:
- Фотоаппарат: Sony DSLR-A100
- Выдержка: 1/125
- Гиперфокальное расстояние: 32,09 m
- Диафрагма: 5,6
- Светочувствительность: 100
- Фокусное расстояние: 60,0 mm (35 mm equivalent: 90,0 mm)
- Полный EXIF
- Adobe
- ColorTransform: Unknown (RGB or CMYK)
- Composite
- Aperture: 5,6
- CircleOfConfusion: 0,020 mm
- FOV: 22,0 deg
- FocalLength35efl: 60,0 mm (35 mm equivalent: 90,0 mm)
- HyperfocalDistance: 32,09 m
- ScaleFactor35efl: 1,5
- ShutterSpeed: 1/125
- ExifIFD
- ApertureValue: 5,6
- BrightnessValue: 7
- ColorSpace: Uncalibrated
- Contrast: Normal
- CreateDate: 2009:07:22 11:51:55
- CustomRendered: Normal
- DateTimeOriginal: 2009:07:22 11:51:55
- DigitalZoomRatio: 0
- ExifImageHeight: 2592
- ExifImageWidth: 3872
- ExposureCompensation: 0
- ExposureMode: Auto
- ExposureProgram: Program AE
- ExposureTime: 1/125
- FNumber: 5,6
- Flash: Off
- FocalLength: 60,0 mm
- FocalLengthIn35mmFormat: 90 mm
- GainControl: None
- ISO: 100
- LightSource: Unknown
- MaxApertureValue: 4,5
- MeteringMode: Multi-segment
- Saturation: Normal
- SceneCaptureType: Standard
- SceneType: Directly photographed
- Sharpness: Normal
- ShutterSpeedValue: 1/125
- SubjectLocation: 1936 1296 329 393
- WhiteBalance: Auto
- ICC-header
- IFD0
- ImageDescription: SONY DSC
- Make: SONY
- Model: DSLR-A100
- ModifyDate: 2009:08:10 16:54:50
- Orientation: Horizontal (normal)
- IFD1
- IPTC
- Caption-Abstract: SONY DSC
- XMP-crs
- AlreadyApplied: True
- BlueHue: 0
- BlueSaturation: 0
- Brightness: +50
- ChromaticAberrationB: 0
- ChromaticAberrationR: 0
- Clarity: 0
- ColorNoiseReduction: 25
- Contrast: +25
- ConvertToGrayscale: False
- Defringe: 0
- Exposure: 0.00
- FillLight: 0
- GreenHue: 0
- GreenSaturation: 0
- HasCrop: False
- HasSettings: True
- HighlightRecovery: 48
- HueAdjustmentAqua: 0
- HueAdjustmentBlue: 0
- HueAdjustmentGreen: 0
- HueAdjustmentMagenta: 0
- HueAdjustmentOrange: 0
- HueAdjustmentPurple: 0
- HueAdjustmentRed: 0
- HueAdjustmentYellow: 0
- LuminanceAdjustmentAqua: 0
- LuminanceAdjustmentBlue: 0
- LuminanceAdjustmentGreen: 0
- LuminanceAdjustmentMagenta: 0
- LuminanceAdjustmentOrange: 0
- LuminanceAdjustmentPurple: 0
- LuminanceAdjustmentRed: 0
- LuminanceAdjustmentYellow: 0
- LuminanceSmoothing: 0
- ParametricDarks: 0
- ParametricHighlightSplit: 75
- ParametricHighlights: 0
- ParametricLights: 0
- ParametricMidtoneSplit: 50
- ParametricShadowSplit: 25
- ParametricShadows: 0
- PostCropVignetteAmount: 0
- RedHue: 0
- RedSaturation: 0
- Saturation: 0
- SaturationAdjustmentAqua: 0
- SaturationAdjustmentBlue: 0
- SaturationAdjustmentGreen: 0
- SaturationAdjustmentMagenta: 0
- SaturationAdjustmentOrange: 0
- SaturationAdjustmentPurple: 0
- SaturationAdjustmentRed: 0
- SaturationAdjustmentYellow: 0
- ShadowTint: 0
- Shadows: 5
- SharpenDetail: 25
- SharpenEdgeMasking: 0
- SharpenRadius: +1.0
- Sharpness: 25
- SplitToningBalance: 0
- SplitToningHighlightHue: 0
- SplitToningHighlightSaturation: 0
- SplitToningShadowHue: 0
- SplitToningShadowSaturation: 0
- Temperature: 6000
- Tint: +22
- ToneCurve: 0, 0, 32, 22, 64, 56, 128, 128, 192, 196, 255, 255
- ToneCurveName: Medium Contrast
- Version: 5.3
- Vibrance: 0
- VignetteAmount: 0
- WhiteBalance: As Shot
- XMP-dc
- Description: SONY DSC
- Format: image/jpeg
- XMP-exif
- ColorSpace: Unknown (-1)
- DateTimeDigitized: 2009:07:22 11:51:55+04:00
- DateTimeOriginal: 2009:07:22 11:51:55+04:00
- FlashFired: False
- FlashFunction: False
- FlashMode: Off
- FlashRedEyeMode: False
- FlashReturn: No return detection
- SubjectArea: 1936, 1296, 329, 393
- XMP-tiff
- ImageHeight: 2592
- ImageWidth: 3872
- XMP-xmp
- CreateDate: 2009:08:10 16:52:06+04:00
- ModifyDate: 2009:08:10 16:54:50+04:00
- XMP-xmpMM
- DerivedFrom:
- Просмотров: 1266
- Рейтинг: голосов еще нет
- Отзывов: 0