» Участники » molodchik1 » Альбом #1 бардак » CosmiChild3.AK-47.SweetTooth.JPG |
CosmiChild3.AK-47.SweetTooth.JPG |
CosmiChild3.AK-47.SweetTooth.JPG
- Раздел: Репортаж
- Дата съёмки: 25.07.2009 16:39
- Дата загрузки фото: 16.08.2009 19:49
- Оригинальная фотография: 1024 x 768 (620 Кб)
- Технические характеристики:
- Фотоаппарат: Nikon COOLPIX L16
- Выдержка: 1/125
- Гиперфокальное расстояние: 2,37 m
- Диафрагма: 2,8
- Светочувствительность: 800
- Фокусное расстояние: 5,7 mm (35 mm equivalent: 35,0 mm)
- Полный EXIF
- Adobe
- ColorTransform: YCbCr
- Composite
- Aperture: 2,8
- CircleOfConfusion: 0,005 mm
- FOV: 54,0 deg
- FocalLength35efl: 5,7 mm (35 mm equivalent: 35,0 mm)
- HyperfocalDistance: 2,37 m
- ScaleFactor35efl: 6,1
- ShutterSpeed: 1/125
- ExifIFD
- ApertureValue: 2,8
- Contrast: Normal
- CreateDate: 2009:07:25 16:39:33
- CustomRendered: Normal
- DateTimeOriginal: 2009:07:25 16:39:33
- DigitalZoomRatio: 0
- ExposureCompensation: 0
- ExposureMode: Auto
- ExposureProgram: Program AE
- ExposureTime: 1/125
- FNumber: 2,8
- Flash: Off
- FocalLength: 5,7 mm
- FocalLengthIn35mmFormat: 35 mm
- GainControl: High gain up
- ISO: 800
- LightSource: Cloudy
- MaxApertureValue: 2,8
- MeteringMode: Multi-segment
- Saturation: Normal
- SceneCaptureType: Standard
- SceneType: Directly photographed
- Sharpness: Normal
- ShutterSpeedValue: 1/125
- SubjectDistanceRange: Unknown
- WhiteBalance: Manual
- ICC-header
- IFD0
- Make: NIKON
- Model: COOLPIX L16
- ModifyDate: 2009:08:16 18:48:24
- Software: COOLPIX L16 V1.1
- XMP-crs
- AlreadyApplied: True
- BlueHue: 0
- BlueSaturation: 0
- Brightness: +44
- CameraProfile: Embedded
- ChromaticAberrationB: 0
- ChromaticAberrationR: 0
- Clarity: +18
- ColorNoiseReduction: 56
- Contrast: +34
- ConvertToGrayscale: False
- Defringe: 0
- Exposure: -0.80
- FillLight: 35
- GreenHue: 0
- GreenSaturation: 0
- HasCrop: False
- HasSettings: True
- HighlightRecovery: 16
- HueAdjustmentAqua: 0
- HueAdjustmentBlue: 0
- HueAdjustmentGreen: 0
- HueAdjustmentMagenta: 0
- HueAdjustmentOrange: 0
- HueAdjustmentPurple: 0
- HueAdjustmentRed: 0
- HueAdjustmentYellow: 0
- IncrementalTemperature: -37
- IncrementalTint: -16
- LuminanceAdjustmentAqua: 0
- LuminanceAdjustmentBlue: 0
- LuminanceAdjustmentGreen: 0
- LuminanceAdjustmentMagenta: 0
- LuminanceAdjustmentOrange: 0
- LuminanceAdjustmentPurple: 0
- LuminanceAdjustmentRed: 0
- LuminanceAdjustmentYellow: 0
- LuminanceSmoothing: 74
- ParametricDarks: 0
- ParametricHighlightSplit: 75
- ParametricHighlights: 0
- ParametricLights: 0
- ParametricMidtoneSplit: 50
- ParametricShadowSplit: 25
- ParametricShadows: 0
- PostCropVignetteAmount: 0
- RawFileName: CosmiChild3.AK-47.SweetTooth.jpg
- RedHue: 0
- RedSaturation: 0
- Saturation: -7
- SaturationAdjustmentAqua: 0
- SaturationAdjustmentBlue: 0
- SaturationAdjustmentGreen: 0
- SaturationAdjustmentMagenta: 0
- SaturationAdjustmentOrange: 0
- SaturationAdjustmentPurple: 0
- SaturationAdjustmentRed: 0
- SaturationAdjustmentYellow: 0
- ShadowTint: 0
- Shadows: 11
- SharpenDetail: 30
- SharpenEdgeMasking: 38
- SharpenRadius: +1.5
- Sharpness: 58
- SplitToningBalance: 0
- SplitToningHighlightHue: 0
- SplitToningHighlightSaturation: 0
- SplitToningShadowHue: 0
- SplitToningShadowSaturation: 0
- ToneCurve: 0, 0, 255, 255
- ToneCurveName: Linear
- Version: 4.6
- Vibrance: +45
- VignetteAmount: 0
- WhiteBalance: Auto
- XMP-exif
- DateTimeDigitized: 2009:07:25 16:39:33+03:00
- DateTimeOriginal: 2009:07:25 16:39:33+03:00
- ExifImageHeight: 768
- ExifImageWidth: 1024
- FlashFired: False
- FlashFunction: False
- FlashMode: Off
- FlashRedEyeMode: False
- FlashReturn: No return detection
- XMP-tiff
- ImageHeight: 768
- ImageWidth: 1024
- XMP-xmp
- CreateDate: 2009:07:25 16:39:33+03:00
- CreatorTool: COOLPIX L16 V1.1
- ModifyDate: 2009:08:16 18:48:24+03:00
- Просмотров: 1652
- Рейтинг: голосов еще нет
- Отзывов: 3
Получить код для блога
Вставка фотографии в текущем разрешении |
Вставка миниатюры |
HTML (для вставки в блог):
BBCode (для вставки в форум):
Ссылка на фото:
Ссылка на миниатюру:
- Послать ссылку другу
Комментарии к фотографии |