- Раздел: Другое, разное
- Дата съёмки: 14.08.2009 20:26
- Дата загрузки фото: 18.08.2009 22:05
- Оригинальная фотография: 450 x 675 (238 Кб)
- Технические характеристики:
- Фотоаппарат: Canon EOS 450D
- Выдержка: 1/50
- Гиперфокальное расстояние: 19,70 m
- Диафрагма: 5,6
- Светочувствительность: 200
- Фокусное расстояние: 18,0 mm (35 mm equivalent: 184,2 mm)
- Полный EXIF
- Adobe
- ColorTransform: YCbCr
- Composite
- Aperture: 5,6
- CircleOfConfusion: 0,003 mm
- FOV: 11,0 deg
- FocalLength35efl: 18,0 mm (35 mm equivalent: 184,2 mm)
- HyperfocalDistance: 19,70 m
- ScaleFactor35efl: 10,2
- ShutterSpeed: 1/50
- ExifIFD
- ApertureValue: 5,6
- ColorSpace: sRGB
- CreateDate: 2009:08:14 20:26:25
- CustomRendered: Normal
- DateTimeOriginal: 2009:08:14 20:26:25
- ExifImageHeight: 675
- ExifImageWidth: 450
- ExposureCompensation: 0
- ExposureMode: Auto
- ExposureProgram: Aperture-priority AE
- ExposureTime: 1/50
- FNumber: 5,6
- Flash: Off
- FocalLength: 18,0 mm
- ISO: 200
- MaxApertureValue: 3,5
- MeteringMode: Center-weighted average
- SceneCaptureType: Standard
- ShutterSpeedValue: 1/50
- WhiteBalance: Auto
- ICC-header
- ICC-meas
- ICC-view
- IFD0
- Make: Canon
- Model: Canon EOS 450D
- ModifyDate: 2009:08:18 21:05:50
- Orientation: Horizontal (normal)
- IFD1
- IPTC
- XMP-aux
- Firmware: 1.0.9
- FlashCompensation: 0
- ImageNumber: 0
- Lens: EF-S18-55mm f/3.5-5.6 IS
- LensInfo: 18/1 55/1 0/0 0/0
- SerialNumber: 980397874
- XMP-crs
- AlreadyApplied: True
- BlueHue: 0
- BlueSaturation: 0
- Brightness: +50
- ChromaticAberrationB: 0
- ChromaticAberrationR: 0
- Clarity: +100
- ColorNoiseReduction: 25
- Contrast: +34
- ConvertToGrayscale: False
- Defringe: 0
- Exposure: +0.57
- FillLight: 0
- GreenHue: 0
- GreenSaturation: 0
- HasCrop: False
- HasSettings: True
- HighlightRecovery: 52
- HueAdjustmentAqua: 0
- HueAdjustmentBlue: 0
- HueAdjustmentGreen: 0
- HueAdjustmentMagenta: 0
- HueAdjustmentOrange: 0
- HueAdjustmentPurple: 0
- HueAdjustmentRed: 0
- HueAdjustmentYellow: 0
- LuminanceAdjustmentAqua: 0
- LuminanceAdjustmentBlue: 0
- LuminanceAdjustmentGreen: 0
- LuminanceAdjustmentMagenta: 0
- LuminanceAdjustmentOrange: 0
- LuminanceAdjustmentPurple: 0
- LuminanceAdjustmentRed: 0
- LuminanceAdjustmentYellow: 0
- LuminanceSmoothing: 44
- ParametricDarks: +2
- ParametricHighlightSplit: 75
- ParametricHighlights: -2
- ParametricLights: -14
- ParametricMidtoneSplit: 50
- ParametricShadowSplit: 25
- ParametricShadows: -29
- PostCropVignetteAmount: 0
- RedHue: 0
- RedSaturation: 0
- Saturation: +10
- SaturationAdjustmentAqua: 0
- SaturationAdjustmentBlue: 0
- SaturationAdjustmentGreen: 0
- SaturationAdjustmentMagenta: 0
- SaturationAdjustmentOrange: 0
- SaturationAdjustmentPurple: 0
- SaturationAdjustmentRed: 0
- SaturationAdjustmentYellow: 0
- ShadowTint: 0
- Shadows: 17
- SharpenDetail: 25
- SharpenEdgeMasking: 0
- SharpenRadius: +1.0
- Sharpness: 96
- SplitToningBalance: 0
- SplitToningHighlightHue: 0
- SplitToningHighlightSaturation: 0
- SplitToningShadowHue: 0
- SplitToningShadowSaturation: 0
- Temperature: 5571
- Tint: -2
- ToneCurve: 0, 0, 32, 22, 64, 56, 128, 128, 192, 196, 255, 255
- ToneCurveName: Medium Contrast
- Version: 5.3
- Vibrance: +57
- VignetteAmount: 0
- WhiteBalance: Custom
- XMP-dc
- XMP-exif
- DateTimeDigitized: 2009:08:14 20:26:25.03+03:00
- DateTimeOriginal: 2009:08:14 20:26:25.03+03:00
- FlashFired: False
- FlashFunction: False
- FlashMode: Off
- FlashRedEyeMode: False
- FlashReturn: No return detection
- XMP-tiff
- ImageHeight: 4272
- ImageWidth: 2848
- XMP-xmp
- CreateDate: 2009:08:14 20:26:25.03+03:00
- ModifyDate: 2009:08:18 21:05:50+03:00
- XMP-xmpMM
- Просмотров: 386
- Рейтинг: голосов еще нет
- Отзывов: отключены