- Раздел: Другое, разное
- Дата съёмки: 29.08.2009 18:48
- Дата загрузки фото: 10.09.2009 15:40
- Оригинальная фотография: 700 x 700 (340 Кб)
- Технические характеристики:
- Фотоаппарат: Canon EOS 5D
- Выдержка: 1/200
- Гиперфокальное расстояние: 7,28 m
- Диафрагма: 14,0
- Светочувствительность: 200
- Фокусное расстояние: 24,0 mm (35 mm equivalent: 127,6 mm)
- Полный EXIF
- Adobe
- ColorTransform: YCbCr
- Composite
- Aperture: 14,0
- CircleOfConfusion: 0,006 mm
- FOV: 16,0 deg
- FocalLength35efl: 24,0 mm (35 mm equivalent: 127,6 mm)
- HyperfocalDistance: 7,28 m
- ScaleFactor35efl: 5,3
- ShutterSpeed: 1/200
- ExifIFD
- ApertureValue: 14,0
- CreateDate: 2009:08:29 18:48:24
- CustomRendered: Normal
- DateTimeOriginal: 2009:08:29 18:48:24
- ExposureCompensation: 0
- ExposureMode: Auto
- ExposureProgram: Shutter speed priority AE
- ExposureTime: 1/200
- FNumber: 14,0
- Flash: Off
- FocalLength: 24,0 mm
- ISO: 200
- MaxApertureValue: 1,8
- MeteringMode: Multi-segment
- SceneCaptureType: Standard
- ShutterSpeedValue: 1/200
- WhiteBalance: Auto
- ICC-header
- ICC-meas
- ICC-view
- IFD0
- Make: Canon
- Model: Canon EOS 5D
- ModifyDate: 2009:09:10 15:08:46
- IFD1
- XMP-aux
- Firmware: 1.1.0
- FlashCompensation: 0
- ImageNumber: 8
- Lens: 24.0 mm
- LensInfo: 24/1 24/1 0/0 0/0
- SerialNumber: 2921204720
- XMP-crs
- AlreadyApplied: True
- BlueHue: 0
- BlueSaturation: 0
- Brightness: +38
- CameraProfile: ACR 4.4
- ChromaticAberrationB: 0
- ChromaticAberrationR: 0
- Clarity: +4
- ColorNoiseReduction: 0
- Contrast: +8
- ConvertToGrayscale: False
- CropAngle: 0
- CropBottom: 1
- CropHeight: 700
- CropLeft: 0.275331
- CropRight: 0.941997
- CropTop: 0
- CropUnit: 0
- CropWidth: 700
- Defringe: 0
- Exposure: +1.08
- FillLight: 13
- GreenHue: 0
- GreenSaturation: 0
- HasCrop: True
- HasSettings: True
- HighlightRecovery: 51
- HueAdjustmentAqua: 0
- HueAdjustmentBlue: -38
- HueAdjustmentGreen: 0
- HueAdjustmentMagenta: 0
- HueAdjustmentOrange: 0
- HueAdjustmentPurple: 0
- HueAdjustmentRed: 0
- HueAdjustmentYellow: 0
- LuminanceAdjustmentAqua: 0
- LuminanceAdjustmentBlue: 0
- LuminanceAdjustmentGreen: 0
- LuminanceAdjustmentMagenta: 0
- LuminanceAdjustmentOrange: 0
- LuminanceAdjustmentPurple: 0
- LuminanceAdjustmentRed: 0
- LuminanceAdjustmentYellow: 0
- LuminanceSmoothing: 0
- ParametricDarks: 0
- ParametricHighlightSplit: 75
- ParametricHighlights: -60
- ParametricLights: 0
- ParametricMidtoneSplit: 50
- ParametricShadowSplit: 25
- ParametricShadows: 0
- PostCropVignetteAmount: -13
- PostCropVignetteFeather: 50
- PostCropVignetteMidpoint: 79
- PostCropVignetteRoundness: 0
- RedHue: 0
- RedSaturation: 0
- Saturation: -8
- SaturationAdjustmentAqua: -6
- SaturationAdjustmentBlue: +17
- SaturationAdjustmentGreen: +46
- SaturationAdjustmentMagenta: +19
- SaturationAdjustmentOrange: +6
- SaturationAdjustmentPurple: 0
- SaturationAdjustmentRed: -31
- SaturationAdjustmentYellow: +4
- ShadowTint: 0
- Shadows: 17
- SharpenDetail: 25
- SharpenEdgeMasking: 0
- SharpenRadius: +1.0
- Sharpness: 0
- SplitToningBalance: -15
- SplitToningHighlightHue: 79
- SplitToningHighlightSaturation: 65
- SplitToningShadowHue: 308
- SplitToningShadowSaturation: 25
- Temperature: 6118
- Tint: +5
- ToneCurve: 0, 0, 32, 16, 64, 50, 128, 128, 192, 202, 255, 255
- ToneCurveName: Strong Contrast
- Version: 5.4
- Vibrance: -20
- VignetteAmount: -100
- VignetteMidpoint: 11
- WhiteBalance: Custom
- XMP-exif
- DateTimeDigitized: 2009:08:29 18:48:24+04:00
- DateTimeOriginal: 2009:08:29 18:48:24+04:00
- ExifImageHeight: 700
- ExifImageWidth: 700
- FlashFired: False
- FlashFunction: False
- FlashMode: Off
- FlashRedEyeMode: False
- FlashReturn: No return detection
- XMP-tiff
- ImageHeight: 700
- ImageWidth: 700
- XMP-xmp
- CreateDate: 2009:08:29 18:48:24+04:00
- ModifyDate: 2009:09:10 15:08:46+04:00
- Просмотров: 587
- Рейтинг: голосов еще нет
- Отзывов: 0