- Раздел: Другое, разное
- Дата съёмки: 20.09.2009 23:49
- Дата загрузки фото: 20.09.2009 23:48
- Оригинальная фотография: 1280 x 1023 (368 Кб)
- Технические характеристики:
- Фотоаппарат: Canon EOS 400D DIGITAL
- Выдержка: 1/2000
- Гиперфокальное расстояние: 152,71 m
- Диафрагма: 7,1
- Светочувствительность: 100
- Фокусное расстояние: 84,0 mm (35 mm equivalent: 387,8 mm)
- Полный EXIF
- Adobe
- ColorTransform: YCbCr
- Composite
- Aperture: 7,1
- CircleOfConfusion: 0,007 mm
- FOV: 5,0 deg
- FocalLength35efl: 84,0 mm (35 mm equivalent: 387,8 mm)
- HyperfocalDistance: 152,71 m
- ScaleFactor35efl: 4,6
- ShutterSpeed: 1/2000
- ExifIFD
- ApertureValue: 7,1
- ColorSpace: sRGB
- CreateDate: 2009:09:20 13:24:11
- CustomRendered: Normal
- DateTimeOriginal: 2009:09:20 13:24:11
- ExifImageHeight: 1023
- ExifImageWidth: 1280
- ExposureCompensation: 0
- ExposureMode: Auto
- ExposureProgram: Aperture-priority AE
- ExposureTime: 1/2000
- FNumber: 7,1
- Flash: Off
- FocalLength: 84,0 mm
- ISO: 100
- MaxApertureValue: 4,0
- MeteringMode: Multi-segment
- SceneCaptureType: Standard
- ShutterSpeedValue: 1/2000
- WhiteBalance: Auto
- ICC-header
- ICC-meas
- ICC-view
- IFD0
- Artist: unknown
- Make: Canon
- Model: Canon EOS 400D DIGITAL
- ModifyDate: 2009:09:20 23:49:06
- Orientation: Horizontal (normal)
- IFD1
- IPTC
- By-line: unknown
- XMP-aux
- Firmware: 1.0.4
- FlashCompensation: 0
- ImageNumber: 224
- Lens: 55.0-250.0 mm
- LensInfo: 55/1 250/1 0/0 0/0
- OwnerName: unknown
- SerialNumber: 430124338
- XMP-crs
- AlreadyApplied: True
- BlueHue: 0
- BlueSaturation: 0
- Brightness: +50
- CameraProfile: ACR 4.4
- ChromaticAberrationB: 0
- ChromaticAberrationR: 0
- Clarity: +40
- ColorNoiseReduction: 0
- Contrast: 0
- ConvertToGrayscale: False
- CropAngle: 0.995561
- CropBottom: 0.952785
- CropHeight: 5
- CropLeft: 0.154831
- CropRight: 0.803305
- CropTop: 0.146504
- CropUnit: 3
- CropWidth: 4
- Defringe: 0
- Exposure: 0.00
- FillLight: 0
- GreenHue: 0
- GreenSaturation: 0
- HasCrop: True
- HasSettings: True
- HighlightRecovery: 0
- HueAdjustmentAqua: 0
- HueAdjustmentBlue: 0
- HueAdjustmentGreen: 0
- HueAdjustmentMagenta: 0
- HueAdjustmentOrange: 0
- HueAdjustmentPurple: 0
- HueAdjustmentRed: 0
- HueAdjustmentYellow: 0
- LuminanceAdjustmentAqua: 0
- LuminanceAdjustmentBlue: 0
- LuminanceAdjustmentGreen: 0
- LuminanceAdjustmentMagenta: 0
- LuminanceAdjustmentOrange: 0
- LuminanceAdjustmentPurple: 0
- LuminanceAdjustmentRed: 0
- LuminanceAdjustmentYellow: 0
- LuminanceSmoothing: 0
- ParametricDarks: 0
- ParametricHighlightSplit: 75
- ParametricHighlights: 0
- ParametricLights: 0
- ParametricMidtoneSplit: 50
- ParametricShadowSplit: 25
- ParametricShadows: 0
- PostCropVignetteAmount: 0
- RawFileName: IMG_3998.CR2
- RedHue: 0
- RedSaturation: 0
- Saturation: +10
- SaturationAdjustmentAqua: 0
- SaturationAdjustmentBlue: 0
- SaturationAdjustmentGreen: 0
- SaturationAdjustmentMagenta: 0
- SaturationAdjustmentOrange: 0
- SaturationAdjustmentPurple: 0
- SaturationAdjustmentRed: 0
- SaturationAdjustmentYellow: 0
- ShadowTint: 0
- Shadows: 5
- SharpenDetail: 20
- SharpenEdgeMasking: 0
- SharpenRadius: +0.5
- Sharpness: 20
- SplitToningBalance: 0
- SplitToningHighlightHue: 0
- SplitToningHighlightSaturation: 0
- SplitToningShadowHue: 0
- SplitToningShadowSaturation: 0
- Temperature: 5750
- Tint: +14
- ToneCurve: 0, 0, 32, 22, 64, 56, 128, 128, 192, 196, 255, 255
- ToneCurveName: Medium Contrast
- Version: 4.6
- Vibrance: +20
- VignetteAmount: 0
- WhiteBalance: As Shot
- XMP-dc
- Creator: unknown
- Format: image/jpeg
- XMP-exif
- DateTimeDigitized: 2009:09:20 13:24:11+04:00
- DateTimeOriginal: 2009:09:20 13:24:11+04:00
- FlashFired: False
- FlashFunction: False
- FlashMode: Off
- FlashRedEyeMode: False
- FlashReturn: No return detection
- XMP-tiff
- XMP-xmp
- CreateDate: 2009:09:20 23:49:06+04:00
- ModifyDate: 2009:09:20 23:49:06+04:00
- Rating: 0
- XMP-xmpMM
- DerivedFrom:
- Просмотров: 324
- Рейтинг: голосов еще нет
- Отзывов: 0