- Раздел: Отдых, развлечения
- Дата съёмки: 09.09.2009 12:42
- Дата загрузки фото: 21.09.2009 23:44
- Оригинальная фотография: 2592 x 3872 (5,0 Мб)
- Технические характеристики:
- Фотоаппарат: Samsung GX10
- Выдержка: 1/13
- Гиперфокальное расстояние: 3,91 m
- Диафрагма: 10,0
- Светочувствительность: 160
- Фокусное расстояние: 28,0 mm (35 mm equivalent: 42,0 mm)
- Экспокоррекция: +0,3
- Полный EXIF
- Adobe
- ColorTransform: YCbCr
- Composite
- Aperture: 10,0
- CircleOfConfusion: 0,020 mm
- FOV: 46,0 deg
- FocalLength35efl: 28,0 mm (35 mm equivalent: 42,0 mm)
- HyperfocalDistance: 3,91 m
- ScaleFactor35efl: 1,5
- ShutterSpeed: 1/13
- ExifIFD
- ApertureValue: 10,0
- Contrast: Normal
- CreateDate: 2009:09:09 12:42:49
- CustomRendered: Normal
- DateTimeOriginal: 2009:09:09 12:42:49
- ExposureCompensation: +0,3
- ExposureMode: Manual
- ExposureProgram: Aperture-priority AE
- ExposureTime: 1/13
- FNumber: 10,0
- Flash: Off
- FocalLength: 28,0 mm
- FocalLengthIn35mmFormat: 42 mm
- ISO: 160
- MeteringMode: Multi-segment
- Saturation: Low
- SceneCaptureType: Standard
- SensingMethod: One-chip color area
- Sharpness: Hard
- ShutterSpeedValue: 1/13
- SubjectDistanceRange: Distant
- WhiteBalance: Auto
- ICC-header
- ICC-meas
- ICC-view
- IFD0
- Make: SAMSUNG TECHWIN Co.
- Model: SAMSUNG GX10
- ModifyDate: 2009:09:21 18:04:32
- Software: GX10 Ver 1.30
- IFD1
- XMP-aux
- Lens: Sigma or Tamron Lens
- LensID: 3 44
- XMP-crs
- AlreadyApplied: True
- BlueHue: 0
- BlueSaturation: 0
- Brightness: +55
- ChromaticAberrationB: 0
- ChromaticAberrationR: 0
- Clarity: +26
- ColorNoiseReduction: 25
- Contrast: +52
- ConvertToGrayscale: False
- Defringe: 0
- Exposure: 0.00
- FillLight: 0
- GreenHue: 0
- GreenSaturation: 0
- HasCrop: False
- HasSettings: True
- HighlightRecovery: 21
- HueAdjustmentAqua: 0
- HueAdjustmentBlue: 0
- HueAdjustmentGreen: 0
- HueAdjustmentMagenta: 0
- HueAdjustmentOrange: 0
- HueAdjustmentPurple: 0
- HueAdjustmentRed: 0
- HueAdjustmentYellow: 0
- LuminanceAdjustmentAqua: 0
- LuminanceAdjustmentBlue: 0
- LuminanceAdjustmentGreen: 0
- LuminanceAdjustmentMagenta: 0
- LuminanceAdjustmentOrange: 0
- LuminanceAdjustmentPurple: 0
- LuminanceAdjustmentRed: 0
- LuminanceAdjustmentYellow: 0
- LuminanceSmoothing: 0
- ParametricDarks: 0
- ParametricHighlightSplit: 75
- ParametricHighlights: 0
- ParametricLights: 0
- ParametricMidtoneSplit: 50
- ParametricShadowSplit: 25
- ParametricShadows: 0
- PostCropVignetteAmount: 0
- RawFileName: SG105787_1.dng
- RedHue: 0
- RedSaturation: 0
- Saturation: 0
- SaturationAdjustmentAqua: 0
- SaturationAdjustmentBlue: 0
- SaturationAdjustmentGreen: 0
- SaturationAdjustmentMagenta: 0
- SaturationAdjustmentOrange: 0
- SaturationAdjustmentPurple: 0
- SaturationAdjustmentRed: 0
- SaturationAdjustmentYellow: 0
- ShadowTint: 0
- Shadows: 6
- SharpenDetail: 25
- SharpenEdgeMasking: 0
- SharpenRadius: +1.0
- Sharpness: 25
- SplitToningBalance: 0
- SplitToningHighlightHue: 0
- SplitToningHighlightSaturation: 0
- SplitToningShadowHue: 0
- SplitToningShadowSaturation: 0
- Temperature: 5500
- Tint: +10
- ToneCurve: 0, 0, 32, 22, 64, 56, 128, 128, 192, 196, 255, 255
- ToneCurveName: Medium Contrast
- Version: 5.5
- Vibrance: 0
- VignetteAmount: 0
- WhiteBalance: Daylight
- XMP-exif
- DateTimeDigitized: 2009:09:09 12:42:49+04:00
- DateTimeOriginal: 2009:09:09 12:42:49+04:00
- ExifImageHeight: 3872
- ExifImageWidth: 2592
- FlashFired: False
- FlashFunction: False
- FlashMode: Off
- FlashRedEyeMode: False
- FlashReturn: No return detection
- XMP-tiff
- ImageHeight: 3872
- ImageWidth: 2592
- XMP-xmp
- CreateDate: 2009:09:09 12:42:49+04:00
- CreatorTool: GX10 Ver 1.30
- ModifyDate: 2009:09:21 18:04:32+04:00
- Rating: 5
- Просмотров: 254
- Рейтинг: голосов еще нет
- Отзывов: 0