- Раздел: Отдых, развлечения
- Дата съёмки: 04.09.2009 14:19
- Дата загрузки фото: 21.09.2009 23:47
- Оригинальная фотография: 3738 x 2503 (3,5 Мб)
- Технические характеристики:
- Фотоаппарат: Samsung GX10
- Выдержка: 1/80
- Гиперфокальное расстояние: 21,90 m
- Диафрагма: 9,0
- Светочувствительность: 320
- Фокусное расстояние: 63,0 mm (35 mm equivalent: 94,0 mm)
- Экспокоррекция: +0,3
- Полный EXIF
- Adobe
- ColorTransform: YCbCr
- Composite
- Aperture: 9,0
- CircleOfConfusion: 0,020 mm
- FOV: 21,0 deg
- FocalLength35efl: 63,0 mm (35 mm equivalent: 94,0 mm)
- HyperfocalDistance: 21,90 m
- ScaleFactor35efl: 1,5
- ShutterSpeed: 1/80
- ExifIFD
- ApertureValue: 9,0
- ColorSpace: sRGB
- Contrast: Normal
- CreateDate: 2009:09:04 14:19:09
- CustomRendered: Normal
- DateTimeOriginal: 2009:09:04 14:19:09
- ExifImageHeight: 2503
- ExifImageWidth: 3738
- ExposureCompensation: +0,3
- ExposureMode: Manual
- ExposureProgram: Aperture-priority AE
- ExposureTime: 1/80
- FNumber: 9,0
- Flash: Off
- FocalLength: 63,0 mm
- FocalLengthIn35mmFormat: 94 mm
- ISO: 320
- MeteringMode: Multi-segment
- Saturation: Low
- SceneCaptureType: Standard
- SensingMethod: One-chip color area
- Sharpness: Hard
- ShutterSpeedValue: 1/80
- SubjectDistanceRange: Distant
- WhiteBalance: Manual
- ICC-header
- ICC-meas
- ICC-view
- IFD0
- Make: SAMSUNG TECHWIN Co.
- Model: SAMSUNG GX10
- ModifyDate: 2009:09:21 15:08:22
- Orientation: Horizontal (normal)
- IFD1
- IPTC
- XMP-aux
- Lens: Schneider D-XENON 50-200mm F4-5.6
- LensID: 4 245
- LensInfo: 500/10 2000/10 40/10 56/10
- XMP-crs
- AlreadyApplied: True
- BlueHue: 0
- BlueSaturation: 0
- Brightness: +39
- ChromaticAberrationB: 0
- ChromaticAberrationR: 0
- Clarity: +28
- ColorNoiseReduction: 25
- Contrast: +50
- ConvertToGrayscale: False
- CropAngle: 1.380354
- CropBottom: 1
- CropLeft: 0.025158
- CropRight: 0.974842
- CropTop: 0
- Defringe: 0
- Exposure: +0.10
- FillLight: 26
- GreenHue: 0
- GreenSaturation: 0
- HasCrop: True
- HasSettings: True
- HighlightRecovery: 0
- HueAdjustmentAqua: 0
- HueAdjustmentBlue: 0
- HueAdjustmentGreen: 0
- HueAdjustmentMagenta: 0
- HueAdjustmentOrange: 0
- HueAdjustmentPurple: 0
- HueAdjustmentRed: 0
- HueAdjustmentYellow: 0
- LuminanceAdjustmentAqua: 0
- LuminanceAdjustmentBlue: 0
- LuminanceAdjustmentGreen: 0
- LuminanceAdjustmentMagenta: 0
- LuminanceAdjustmentOrange: 0
- LuminanceAdjustmentPurple: 0
- LuminanceAdjustmentRed: 0
- LuminanceAdjustmentYellow: 0
- LuminanceSmoothing: 0
- ParametricDarks: 0
- ParametricHighlightSplit: 75
- ParametricHighlights: 0
- ParametricLights: 0
- ParametricMidtoneSplit: 50
- ParametricShadowSplit: 25
- ParametricShadows: 0
- PostCropVignetteAmount: 0
- RawFileName: SG105020_1.dng
- RedHue: 0
- RedSaturation: 0
- Saturation: 0
- SaturationAdjustmentAqua: 0
- SaturationAdjustmentBlue: 0
- SaturationAdjustmentGreen: 0
- SaturationAdjustmentMagenta: 0
- SaturationAdjustmentOrange: 0
- SaturationAdjustmentPurple: 0
- SaturationAdjustmentRed: 0
- SaturationAdjustmentYellow: 0
- ShadowTint: 0
- Shadows: 32
- SharpenDetail: 25
- SharpenEdgeMasking: 0
- SharpenRadius: +1.0
- Sharpness: 25
- SplitToningBalance: 0
- SplitToningHighlightHue: 0
- SplitToningHighlightSaturation: 0
- SplitToningShadowHue: 0
- SplitToningShadowSaturation: 0
- Temperature: 6500
- Tint: +10
- ToneCurve: 0, 0, 32, 22, 64, 56, 128, 128, 192, 196, 255, 255
- ToneCurveName: Medium Contrast
- Version: 5.5
- Vibrance: 0
- VignetteAmount: 0
- WhiteBalance: Cloudy
- XMP-dc
- XMP-exif
- DateTimeDigitized: 2009:09:04 14:19:09+04:00
- DateTimeOriginal: 2009:09:04 14:19:09+04:00
- FlashFired: False
- FlashFunction: False
- FlashMode: Off
- FlashRedEyeMode: False
- FlashReturn: No return detection
- XMP-tiff
- XMP-xmp
- CreateDate: 2009:09:04 14:19:09+04:00
- CreatorTool: GX10 Ver 1.30
- ModifyDate: 2009:09:21 15:08:22+04:00
- Rating: 5
- XMP-xmpMM
- Просмотров: 280
- Рейтинг: голосов еще нет
- Отзывов: 0