- Раздел: Портрет
- Дата съёмки: 24.09.2009 17:45
- Дата загрузки фото: 25.09.2009 01:16
- Оригинальная фотография: 2616 x 3488 (7,0 Мб)
- Технические характеристики:
- Фотоаппарат: FujiFilm FinePix S9600
- Выдержка: 1/100
- Гиперфокальное расстояние: 0,82 m
- Диафрагма: 3,2
- Светочувствительность: 80
- Фокусное расстояние: 6,2 mm (35 mm equivalent: 12,6 mm)
- Полный EXIF
- Adobe
- ColorTransform: YCbCr
- Composite
- Aperture: 3,2
- CircleOfConfusion: 0,015 mm
- FOV: 109,0 deg
- FocalLength35efl: 6,2 mm (35 mm equivalent: 12,6 mm)
- HyperfocalDistance: 0,82 m
- ScaleFactor35efl: 2,0
- ShutterSpeed: 1/100
- ExifIFD
- ApertureValue: 3,2
- BrightnessValue: 6,33
- ColorSpace: Uncalibrated
- Contrast: Normal
- CreateDate: 2009:09:24 17:45:44
- CustomRendered: Custom
- DateTimeOriginal: 2009:09:24 17:45:44
- ExifImageHeight: 3488
- ExifImageWidth: 2616
- ExposureCompensation: 0
- ExposureMode: Manual
- ExposureProgram: Manual
- ExposureTime: 1/100
- FNumber: 3,2
- Flash: On
- FocalLength: 6,2 mm
- ISO: 80
- LightSource: Unknown
- MaxApertureValue: 2,8
- MeteringMode: Multi-segment
- Saturation: Normal
- SceneCaptureType: Standard
- SceneType: Directly photographed
- SensingMethod: One-chip color area
- Sharpness: Normal
- ShutterSpeedValue: 1/100
- SubjectDistanceRange: Close
- WhiteBalance: Auto
- ICC-header
- IFD0
- Make: FUJIFILM
- Model: FinePix S9600
- ModifyDate: 2009:09:25 00:28:46
- Orientation: Horizontal (normal)
- IFD1
- IPTC
- XMP-crs
- AlreadyApplied: True
- BlueHue: 0
- BlueSaturation: 0
- Brightness: +50
- CameraProfile: ACR 4.4
- ChromaticAberrationB: 0
- ChromaticAberrationR: 0
- Clarity: 0
- ColorNoiseReduction: 25
- Contrast: +74
- ConvertToGrayscale: False
- Defringe: 0
- Exposure: +0.50
- FillLight: 0
- GreenHue: 0
- GreenSaturation: 0
- HasCrop: False
- HasSettings: True
- HighlightRecovery: 100
- HueAdjustmentAqua: 0
- HueAdjustmentBlue: 0
- HueAdjustmentGreen: 0
- HueAdjustmentMagenta: 0
- HueAdjustmentOrange: 0
- HueAdjustmentPurple: 0
- HueAdjustmentRed: 0
- HueAdjustmentYellow: 0
- LuminanceAdjustmentAqua: 0
- LuminanceAdjustmentBlue: 0
- LuminanceAdjustmentGreen: 0
- LuminanceAdjustmentMagenta: 0
- LuminanceAdjustmentOrange: 0
- LuminanceAdjustmentPurple: 0
- LuminanceAdjustmentRed: 0
- LuminanceAdjustmentYellow: 0
- LuminanceSmoothing: 0
- ParametricDarks: 0
- ParametricHighlightSplit: 75
- ParametricHighlights: 0
- ParametricLights: 0
- ParametricMidtoneSplit: 50
- ParametricShadowSplit: 25
- ParametricShadows: 0
- PostCropVignetteAmount: 0
- RawFileName: DSCF2823.RAF
- RedHue: 0
- RedSaturation: 0
- Saturation: 0
- SaturationAdjustmentAqua: +48
- SaturationAdjustmentBlue: 0
- SaturationAdjustmentGreen: +60
- SaturationAdjustmentMagenta: 0
- SaturationAdjustmentOrange: 0
- SaturationAdjustmentPurple: 0
- SaturationAdjustmentRed: 0
- SaturationAdjustmentYellow: 0
- ShadowTint: 0
- Shadows: 5
- SharpenDetail: 25
- SharpenEdgeMasking: 0
- SharpenRadius: +1.0
- Sharpness: 25
- SplitToningBalance: 0
- SplitToningHighlightHue: 0
- SplitToningHighlightSaturation: 0
- SplitToningShadowHue: 0
- SplitToningShadowSaturation: 0
- Temperature: 4800
- Tint: +4
- ToneCurve: 0, 0, 32, 22, 64, 56, 128, 128, 192, 196, 255, 255
- ToneCurveName: Medium Contrast
- Version: 5.0
- Vibrance: 0
- VignetteAmount: 0
- WhiteBalance: As Shot
- XMP-dc
- XMP-exif
- DateTimeDigitized: 2009:09:24 17:45:44+04:00
- DateTimeOriginal: 2009:09:24 17:45:44+04:00
- FlashFired: True
- FlashFunction: False
- FlashMode: On
- FlashRedEyeMode: False
- FlashReturn: No return detection
- XMP-tiff
- XMP-xmp
- CreateDate: 2009:09:24 17:45:44+04:00
- CreatorTool: Digital Camera FinePix S9600 Ver1.00
- ModifyDate: 2009:09:25 00:28:46+04:00
- Rating: 0
- XMP-xmpMM
- Просмотров: 307
- Рейтинг: голосов еще нет
- Отзывов: 0