- Раздел: Другое, разное
- Дата съёмки: 01.10.2009 15:17
- Дата загрузки фото: 01.10.2009 16:00
- Оригинальная фотография: 1200 x 1600 (1,1 Мб)
- Технические характеристики:
- Фотоаппарат: FujiFilm FinePix S9600
- Выдержка: 1/13
- Гиперфокальное расстояние: 8,46 m
- Диафрагма: 3,3
- Светочувствительность: 80
- Фокусное расстояние: 9,3 mm (35 mm equivalent: 90,2 mm)
- Полный EXIF
- Adobe
- ColorTransform: YCbCr
- Composite
- Aperture: 3,3
- CircleOfConfusion: 0,003 mm
- FOV: 22,0 deg
- FocalLength35efl: 9,3 mm (35 mm equivalent: 90,2 mm)
- HyperfocalDistance: 8,46 m
- ScaleFactor35efl: 9,7
- ShutterSpeed: 1/13
- ExifIFD
- ApertureValue: 3,3
- BrightnessValue: 2,36
- ColorSpace: sRGB
- Contrast: Normal
- CreateDate: 2009:10:01 15:17:28
- CustomRendered: Custom
- DateTimeOriginal: 2009:10:01 15:17:28
- ExifImageHeight: 1600
- ExifImageWidth: 1200
- ExposureCompensation: 0
- ExposureMode: Manual
- ExposureProgram: Manual
- ExposureTime: 1/13
- FNumber: 3,3
- Flash: Off
- FocalLength: 9,3 mm
- ISO: 80
- LightSource: Unknown
- MaxApertureValue: 2,8
- MeteringMode: Multi-segment
- Saturation: Normal
- SceneCaptureType: Standard
- SceneType: Directly photographed
- SensingMethod: One-chip color area
- Sharpness: Normal
- ShutterSpeedValue: 1/13
- SubjectDistanceRange: Close
- WhiteBalance: Auto
- ICC-header
- ICC-meas
- ICC-view
- IFD0
- Make: FUJIFILM
- Model: FinePix S9600
- ModifyDate: 2009:10:01 16:00:13
- Orientation: Horizontal (normal)
- IFD1
- IPTC
- XMP-crs
- AlreadyApplied: True
- BlueHue: +11
- BlueSaturation: -21
- Brightness: +64
- CameraProfile: Embedded
- ChromaticAberrationB: 0
- ChromaticAberrationR: 0
- Clarity: +100
- ColorNoiseReduction: 25
- Contrast: +86
- ConvertToGrayscale: True
- Defringe: 0
- Exposure: 0.00
- FillLight: 0
- GrayMixerAqua: +2
- GrayMixerBlue: +19
- GrayMixerGreen: 0
- GrayMixerMagenta: +30
- GrayMixerOrange: +8
- GrayMixerPurple: +25
- GrayMixerRed: +34
- GrayMixerYellow: -12
- GreenHue: +16
- GreenSaturation: +51
- HasCrop: False
- HasSettings: True
- HighlightRecovery: 100
- IncrementalTemperature: 0
- IncrementalTint: 0
- LuminanceSmoothing: 0
- ParametricDarks: 0
- ParametricHighlightSplit: 75
- ParametricHighlights: 0
- ParametricLights: 0
- ParametricMidtoneSplit: 50
- ParametricShadowSplit: 25
- ParametricShadows: -40
- PostCropVignetteAmount: 0
- RedHue: +23
- RedSaturation: +10
- ShadowTint: +4
- Shadows: 10
- SharpenDetail: 25
- SharpenEdgeMasking: 0
- SharpenRadius: +1.0
- Sharpness: 25
- SplitToningBalance: 0
- SplitToningHighlightHue: 215
- SplitToningHighlightSaturation: 32
- SplitToningShadowHue: 240
- SplitToningShadowSaturation: 29
- ToneCurve: 0, 0, 255, 255
- ToneCurveName: Linear
- Version: 5.4
- VignetteAmount: -100
- VignetteMidpoint: 40
- WhiteBalance: As Shot
- XMP-dc
- XMP-exif
- DateTimeDigitized: 2009:10:01 15:17:28+04:00
- DateTimeOriginal: 2009:10:01 15:17:28+04:00
- FlashFired: False
- FlashFunction: False
- FlashMode: Off
- FlashRedEyeMode: False
- FlashReturn: No return detection
- XMP-tiff
- ImageHeight: 3488
- ImageWidth: 2616
- XMP-xmp
- CreateDate: 2009:10:01 15:17:28+04:00
- ModifyDate: 2009:10:01 16:00:13+04:00
- XMP-xmpMM