- Раздел: Другое, разное
- Дата съёмки: 27.09.2009 18:18
- Дата загрузки фото: 06.10.2009 22:25
- Оригинальная фотография: 1280 x 853 (227 Кб)
- Технические характеристики:
- Фотоаппарат: Canon EOS 5D
- Выдержка: 1/250
- Гиперфокальное расстояние: 813,03 m
- Диафрагма: 5,6
- Светочувствительность: 200
- Фокусное расстояние: 200,0 mm (35 mm equivalent: 684,0 mm)
- Экспокоррекция: +1/3
- Полный EXIF
- Adobe
- ColorTransform: Unknown (RGB or CMYK)
- Composite
- Aperture: 5,6
- CircleOfConfusion: 0,009 mm
- FOV: 3,0 deg
- FocalLength35efl: 200,0 mm (35 mm equivalent: 684,0 mm)
- HyperfocalDistance: 813,03 m
- ScaleFactor35efl: 3,4
- ShutterSpeed: 1/250
- ExifIFD
- ApertureValue: 5,6
- ColorSpace: Uncalibrated
- CreateDate: 2009:07:26 15:11:30
- CustomRendered: Normal
- DateTimeOriginal: 2009:07:26 15:11:30
- ExifImageHeight: 853
- ExifImageWidth: 1280
- ExposureCompensation: +1/3
- ExposureMode: Auto
- ExposureProgram: Aperture-priority AE
- ExposureTime: 1/250
- FNumber: 5,6
- Flash: Off
- FocalLength: 200,0 mm
- ISO: 200
- MaxApertureValue: 4,0
- MeteringMode: Unknown
- SceneCaptureType: Standard
- ShutterSpeedValue: 1/250
- WhiteBalance: Manual
- ICC-header
- IFD0
- Make: Canon
- Model: Canon EOS 5D
- ModifyDate: 2009:09:27 18:18:28
- Orientation: Horizontal (normal)
- TimeZoneOffset: 4 4
- IFD1
- IPTC
- XMP-aux
- Firmware: 1.1.1
- FlashCompensation: 0
- ImageNumber: 69
- Lens: EF70-200mm f/4L IS USM
- LensInfo: 70/1 200/1 0/0 0/0
- SerialNumber: 3131307142
- XMP-crs
- AlreadyApplied: True
- BlueHue: 0
- BlueSaturation: 0
- Brightness: +50
- CameraProfile: ACR 3.3
- ChromaticAberrationB: 0
- ChromaticAberrationR: 0
- Contrast: +66
- ConvertToGrayscale: True
- Exposure: 0.00
- FillLight: 0
- GrayMixerAqua: -18
- GrayMixerBlue: +9
- GrayMixerGreen: -27
- GrayMixerMagenta: +4
- GrayMixerOrange: -1
- GrayMixerPurple: +15
- GrayMixerRed: -9
- GrayMixerYellow: -23
- GreenHue: 0
- GreenSaturation: 0
- HasCrop: False
- HasSettings: True
- HighlightRecovery: 56
- LuminanceSmoothing: 0
- ParametricDarks: 0
- ParametricHighlightSplit: 75
- ParametricHighlights: 0
- ParametricLights: +7
- ParametricMidtoneSplit: 50
- ParametricShadowSplit: 25
- ParametricShadows: 0
- RawFileName: IMG_2746.CR2
- RedHue: 0
- RedSaturation: 0
- ShadowTint: 0
- Shadows: 8
- Sharpness: 25
- SplitToningBalance: 0
- SplitToningHighlightHue: 0
- SplitToningHighlightSaturation: 0
- SplitToningShadowHue: 0
- SplitToningShadowSaturation: 0
- Temperature: 4950
- Tint: +4
- ToneCurve: 0, 0, 32, 22, 64, 56, 128, 128, 192, 196, 255, 255
- ToneCurveName: Medium Contrast
- Version: 4.0
- VignetteAmount: -100
- VignetteMidpoint: 39
- WhiteBalance: As Shot
- XMP-dc
- XMP-exif
- ColorSpace: Unknown (-1)
- DateTimeDigitized: 2009:07:26 15:11:30+04:00
- DateTimeOriginal: 2009:07:26 15:11:30+04:00
- FlashFired: False
- FlashFunction: False
- FlashMode: Off
- FlashRedEyeMode: False
- FlashReturn: No return detection
- XMP-tiff
- BitsPerSample: 8
- ImageHeight: 2912
- ImageWidth: 4368
- PhotometricInterpretation: BlackIsZero
- SamplesPerPixel: 1
- XMP-xmp
- CreateDate: 2009:09:27 18:18:28+04:00
- ModifyDate: 2009:09:27 18:18:28+04:00
- Rating: 0
- XMP-xmpMM