» Участники » Tronutij » ॐ नमः शिवाय » Вот это штука :) ... |
Вот это штука :) ... |
Вот это штука :) ...
Второе название
"Мужик, ты чего ... ?"
- Раздел: Портрет
- Дата съёмки: 05.04.2010 19:29
- Дата загрузки фото: 09.10.2009 21:32
- Оригинальная фотография: 3072 x 2048 (4,0 Мб)
- Технические характеристики:
- Фотоаппарат: Canon EOS 10D
- Выдержка: 1/80
- Диафрагма: 2,2
- Светочувствительность: 1600
- Фокусное расстояние: 35,0 mm
- Экспокоррекция: +2/3
- Полный EXIF
- Adobe
- ColorTransform: YCbCr
- Composite
- Aperture: 2,2
- FocalLength35efl: 35,0 mm
- ShutterSpeed: 1/80
- ExifIFD
- ApertureValue: 2,2
- CreateDate: 2010:04:05 19:29:52
- DateTimeOriginal: 2010:04:05 19:29:52
- ExposureCompensation: +2/3
- ExposureProgram: Program AE
- ExposureTime: 1/80
- FNumber: 2,2
- Flash: No Flash
- FocalLength: 35,0 mm
- ISO: 1600
- MaxApertureValue: 1,4
- MeteringMode: Multi-segment
- ShutterSpeedValue: 1/80
- ICC-header
- ICC-meas
- ICC-view
- IFD0
- Make: Canon
- Model: Canon EOS 10D
- ModifyDate: 2009:10:09 21:31:59
- IFD1
- XMP-aux
- Firmware: 2.0.1
- Lens: 35.0 mm
- LensInfo: 35/1 35/1 0/0 0/0
- SerialNumber: 1720511286
- XMP-crs
- AlreadyApplied: True
- BlueHue: 0
- BlueSaturation: +63
- Brightness: +57
- ChromaticAberrationB: 0
- ChromaticAberrationR: 0
- Clarity: 0
- ColorNoiseReduction: 25
- Contrast: 0
- ConvertToGrayscale: True
- Defringe: 0
- Exposure: +0.70
- FillLight: 0
- GrayMixerAqua: -26
- GrayMixerBlue: -3
- GrayMixerGreen: -19
- GrayMixerMagenta: +19
- GrayMixerOrange: +3
- GrayMixerPurple: +15
- GrayMixerRed: +16
- GrayMixerYellow: -5
- GreenHue: 0
- GreenSaturation: 0
- HasCrop: False
- HasSettings: True
- HighlightRecovery: 0
- LuminanceSmoothing: 0
- ParametricDarks: -2
- ParametricHighlightSplit: 75
- ParametricHighlights: 0
- ParametricLights: +2
- ParametricMidtoneSplit: 50
- ParametricShadowSplit: 25
- ParametricShadows: -20
- PostCropVignetteAmount: 0
- RedHue: 0
- RedSaturation: -34
- ShadowTint: 0
- Shadows: 8
- SharpenDetail: 50
- SharpenEdgeMasking: 0
- SharpenRadius: +1.0
- Sharpness: 25
- SplitToningBalance: 0
- SplitToningHighlightHue: 50
- SplitToningHighlightSaturation: 66
- SplitToningShadowHue: 30
- SplitToningShadowSaturation: 28
- Temperature: 6800
- Tint: +63
- ToneCurve: 0, 0, 255, 255
- ToneCurveName: Linear
- Version: 5.3
- VignetteAmount: -100
- VignetteMidpoint: 21
- WhiteBalance: Custom
- XMP-exif
- DateTimeDigitized: 2010:04:05 19:29:52+04:00
- DateTimeOriginal: 2010:04:05 19:29:52+04:00
- ExifImageHeight: 2048
- ExifImageWidth: 3072
- FlashFired: False
- XMP-tiff
- ImageHeight: 2048
- ImageWidth: 3072
- XMP-xmp
- CreateDate: 2010:04:05 19:29:52+04:00
- ModifyDate: 2009:10:09 21:31:59+04:00
- Просмотров: 1164
- Рейтинг: голосов еще нет
- Отзывов: 4
Получить код для блога
Вставка фотографии в текущем разрешении |
Вставка миниатюры |
HTML (для вставки в блог):
BBCode (для вставки в форум):
Ссылка на фото:
Ссылка на миниатюру:
- Послать ссылку другу
Комментарии к фотографии |