- Раздел: Друзья, встречи
- Дата съёмки: 17.10.2009 14:00
- Дата загрузки фото: 17.10.2009 14:02
- Оригинальная фотография: 3895 x 2626 (1,5 Мб)
- Технические характеристики:
- Фотоаппарат: Nikon D200
- Выдержка: 8,0
- Гиперфокальное расстояние: 1,57 m
- Диафрагма: 9,0
- Светочувствительность: 100
- Фокусное расстояние: 17,0 mm (35 mm equivalent: 25,0 mm)
- Полный EXIF
- Adobe
- ColorTransform: YCbCr
- Composite
- Aperture: 9,0
- CircleOfConfusion: 0,020 mm
- FOV: 71,0 deg
- FocalLength35efl: 17,0 mm (35 mm equivalent: 25,0 mm)
- HyperfocalDistance: 1,57 m
- LightValue: 3,3
- ScaleFactor35efl: 1,5
- ShutterSpeed: 8,0
- ExifIFD
- ApertureValue: 9,0
- CFAPattern: [Green,Red][Blue,Green]
- ColorSpace: sRGB
- Contrast: Normal
- CreateDate: 2009:10:15 18:17:47
- CustomRendered: Normal
- DateTimeOriginal: 2009:10:15 18:17:47
- DigitalZoomRatio: 1
- ExifImageHeight: 2626
- ExifImageWidth: 3895
- ExposureCompensation: 0
- ExposureMode: Manual
- ExposureProgram: Manual
- ExposureTime: 8,0
- FNumber: 9,0
- Flash: No Flash
- FocalLength: 17,0 mm
- FocalLengthIn35mmFormat: 25 mm
- GainControl: None
- ISO: 100
- LightSource: Unknown
- MaxApertureValue: 2,8
- MeteringMode: Multi-segment
- Saturation: Normal
- SceneCaptureType: Standard
- SceneType: Directly photographed
- SensingMethod: One-chip color area
- Sharpness: Hard
- ShutterSpeedValue: 8,0
- SubjectDistanceRange: Unknown
- WhiteBalance: Auto
- ICC-header
- ICC-meas
- ICC-view
- IFD0
- Make: NIKON CORPORATION
- Model: NIKON D200
- ModifyDate: 2009:10:17 14:00:04
- Orientation: Horizontal (normal)
- IFD1
- IPTC
- XMP-aux
- ImageNumber: 3993
- Lens: 17.0-35.0 mm f/2.8
- LensInfo: 170/10 350/10 28/10 28/10
- XMP-crs
- AlreadyApplied: True
- BlueHue: 0
- BlueSaturation: +56
- Brightness: +53
- CameraProfile: ACR 4.4
- ChromaticAberrationB: 0
- ChromaticAberrationR: 0
- Clarity: +72
- ColorNoiseReduction: 25
- Contrast: +36
- ConvertToGrayscale: False
- Defringe: 0
- Exposure: -0.25
- FillLight: 3
- GreenHue: 0
- GreenSaturation: +13
- HasCrop: False
- HasSettings: True
- HighlightRecovery: 94
- HueAdjustmentAqua: 0
- HueAdjustmentBlue: 0
- HueAdjustmentGreen: 0
- HueAdjustmentMagenta: 0
- HueAdjustmentOrange: 0
- HueAdjustmentPurple: 0
- HueAdjustmentRed: 0
- HueAdjustmentYellow: 0
- LuminanceAdjustmentAqua: 0
- LuminanceAdjustmentBlue: +100
- LuminanceAdjustmentGreen: 0
- LuminanceAdjustmentMagenta: +3
- LuminanceAdjustmentOrange: +18
- LuminanceAdjustmentPurple: +3
- LuminanceAdjustmentRed: -3
- LuminanceAdjustmentYellow: -2
- LuminanceSmoothing: 13
- ParametricDarks: -1
- ParametricHighlightSplit: 81
- ParametricHighlights: -87
- ParametricLights: -2
- ParametricMidtoneSplit: 54
- ParametricShadowSplit: 14
- ParametricShadows: +1
- PostCropVignetteAmount: 0
- RawFileName: DSC_3470.NEF
- RedHue: 0
- RedSaturation: +27
- Saturation: 0
- SaturationAdjustmentAqua: 0
- SaturationAdjustmentBlue: 0
- SaturationAdjustmentGreen: 0
- SaturationAdjustmentMagenta: 0
- SaturationAdjustmentOrange: -49
- SaturationAdjustmentPurple: 0
- SaturationAdjustmentRed: 0
- SaturationAdjustmentYellow: +86
- ShadowTint: -3
- Shadows: 9
- SharpenDetail: 19
- SharpenEdgeMasking: 6
- SharpenRadius: +1.0
- Sharpness: 36
- SplitToningBalance: 0
- SplitToningHighlightHue: 62
- SplitToningHighlightSaturation: 9
- SplitToningShadowHue: 234
- SplitToningShadowSaturation: 0
- Temperature: 3350
- Tint: -6
- ToneCurve: 0, 0, 32, 22, 64, 56, 128, 128, 192, 196, 255, 255
- ToneCurveName: Medium Contrast
- Version: 4.6
- Vibrance: +3
- VignetteAmount: 0
- WhiteBalance: As Shot
- XMP-dc
- XMP-exif
- DateTimeDigitized: 2009:10:15 18:17:47.41+04:00
- DateTimeOriginal: 2009:10:15 18:17:47.41+04:00
- FlashFired: False
- FlashFunction: False
- FlashMode: Unknown
- FlashRedEyeMode: False
- FlashReturn: No return detection
- XMP-tiff
- XMP-xmp
- CreateDate: 2009:10:17 14:00:04+04:00
- ModifyDate: 2009:10:17 14:00:04+04:00
- Rating: 0
- XMP-xmpMM
- DerivedFrom:
- Просмотров: 448
- Рейтинг: голосов еще нет
- Отзывов: 0