- Раздел: Город
- Дата съёмки: 14.10.2009 23:18
- Дата загрузки фото: 17.10.2009 20:06
- Оригинальная фотография: 2515 x 1420 (3,2 Мб)
- Технические характеристики:
- Фотоаппарат: Olympus E-510
- Выдержка: 1/1000
- Диафрагма: 8,0
- Светочувствительность: 400
- Фокусное расстояние: 14,0 mm
- Полный EXIF
- Adobe
- ColorTransform: YCbCr
- Composite
- Aperture: 8,0
- FocalLength35efl: 14,0 mm
- ShutterSpeed: 1/1000
- ExifIFD
- ApertureValue: 8,0
- CFAPattern: [Red,Green][Green,Blue]
- ColorSpace: sRGB
- Contrast: Low
- CreateDate: 2009:10:14 16:32:22
- CustomRendered: Normal
- DateTimeOriginal: 2009:10:14 16:32:22
- DigitalZoomRatio: 1
- ExifImageHeight: 1420
- ExifImageWidth: 2515
- ExposureCompensation: 0
- ExposureMode: Auto
- ExposureProgram: Aperture-priority AE
- ExposureTime: 1/1000
- FNumber: 8,0
- Flash: On, Did not fire
- FocalLength: 14,0 mm
- GainControl: High gain up
- ISO: 400
- LightSource: Unknown
- MaxApertureValue: 3,5
- MeteringMode: Multi-segment
- Saturation: High
- SceneCaptureType: Standard
- Sharpness: Soft
- ShutterSpeedValue: 1/1000
- WhiteBalance: Auto
- ICC-header
- ICC-meas
- ICC-view
- IFD0
- ImageDescription: OLYMPUS DIGITAL CAMERA
- Make: OLYMPUS IMAGING CORP.
- Model: E-510
- ModifyDate: 2009:10:17 18:56:36
- Orientation: Horizontal (normal)
- IFD1
- IPTC
- Caption-Abstract: OLYMPUS DIGITAL CAMERA
- XMP-aux
- FlashCompensation: 0
- Lens: 14.0-42.0 mm f/3.5-5.6
- LensInfo: 14/1 42/1 35/10 56/10
- LensSerialNumber: 212401769
- SerialNumber: D63582545
- XMP-crs
- AlreadyApplied: True
- BlueHue: 0
- BlueSaturation: 0
- Brightness: +50
- CameraProfile: ACR 4.4
- ChromaticAberrationB: 0
- ChromaticAberrationR: 0
- Clarity: +59
- ColorNoiseReduction: 25
- Contrast: +25
- ConvertToGrayscale: False
- Defringe: 0
- Exposure: +0.55
- FillLight: 0
- GreenHue: 0
- GreenSaturation: 0
- HasCrop: False
- HasSettings: True
- HighlightRecovery: 100
- HueAdjustmentAqua: -100
- HueAdjustmentBlue: +15
- HueAdjustmentGreen: +63
- HueAdjustmentMagenta: 0
- HueAdjustmentOrange: -24
- HueAdjustmentPurple: -9
- HueAdjustmentRed: -38
- HueAdjustmentYellow: +13
- LuminanceAdjustmentAqua: +39
- LuminanceAdjustmentBlue: -17
- LuminanceAdjustmentGreen: +18
- LuminanceAdjustmentMagenta: 0
- LuminanceAdjustmentOrange: -18
- LuminanceAdjustmentPurple: 0
- LuminanceAdjustmentRed: +71
- LuminanceAdjustmentYellow: +43
- LuminanceSmoothing: 44
- ParametricDarks: 0
- ParametricHighlightSplit: 75
- ParametricHighlights: 0
- ParametricLights: 0
- ParametricMidtoneSplit: 50
- ParametricShadowSplit: 25
- ParametricShadows: 0
- PostCropVignetteAmount: 0
- RawFileName: PA149785.ORF
- RedHue: 0
- RedSaturation: 0
- Saturation: 0
- SaturationAdjustmentAqua: +29
- SaturationAdjustmentBlue: +44
- SaturationAdjustmentGreen: +100
- SaturationAdjustmentMagenta: 0
- SaturationAdjustmentOrange: +18
- SaturationAdjustmentPurple: 0
- SaturationAdjustmentRed: +61
- SaturationAdjustmentYellow: +17
- ShadowTint: 0
- Shadows: 3
- SharpenDetail: 83
- SharpenEdgeMasking: 0
- SharpenRadius: +1.5
- Sharpness: 98
- SplitToningBalance: 0
- SplitToningHighlightHue: 0
- SplitToningHighlightSaturation: 0
- SplitToningShadowHue: 0
- SplitToningShadowSaturation: 0
- Temperature: 5050
- Tint: +9
- ToneCurve: 0, 0, 32, 22, 64, 56, 128, 128, 192, 196, 255, 255
- ToneCurveName: Medium Contrast
- Version: 4.5
- Vibrance: 0
- VignetteAmount: 0
- WhiteBalance: Custom
- XMP-dc
- Description: OLYMPUS DIGITAL CAMERA
- Format: image/jpeg
- XMP-exif
- DateTimeDigitized: 2009:10:14 16:32:22+03:00
- DateTimeOriginal: 2009:10:14 16:32:22+03:00
- FlashFired: False
- FlashFunction: False
- FlashMode: On
- FlashRedEyeMode: False
- FlashReturn: No return detection
- XMP-tiff
- XMP-xmp
- CreateDate: 2009:10:14 23:18:17+03:00
- ModifyDate: 2009:10:17 18:56:36+03:00
- Rating: 0
- XMP-xmpMM
- DerivedFrom: