- Раздел: Тесты фототехники
- Дата съёмки: 15.08.2007 16:56
- Дата загрузки фото: 18.10.2009 01:35
- Оригинальная фотография: 813 x 519 (276 Кб)
- Технические характеристики:
- Фотоаппарат: Hasselblad H2D-39
- Выдержка: 16,0
- Диафрагма: 11,0
- Светочувствительность: 50
- Фокусное расстояние: 50,0 mm
- Полный EXIF
- Adobe
- ColorTransform: YCbCr
- Composite
- Aperture: 11,0
- FocalLength35efl: 50,0 mm
- LightValue: 3,9
- ShutterSpeed: 16,0
- ExifIFD
- ApertureValue: 11,0
- ColorSpace: sRGB
- CreateDate: 2007:08:01 20:32:52
- DateTimeOriginal: 2007:08:01 20:32:52
- ExifImageHeight: 519
- ExifImageWidth: 813
- ExposureProgram: Manual
- ExposureTime: 16,0
- FNumber: 11,0
- Flash: No Flash
- FocalLength: 50,0 mm
- ISO: 50
- LightSource: Daylight
- MeteringMode: Average
- SensingMethod: One-chip color area
- ShutterSpeedValue: 16,0
- ICC-header
- ICC-meas
- ICC-view
- IFD0
- Artist: Mr. Smith
- ImageDescription: A 1592
- Make: Hasselblad
- Model: Hasselblad H2D-39
- ModifyDate: 2007:08:15 16:56:23
- Orientation: Horizontal (normal)
- TimeZoneOffset: -7 -7
- IFD1
- IPTC
- By-line: Mr. Smith
- Caption-Abstract: A 1592
- DateCreated: 2007:08:02
- XMP-crs
- AlreadyApplied: True
- BlueHue: +7
- BlueSaturation: +3
- Brightness: +78
- CameraProfile: Embedded
- ChromaticAberrationB: 0
- ChromaticAberrationR: 0
- Clarity: 0
- ColorNoiseReduction: 25
- Contrast: +25
- ConvertToGrayscale: False
- Defringe: 0
- Exposure: -0.80
- FillLight: 56
- GreenHue: -12
- GreenSaturation: +6
- HasCrop: False
- HasSettings: True
- HighlightRecovery: 43
- HueAdjustmentAqua: +5
- HueAdjustmentBlue: +5
- HueAdjustmentGreen: -11
- HueAdjustmentMagenta: 0
- HueAdjustmentOrange: -15
- HueAdjustmentPurple: -5
- HueAdjustmentRed: -2
- HueAdjustmentYellow: +10
- LuminanceAdjustmentAqua: +3
- LuminanceAdjustmentBlue: -9
- LuminanceAdjustmentGreen: +3
- LuminanceAdjustmentMagenta: 0
- LuminanceAdjustmentOrange: -8
- LuminanceAdjustmentPurple: 0
- LuminanceAdjustmentRed: 0
- LuminanceAdjustmentYellow: -25
- LuminanceSmoothing: 0
- ParametricDarks: +3
- ParametricHighlightSplit: 75
- ParametricHighlights: -1
- ParametricLights: +2
- ParametricMidtoneSplit: 50
- ParametricShadowSplit: 25
- ParametricShadows: -17
- RawFileName: A 1592.dng
- RedHue: -10
- RedSaturation: +4
- Saturation: +1
- SaturationAdjustmentAqua: +3
- SaturationAdjustmentBlue: -43
- SaturationAdjustmentGreen: -4
- SaturationAdjustmentMagenta: 0
- SaturationAdjustmentOrange: +9
- SaturationAdjustmentPurple: +11
- SaturationAdjustmentRed: 0
- SaturationAdjustmentYellow: +3
- ShadowTint: +3
- Shadows: 18
- SharpenDetail: 25
- SharpenEdgeMasking: 0
- SharpenRadius: +1.0
- Sharpness: 25
- SplitToningBalance: +34
- SplitToningHighlightHue: 29
- SplitToningHighlightSaturation: 11
- SplitToningShadowHue: 234
- SplitToningShadowSaturation: 16
- Temperature: 5000
- Tint: +18
- ToneCurve: 0, 0, 32, 22, 64, 56, 128, 128, 192, 196, 255, 255
- ToneCurveName: Medium Contrast
- Version: 4.1
- Vibrance: +10
- VignetteAmount: 0
- WhiteBalance: Custom
- XMP-dc
- Creator: Mr. Smith
- Description: A 1592
- Format: image/jpeg
- XMP-exif
- DateTimeDigitized: 2007:08:01 20:32:52-07:00
- DateTimeOriginal: 2007:08:01 20:32:52-07:00
- FlashFired: False
- FlashFunction: False
- FlashMode: Unknown
- FlashRedEyeMode: False
- FlashReturn: No return detection
- XMP-tiff
- XMP-xmp
- CreateDate: 2007:08:15 16:56:23-07:00
- ModifyDate: 2007:08:15 16:56:23-07:00
- Rating: 0
- XMP-xmpMM
- Просмотров: 684
- Рейтинг: голосов еще нет
- Отзывов: 0