- Раздел: Другое, разное
- Дата съёмки: 28.10.2009 15:45
- Дата загрузки фото: 28.10.2009 18:42
- Оригинальная фотография: 1740 x 2600 (1,4 Мб)
- Технические характеристики:
- Фотоаппарат: Nikon D80
- Выдержка: 1/30
- Гиперфокальное расстояние: 23,65 m
- Диафрагма: 7,1
- Светочувствительность: 100
- Фокусное расстояние: 58,0 mm (35 mm equivalent: 87,0 mm)
- Полный EXIF
- Composite
- Aperture: 7,1
- CircleOfConfusion: 0,020 mm
- FOV: 23,0 deg
- FocalLength35efl: 58,0 mm (35 mm equivalent: 87,0 mm)
- HyperfocalDistance: 23,65 m
- ScaleFactor35efl: 1,5
- ShutterSpeed: 1/30
- ExifIFD
- ApertureValue: 7,1
- CFAPattern: [Green,Blue][Red,Green]
- Contrast: Normal
- CreateDate: 2009:10:28 15:45:49
- CustomRendered: Normal
- DateTimeOriginal: 2009:10:28 15:45:49
- DigitalZoomRatio: 1
- ExifImageHeight: 2600
- ExifImageWidth: 1740
- ExposureCompensation: 0
- ExposureMode: Auto
- ExposureProgram: Aperture-priority AE
- ExposureTime: 1/30
- FNumber: 7,1
- Flash: No Flash
- FocalLength: 58,0 mm
- FocalLengthIn35mmFormat: 87 mm
- GainControl: None
- ISO: 100
- LightSource: Unknown
- MaxApertureValue: 5,1
- MeteringMode: Multi-segment
- Saturation: Normal
- SceneCaptureType: Standard
- SceneType: Directly photographed
- SensingMethod: One-chip color area
- Sharpness: Hard
- ShutterSpeedValue: 1/30
- SubjectDistanceRange: Unknown
- WhiteBalance: Auto
- ICC-header
- ICC-meas
- ICC-view
- IFD0
- Make: NIKON CORPORATION
- Model: NIKON D80
- ModifyDate: 2009:10:28 17:40:52
- Orientation: Horizontal (normal)
- Software: ACD Systems Digital Imaging
- IFD1
- XMP-aux
- ImageNumber: 1634
- Lens: 18.0-135.0 mm f/3.5-5.6
- LensInfo: 180/10 1350/10 35/10 56/10
- SerialNumber: 4450698
- XMP-crs
- AlreadyApplied: True
- BlueHue: 0
- BlueSaturation: 0
- Brightness: +50
- ChromaticAberrationB: 0
- ChromaticAberrationR: 0
- Clarity: +7
- ColorNoiseReduction: 25
- Contrast: +25
- ConvertToGrayscale: False
- Defringe: 0
- Exposure: 0.00
- FillLight: 4
- GreenHue: 0
- GreenSaturation: 0
- HasCrop: False
- HasSettings: True
- HighlightRecovery: 0
- HueAdjustmentAqua: 0
- HueAdjustmentBlue: 0
- HueAdjustmentGreen: 0
- HueAdjustmentMagenta: 0
- HueAdjustmentOrange: 0
- HueAdjustmentPurple: 0
- HueAdjustmentRed: 0
- HueAdjustmentYellow: 0
- LuminanceAdjustmentAqua: 0
- LuminanceAdjustmentBlue: 0
- LuminanceAdjustmentGreen: 0
- LuminanceAdjustmentMagenta: 0
- LuminanceAdjustmentOrange: 0
- LuminanceAdjustmentPurple: 0
- LuminanceAdjustmentRed: 0
- LuminanceAdjustmentYellow: 0
- LuminanceSmoothing: 0
- ParametricDarks: -7
- ParametricHighlightSplit: 75
- ParametricHighlights: +11
- ParametricLights: 0
- ParametricMidtoneSplit: 50
- ParametricShadowSplit: 25
- ParametricShadows: +33
- PostCropVignetteAmount: 0
- RedHue: 0
- RedSaturation: 0
- Saturation: +20
- SaturationAdjustmentAqua: 0
- SaturationAdjustmentBlue: 0
- SaturationAdjustmentGreen: 0
- SaturationAdjustmentMagenta: 0
- SaturationAdjustmentOrange: 0
- SaturationAdjustmentPurple: 0
- SaturationAdjustmentRed: 0
- SaturationAdjustmentYellow: 0
- ShadowTint: 0
- Shadows: 5
- SharpenDetail: 25
- SharpenEdgeMasking: 0
- SharpenRadius: +1.0
- Sharpness: 25
- SplitToningBalance: 0
- SplitToningHighlightHue: 0
- SplitToningHighlightSaturation: 0
- SplitToningShadowHue: 0
- SplitToningShadowSaturation: 0
- Temperature: 4667
- Tint: +3
- ToneCurve: 0, 0, 32, 22, 64, 56, 128, 128, 192, 196, 255, 255
- ToneCurveName: Medium Contrast
- Version: 5.3
- Vibrance: +11
- VignetteAmount: 0
- WhiteBalance: Custom
- XMP-exif
- DateTimeDigitized: 2009:10:28 15:45:49.60+02:00
- DateTimeOriginal: 2009:10:28 15:45:49.60+02:00
- ExifImageHeight: 3872
- ExifImageWidth: 2592
- FlashFired: False
- FlashFunction: False
- FlashMode: Unknown
- FlashRedEyeMode: False
- FlashReturn: No return detection
- XMP-tiff
- ImageHeight: 3872
- ImageWidth: 2592
- XMP-xmp
- CreateDate: 2009:10:28 15:45:49.60+02:00
- ModifyDate: 2009:10:28 17:38:26+02:00