- Раздел: Другое, разное
- Дата съёмки: 05.11.2007 08:07
- Дата загрузки фото: 31.10.2009 22:12
- Оригинальная фотография: 6430 x 2126 (9,5 Мб)
- Технические характеристики:
- Фотоаппарат: Canon PowerShot G6
- Выдержка: 1/250
- Диафрагма: 4,0
- Фокусное расстояние: 7,2 mm
- Экспокоррекция: -2/3
- Полный EXIF
- Adobe
- ColorTransform: YCbCr
- Composite
- Aperture: 4,0
- FocalLength35efl: 7,2 mm
- ShutterSpeed: 1/250
- ExifIFD
- ApertureValue: 4,0
- CreateDate: 2007:11:05 08:07:36
- CustomRendered: Normal
- DateTimeOriginal: 2007:11:05 08:07:36
- DigitalZoomRatio: 1
- ExposureCompensation: -2/3
- ExposureMode: Manual
- ExposureTime: 1/250
- FNumber: 4,0
- Flash: Off
- FocalLength: 7,2 mm
- MaxApertureValue: 2,0
- MeteringMode: Multi-segment
- SceneCaptureType: Standard
- SensingMethod: One-chip color area
- ShutterSpeedValue: 1/250
- UserComment: ASCII 5 изображений, Размер: 7450 x 2535, FOV: 126.56 x 43.06, RMS: 2.06, Объектив: Обычный, Проекция: Сфера, Корр. цвета: LDR
- WhiteBalance: Auto
- ICC-header
- ICC-meas
- ICC-view
- IFD0
- ImageDescription: Processed by: Helicon Filter; Stitched Panorama
- Make: Canon
- Model: Canon PowerShot G6
- ModifyDate: 2009:10:31 21:09:10
- Software: Autopano Pro
- IFD1
- IPTC
- Caption-Abstract: Processed by: Helicon Filter; Stitched Panorama
- XMP-crs
- AlreadyApplied: True
- BlueHue: 0
- BlueSaturation: 0
- Brightness: -37
- CameraProfile: Embedded
- ChromaticAberrationB: 0
- ChromaticAberrationR: 0
- Clarity: +82
- ColorNoiseReduction: 0
- Contrast: +37
- ConvertToGrayscale: False
- Defringe: 0
- Exposure: +0.09
- FillLight: 56
- GreenHue: 0
- GreenSaturation: 0
- HasCrop: False
- HasSettings: True
- HighlightRecovery: 91
- HueAdjustmentAqua: 0
- HueAdjustmentBlue: 0
- HueAdjustmentGreen: 0
- HueAdjustmentMagenta: 0
- HueAdjustmentOrange: +3
- HueAdjustmentPurple: 0
- HueAdjustmentRed: -3
- HueAdjustmentYellow: -44
- IncrementalTemperature: 0
- IncrementalTint: +2
- LuminanceAdjustmentAqua: 0
- LuminanceAdjustmentBlue: 0
- LuminanceAdjustmentGreen: 0
- LuminanceAdjustmentMagenta: 0
- LuminanceAdjustmentOrange: -6
- LuminanceAdjustmentPurple: 0
- LuminanceAdjustmentRed: +79
- LuminanceAdjustmentYellow: 0
- LuminanceSmoothing: 0
- ParametricDarks: 0
- ParametricHighlightSplit: 75
- ParametricHighlights: 0
- ParametricLights: 0
- ParametricMidtoneSplit: 50
- ParametricShadowSplit: 25
- ParametricShadows: 0
- PostCropVignetteAmount: 0
- RedHue: 0
- RedSaturation: 0
- Saturation: 0
- SaturationAdjustmentAqua: 0
- SaturationAdjustmentBlue: 0
- SaturationAdjustmentGreen: 0
- SaturationAdjustmentMagenta: 0
- SaturationAdjustmentOrange: 0
- SaturationAdjustmentPurple: 0
- SaturationAdjustmentRed: +38
- SaturationAdjustmentYellow: 0
- ShadowTint: 0
- Shadows: 0
- SharpenDetail: 25
- SharpenEdgeMasking: 0
- SharpenRadius: +1.0
- Sharpness: 0
- SplitToningBalance: 0
- SplitToningHighlightHue: 0
- SplitToningHighlightSaturation: 0
- SplitToningShadowHue: 0
- SplitToningShadowSaturation: 0
- ToneCurve: 0, 0, 255, 255
- ToneCurveName: Linear
- Version: 5.3
- Vibrance: +47
- VignetteAmount: 0
- WhiteBalance: Custom
- XMP-dc
- Description: Processed by: Helicon Filter; Stitched Panorama
- XMP-exif
- DateTimeDigitized: 2007:11:05 08:07:36+02:00
- DateTimeOriginal: 2007:11:05 08:07:36+02:00
- ExifImageHeight: 2126
- ExifImageWidth: 6430
- FlashFired: False
- FlashFunction: False
- FlashMode: Off
- FlashRedEyeMode: False
- FlashReturn: No return detection
- XMP-tiff
- ImageHeight: 2126
- ImageWidth: 6430
- XMP-xmp
- CreateDate: 2007:11:05 08:07:36+02:00
- ModifyDate: 2009:10:31 21:09:10+02:00