- Раздел: Портрет
- Дата съёмки: 20.10.2010 13:58
- Дата загрузки фото: 11.11.2009 10:36
- Оригинальная фотография: 2048 x 3072 (3,7 Мб)
- Технические характеристики:
- Фотоаппарат: Canon EOS 10D
- Выдержка: 1/80
- Диафрагма: 2,2
- Светочувствительность: 400
- Фокусное расстояние: 35,0 mm
- Экспокоррекция: +1/3
- Полный EXIF
- Adobe
- ColorTransform: YCbCr
- Composite
- Aperture: 2,2
- FocalLength35efl: 35,0 mm
- ShutterSpeed: 1/80
- ExifIFD
- ApertureValue: 2,2
- CreateDate: 2010:10:20 13:58:00
- DateTimeOriginal: 2010:10:20 13:58:00
- ExposureCompensation: +1/3
- ExposureProgram: Program AE
- ExposureTime: 1/80
- FNumber: 2,2
- Flash: No Flash
- FocalLength: 35,0 mm
- ISO: 400
- MaxApertureValue: 1,4
- MeteringMode: Multi-segment
- ShutterSpeedValue: 1/80
- ICC-header
- ICC-meas
- ICC-view
- IFD0
- Make: Canon
- Model: Canon EOS 10D
- ModifyDate: 2009:11:11 10:35:38
- IFD1
- XMP-aux
- Firmware: 2.0.1
- Lens: 35.0 mm
- LensInfo: 35/1 35/1 0/0 0/0
- SerialNumber: 1720511286
- XMP-crs
- AlreadyApplied: True
- BlueHue: 0
- BlueSaturation: 0
- Brightness: +40
- ChromaticAberrationB: 0
- ChromaticAberrationR: 0
- Clarity: 0
- ColorNoiseReduction: 25
- Contrast: +33
- ConvertToGrayscale: False
- Defringe: 0
- Exposure: 0.00
- FillLight: 0
- GreenHue: 0
- GreenSaturation: 0
- HasCrop: False
- HasSettings: True
- HighlightRecovery: 25
- HueAdjustmentAqua: 0
- HueAdjustmentBlue: 0
- HueAdjustmentGreen: 0
- HueAdjustmentMagenta: 0
- HueAdjustmentOrange: 0
- HueAdjustmentPurple: 0
- HueAdjustmentRed: 0
- HueAdjustmentYellow: 0
- LuminanceAdjustmentAqua: 0
- LuminanceAdjustmentBlue: 0
- LuminanceAdjustmentGreen: 0
- LuminanceAdjustmentMagenta: 0
- LuminanceAdjustmentOrange: 0
- LuminanceAdjustmentPurple: 0
- LuminanceAdjustmentRed: 0
- LuminanceAdjustmentYellow: 0
- LuminanceSmoothing: 0
- ParametricDarks: 0
- ParametricHighlightSplit: 75
- ParametricHighlights: 0
- ParametricLights: 0
- ParametricMidtoneSplit: 50
- ParametricShadowSplit: 25
- ParametricShadows: 0
- PostCropVignetteAmount: 0
- RedHue: 0
- RedSaturation: 0
- Saturation: 0
- SaturationAdjustmentAqua: 0
- SaturationAdjustmentBlue: 0
- SaturationAdjustmentGreen: 0
- SaturationAdjustmentMagenta: 0
- SaturationAdjustmentOrange: 0
- SaturationAdjustmentPurple: 0
- SaturationAdjustmentRed: 0
- SaturationAdjustmentYellow: 0
- ShadowTint: 0
- Shadows: 2
- SharpenDetail: 25
- SharpenEdgeMasking: 0
- SharpenRadius: +1.0
- Sharpness: 25
- SplitToningBalance: 0
- SplitToningHighlightHue: 0
- SplitToningHighlightSaturation: 0
- SplitToningShadowHue: 0
- SplitToningShadowSaturation: 0
- Temperature: 5857
- Tint: +30
- ToneCurve: 0, 0, 32, 22, 64, 56, 128, 128, 192, 196, 255, 255
- ToneCurveName: Medium Contrast
- Version: 5.3
- Vibrance: 0
- VignetteAmount: 0
- WhiteBalance: Custom
- XMP-exif
- DateTimeDigitized: 2010:10:20 13:58:00+04:00
- DateTimeOriginal: 2010:10:20 13:58:00+04:00
- ExifImageHeight: 3072
- ExifImageWidth: 2048
- FlashFired: False
- XMP-tiff
- ImageHeight: 3072
- ImageWidth: 2048
- XMP-xmp
- CreateDate: 2010:10:20 13:58:00+04:00
- ModifyDate: 2009:11:11 10:35:38+03:00
- Просмотров: 619
- Рейтинг: голосов еще нет
- Отзывов: 2