- Раздел: Природа
- Дата съёмки: 03.12.2010 15:34
- Дата загрузки фото: 08.12.2009 11:02
- Оригинальная фотография: 3072 x 1659 (2,3 Мб)
- Технические характеристики:
- Фотоаппарат: Canon EOS 10D
- Выдержка: 1/60
- Диафрагма: 2,0
- Светочувствительность: 200
- Фокусное расстояние: 35,0 mm
- Экспокоррекция: +2/3
- Полный EXIF
- Adobe
- ColorTransform: YCbCr
- Composite
- Aperture: 2,0
- FocalLength35efl: 35,0 mm
- ShutterSpeed: 1/60
- ExifIFD
- ApertureValue: 2,0
- CreateDate: 2010:12:03 15:34:44
- DateTimeOriginal: 2010:12:03 15:34:44
- ExposureCompensation: +2/3
- ExposureProgram: Program AE
- ExposureTime: 1/60
- FNumber: 2,0
- Flash: No Flash
- FocalLength: 35,0 mm
- ISO: 200
- MaxApertureValue: 1,4
- MeteringMode: Center-weighted average
- ShutterSpeedValue: 1/60
- ICC-header
- ICC-meas
- ICC-view
- IFD0
- Make: Canon
- Model: Canon EOS 10D
- ModifyDate: 2009:12:08 11:02:09
- IFD1
- XMP-aux
- Firmware: 2.0.1
- Lens: 35.0 mm
- LensInfo: 35/1 35/1 0/0 0/0
- SerialNumber: 1720511286
- XMP-crs
- AlreadyApplied: True
- BlueHue: 0
- BlueSaturation: 0
- Brightness: +93
- ChromaticAberrationB: 0
- ChromaticAberrationR: 0
- Clarity: +100
- ColorNoiseReduction: 25
- Contrast: -21
- ConvertToGrayscale: False
- CropAngle: 0
- CropBottom: 0.848591
- CropHeight: 1659
- CropLeft: 0
- CropRight: 1
- CropTop: 0.038732
- CropUnit: 0
- CropWidth: 3072
- Defringe: 0
- Exposure: +1.14
- FillLight: 0
- GreenHue: 0
- GreenSaturation: 0
- HasCrop: True
- HasSettings: True
- HighlightRecovery: 100
- HueAdjustmentAqua: 0
- HueAdjustmentBlue: 0
- HueAdjustmentGreen: 0
- HueAdjustmentMagenta: 0
- HueAdjustmentOrange: 0
- HueAdjustmentPurple: 0
- HueAdjustmentRed: 0
- HueAdjustmentYellow: 0
- LuminanceAdjustmentAqua: 0
- LuminanceAdjustmentBlue: 0
- LuminanceAdjustmentGreen: 0
- LuminanceAdjustmentMagenta: 0
- LuminanceAdjustmentOrange: 0
- LuminanceAdjustmentPurple: 0
- LuminanceAdjustmentRed: 0
- LuminanceAdjustmentYellow: 0
- LuminanceSmoothing: 0
- ParametricDarks: 0
- ParametricHighlightSplit: 75
- ParametricHighlights: 0
- ParametricLights: 0
- ParametricMidtoneSplit: 50
- ParametricShadowSplit: 25
- ParametricShadows: 0
- PostCropVignetteAmount: 0
- RedHue: 0
- RedSaturation: 0
- Saturation: -29
- SaturationAdjustmentAqua: 0
- SaturationAdjustmentBlue: 0
- SaturationAdjustmentGreen: 0
- SaturationAdjustmentMagenta: 0
- SaturationAdjustmentOrange: 0
- SaturationAdjustmentPurple: 0
- SaturationAdjustmentRed: 0
- SaturationAdjustmentYellow: 0
- ShadowTint: 0
- Shadows: 6
- SharpenDetail: 25
- SharpenEdgeMasking: 0
- SharpenRadius: +1.0
- Sharpness: 25
- SplitToningBalance: 0
- SplitToningHighlightHue: 0
- SplitToningHighlightSaturation: 0
- SplitToningShadowHue: 0
- SplitToningShadowSaturation: 0
- Temperature: 15726
- Tint: +9
- ToneCurve: 0, 0, 32, 22, 64, 56, 128, 128, 192, 196, 255, 255
- ToneCurveName: Medium Contrast
- Version: 5.3
- Vibrance: +52
- VignetteAmount: -90
- VignetteMidpoint: 0
- WhiteBalance: Custom
- XMP-exif
- DateTimeDigitized: 2010:12:03 15:34:44+03:00
- DateTimeOriginal: 2010:12:03 15:34:44+03:00
- ExifImageHeight: 1659
- ExifImageWidth: 3072
- FlashFired: False
- XMP-tiff
- ImageHeight: 1659
- ImageWidth: 3072
- XMP-xmp
- CreateDate: 2010:12:03 15:34:44+03:00
- ModifyDate: 2009:12:08 11:02:09+03:00